Workbook

Sheet January
B1: ქ.თბილისის მუნიციპალიტეტის მერია ჯანდაცვისა და სოციალური მომსახურების საქალაქო სამსახური
A2: კომისიის მიერ განხილული საქმეებზე მოთხოვნილი თანხა განმცხადებლების სქესისა და ასაკის მიხედვით
B3: მამრობითი | H3: მდედრობითი | N3: სულ
A4: რაიონი | B4: 0_5 | C4: 6_17 | D4: 18_39 | E4: 40_59 | F4: 59-ზე მეტი | G4: სულ | H4: 0_5 | I4: 6_17 | J4: 18_39 | K4: 40_59 | L4: 59-ზე მეტი | M4: სულ | N4: 0_5 | O4: 6_17 | P4: 18_39 | Q4: 40_59 | R4: 59-ზე მეტი | S4: სულ
A5: გლდანის რაიონი | B5: 5189 | C5: 16171.652 | D5: 16967.854 | E5: 37029.61 | F5: 66020.678 | G5: 141378.79 | H5: 2032.1 | I5: 6547.27 | J5: 23488.5 | K5: 49568.79 | L5: 51665.23 | M5: 133301.89 | N5: 7221.1 | O5: 22718.922 | P5: 40456.354 | Q5: 86598.4 | R5: 117685.91 | S5: 274680.68
A6: ნაძალადევის რაიონი | B6: 9031 | C6: 6837.7884 | D6: 28426.06 | E6: 45998.032 | F6: 40271.4 | G6: 130564.28 | H6: 4357 | I6: 2381 | J6: 187298.01 | K6: 59944.69 | L6: 47973.983 | M6: 301954.68 | N6: 13388 | O6: 9218.7884 | P6: 215724.07 | Q6: 105942.72 | R6: 88245.383 | S6: 432518.96
A7: დიდუბის რაიონი | B7: 1580 | C7: 13268 | D7: 6105 | E7: 41713.04 | F7: 12227.75 | G7: 74893.79 | H7: 1076.9 | I7: 41580 | J7: 84369 | K7: 10511.58 | L7: 31861.39 | M7: 169398.87 | N7: 2656.9 | O7: 54848 | P7: 90474 | Q7: 52224.62 | R7: 44089.14 | S7: 244292.66
A8: ჩუღურეთის რაიონი | B8: 6480 | C8: 4450.63 | D8: 26741 | E8: 20975 | F8: 20047 | G8: 78693.63 | H8: 1078 | I8: 20330 | J8: 17457.97 | K8: 61662.14 | L8: 33610.73 | M8: 134138.84 | N8: 7558 | O8: 24780.63 | P8: 44198.97 | Q8: 82637.14 | R8: 53657.73 | S8: 212832.47
A9: ისნის რაიონი | B9: 7215 | C9: 155179 | D9: 22522 | E9: 18727.36 | F9: 34461.94 | G9: 238105.3 | H9: 0 | I9: 9864 | J9: 30282.2 | K9: 24252.57 | L9: 45918.738 | M9: 110317.51 | N9: 7215 | O9: 165043 | P9: 52804.2 | Q9: 42979.93 | R9: 80380.678 | S9: 348422.81
A10: სამგორის რაიონი | B10: 6837.2224 | C10: 10440.1 | D10: 34788.05 | E10: 60921.78 | F10: 32869.18 | G10: 145856.33 | H10: 1017 | I10: 12678 | J10: 43941.07 | K10: 54654.961 | L10: 41673.07 | M10: 153964.1 | N10: 7854.2224 | O10: 23118.1 | P10: 78729.12 | Q10: 115576.74 | R10: 74542.25 | S10: 299820.43
A11: ვაკის რაიონი | B11: 9744.3936 | C11: 2533 | D11: 21177.77 | E11: 4445.32 | F11: 94533.301 | G11: 132433.78 | H11: 3700 | I11: 4267 | J11: 16610 | K11: 47463.459 | L11: 32831.109 | M11: 104871.57 | N11: 13444.394 | O11: 6800 | P11: 37787.77 | Q11: 51908.779 | R11: 127364.41 | S11: 237305.35
A12: საბურთალოს რაიონი | B12: 12092.73 | C12: 126643.81 | D12: 35150.682 | E12: 72620.45 | F12: 54790.759 | G12: 301298.43 | H12: 65169 | I12: 6827 | J12: 43251.2 | K12: 86247.634 | L12: 57817.306 | M12: 259312.14 | N12: 77261.73 | O12: 133470.81 | P12: 78401.882 | Q12: 158868.08 | R12: 112608.07 | S12: 560610.57
A13: მთაწმინდის რაიონი | B13: 3600 | C13: 2520 | D13: 0 | E13: 83895 | F13: 22314.68 | G13: 112329.68 | H13: 3532.992 | I13: 2158 | J13: 2287 | K13: 6166 | L13: 33156.021 | M13: 47300.013 | N13: 7132.992 | O13: 4678 | P13: 2287 | Q13: 90061 | R13: 55470.701 | S13: 159629.69
A14: კრწანისის რაიონი | B14: 1200 | C14: 0 | D14: 2871.5 | E14: 40478.16 | F14: 16569.308 | G14: 61118.968 | H14: 0 | I14: 1200 | J14: 2704.299 | K14: 10680.24 | L14: 4851.7 | M14: 19436.239 | N14: 1200 | O14: 1200 | P14: 5575.799 | Q14: 51158.4 | R14: 21421.008 | S14: 80555.207
A15: სულ | B15: 62969.346 | C15: 338043.98 | D15: 194749.92 | E15: 426803.75 | F15: 394106 | G15: 1416673 | H15: 81962.992 | I15: 107832.27 | J15: 451689.25 | K15: 411152.06 | L15: 381359.28 | M15: 1433995.8 | N15: 144932.34 | O15: 445876.25 | P15: 646439.16 | Q15: 837955.82 | R15: 775465.27 | S15: 2850668.8
A17: კომისიის მიერ განხილული საქმეებზე გამოყოფილი თანხა განმცხადებლების სქესისა და ასაკის მიხედვით
B18: მამრობითი | H18: მდედრობითი | N18: სულ
A19: რაიონი | B19: 0_5 | C19: 6_17 | D19: 18_39 | E19: 40_59 | F19: 59-ზე მეტი | G19: სულ | H19: 0_5 | I19: 6_17 | J19: 18_39 | K19: 40_59 | L19: 59-ზე მეტი | M19: სულ | N19: 0_5 | O19: 6_17 | P19: 18_39 | Q19: 40_59 | R19: 59-ზე მეტი | S19: სულ
A20: გლდანის რაიონი | B20: 1405 | C20: 500 | D20: 4804 | E20: 14067 | F20: 29995 | G20: 50771 | H20: 150 | I20: 600 | J20: 8556 | K20: 9358 | L20: 12248 | M20: 30912 | N20: 1555 | O20: 1100 | P20: 13360 | Q20: 23425 | R20: 42243 | S20: 81683
A21: ნაძალადევის რაიონი | B21: 300 | C21: 1058 | D21: 8697 | E21: 14118 | F21: 13407 | G21: 37580 | H21: 665 | I21: 200 | J21: 32123 | K21: 17507 | L21: 14642 | M21: 65137 | N21: 965 | O21: 1258 | P21: 40820 | Q21: 31625 | R21: 28049 | S21: 102717
A22: დიდუბის რაიონი | B22: 474 | C22: 1114 | D22: 1946 | E22: 14466 | F22: 3639 | G22: 21639 | H22: 150 | I22: 14000 | J22: 14155 | K22: 4535 | L22: 5405 | M22: 38245 | N22: 624 | O22: 15114 | P22: 16101 | Q22: 19001 | R22: 9044 | S22: 59884
A23: ჩუღურეთის რაიონი | B23: 0 | C23: 1167 | D23: 10000 | E23: 4801 | F23: 7338 | G23: 23306 | H23: 200 | I23: 10200 | J23: 7662 | K23: 18918 | L23: 7929 | M23: 44909 | N23: 200 | O23: 11367 | P23: 17662 | Q23: 23719 | R23: 15267 | S23: 68215
A24: ისნის რაიონი | B24: 0 | C24: 15960 | D24: 4412 | E24: 6624 | F24: 15757 | G24: 42753 | H24: 0 | I24: 7246 | J24: 7195 | K24: 4859 | L24: 7851 | M24: 27151 | N24: 0 | O24: 23206 | P24: 11607 | Q24: 11483 | R24: 23608 | S24: 69904
A25: სამგორის რაიონი | B25: 400 | C25: 959 | D25: 11598 | E25: 21326 | F25: 10968 | G25: 45251 | H25: 150 | I25: 3050 | J25: 17875 | K25: 10641 | L25: 11487 | M25: 43203 | N25: 550 | O25: 4009 | P25: 29473 | Q25: 31967 | R25: 22455 | S25: 88454
A26: ვაკის რაიონი | B26: 2703 | C26: 200 | D26: 4618 | E26: 1774 | F26: 47918 | G26: 57213 | H26: 600 | I26: 250 | J26: 5553 | K26: 16607 | L26: 10403 | M26: 33413 | N26: 3303 | O26: 450 | P26: 10171 | Q26: 18381 | R26: 58321 | S26: 90626
A27: საბურთალოს რაიონი | B27: 826 | C27: 65382 | D27: 8082 | E27: 15808 | F27: 24386 | G27: 114484 | H27: 15250 | I27: 1590 | J27: 13177 | K27: 25078 | L27: 20574 | M27: 75669 | N27: 16076 | O27: 66972 | P27: 21259 | Q27: 40886 | R27: 44960 | S27: 190153
A28: მთაწმინდის რაიონი | B28: 250 | C28: 0 | D28: 0 | E28: 29359 | F28: 8864 | G28: 38473 | H28: 200 | I28: 400 | J28: 0 | K28: 4860 | L28: 8192 | M28: 13652 | N28: 450 | O28: 400 | P28: 0 | Q28: 34219 | R28: 17056 | S28: 52125
A29: კრწანისის რაიონი | B29: 0 | C29: 0 | D29: 687 | E29: 13209 | F29: 2847 | G29: 16743 | H29: 0 | I29: 480 | J29: 463 | K29: 3176 | L29: 821 | M29: 4940 | N29: 0 | O29: 480 | P29: 1150 | Q29: 16385 | R29: 3668 | S29: 21683
A30: სულ | B30: 6358 | C30: 86340 | D30: 54844 | E30: 135552 | F30: 165119 | G30: 448213 | H30: 17365 | I30: 38016 | J30: 106759 | K30: 115539 | L30: 99552 | M30: 377231 | N30: 23723 | O30: 124356 | P30: 161603 | Q30: 251091 | R30: 264671 | S30: 825444
A32: კომისიის მიერ სრულად ან ნაწილობრივ დაკმაყოფილებულ მოთხოვნებზე გამოყოფილი თანხის წილი სქესისა და ასაკის მიხედვით (%)
B33: მამრობითი | H33: მდედრობითი | N33: სულ
A34: რაიონი | B34: 0_5 | C34: 6_17 | D34: 18_39 | E34: 40_59 | F34: 59-ზე მეტი | G34: სულ | H34: 0_5 | I34: 6_17 | J34: 18_39 | K34: 40_59 | L34: 59-ზე მეტი | M34: სულ | N34: 0_5 | O34: 6_17 | P34: 18_39 | Q34: 40_59 | R34: 59-ზე მეტი | S34: სულ
A35: გლდანის რაიონი | B35: 27.076508 | C35: 3.0918301 | D35: 28.312361 | E35: 37.988518 | F35: 45.432736 | G35: 35.911326 | H35: 7.3815265 | I35: 9.1641249 | J35: 36.426336 | K35: 18.878815 | L35: 23.706466 | M35: 23.189469 | N35: 21.534115 | O35: 4.841779 | P35: 33.023243 | Q35: 27.050153 | R35: 35.894697 | S35: 29.737439
A36: ნაძალადევის რაიონი | B36: 3.3218913 | C36: 15.472839 | D36: 30.595165 | E36: 30.692617 | F36: 33.291616 | G36: 28.782757 | H36: 15.262796 | I36: 8.399832 | J36: 17.150743 | K36: 29.205256 | L36: 30.52071 | M36: 21.57178 | N36: 7.2079474 | O36: 13.646045 | P36: 18.922321 | Q36: 29.851036 | R36: 31.785232 | S36: 23.748554
A37: დიდუბის რაიონი | B37: 30 | C37: 8.3961411 | D37: 31.875512 | E37: 34.679803 | F37: 29.760177 | G37: 28.892916 | H37: 13.92887 | I37: 33.670034 | J37: 16.777489 | K37: 43.142896 | L37: 16.964106 | M37: 22.576892 | N37: 23.486018 | O37: 27.556155 | P37: 17.796273 | Q37: 36.383223 | R37: 20.512988 | S37: 24.513221
A38: ჩუღურეთის რაიონი | B38: 0 | C38: 26.221007 | D38: 37.395759 | E38: 22.889154 | F38: 36.603981 | G38: 29.61612 | H38: 18.552876 | I38: 50.172159 | J38: 43.888264 | K38: 30.68009 | L38: 23.590681 | M38: 33.47949 | N38: 2.6462027 | O38: 45.870505 | P38: 39.960207 | Q38: 28.702591 | R38: 28.452564 | S38: 32.051031
A39: ისნის რაიონი | B39: 0 | C39: 10.284897 | D39: 19.589734 | E39: 35.370709 | F39: 45.722905 | G39: 17.955501 | H39: 0 | I39: 73.459043 | J39: 23.759833 | K39: 20.03499 | L39: 17.097595 | M39: 24.611687 | N39: 0 | O39: 14.060578 | P39: 21.981206 | Q39: 26.717121 | R39: 29.370242 | S39: 20.06298
A40: სამგორის რაიონი | B40: 5.8503289 | C40: 9.1857358 | D40: 33.339035 | E40: 35.005543 | F40: 33.368645 | G40: 31.024364 | H40: 14.749263 | I40: 24.057422 | J40: 40.679483 | K40: 19.469413 | L40: 27.564564 | M40: 28.060437 | N40: 7.0026028 | O40: 17.341391 | P40: 37.435958 | Q40: 27.658679 | R40: 30.123856 | S40: 29.502325
A41: ვაკის რაიონი | B41: 27.739027 | C41: 7.8957758 | D41: 21.805884 | E41: 39.907138 | F41: 50.689016 | G41: 43.201212 | H41: 16.216216 | I41: 5.8589173 | J41: 33.431668 | K41: 34.989022 | L41: 31.686411 | M41: 31.860876 | N41: 24.567862 | O41: 6.6176471 | P41: 26.916116 | Q41: 35.410195 | R41: 45.790657 | S41: 38.189615
A42: საბურთალოს რაიონი | B42: 6.8305503 | C42: 51.626684 | D42: 22.992442 | E42: 21.767973 | F42: 44.507505 | G42: 37.996879 | H42: 23.400697 | I42: 23.289878 | J42: 30.466207 | K42: 29.07674 | L42: 35.584501 | M42: 29.180662 | N42: 20.807197 | O42: 50.177263 | P42: 27.115421 | Q42: 25.735817 | R42: 39.926092 | S42: 33.918911
...

Sheet February 
B1: ქ.თბილისის მუნიციპალიტეტის მერია ჯანდაცვისა და სოციალური მომსახურების საქალაქო სამსახური
A2: კომისიის მიერ განხილული საქმეებზე მოთხოვნილი თანხა განმცხადებლების სქესისა და ასაკის მიხედვით
B3: მამრობითი | H3: მდედრობითი | N3: სულ
A4: რაიონი | B4: 0_5 | C4: 6_17 | D4: 18_39 | E4: 40_59 | F4: 59-ზე მეტი | G4: სულ | H4: 0_5 | I4: 6_17 | J4: 18_39 | K4: 40_59 | L4: 59-ზე მეტი | M4: სულ | N4: 0_5 | O4: 6_17 | P4: 18_39 | Q4: 40_59 | R4: 59-ზე მეტი | S4: სულ
A5: გლდანის რაიონი | B5: 17294.5 | C5: 25518.95 | D5: 84729 | E5: 147129.74 | F5: 114886.89 | G5: 389559.08 | H5: 8463 | I5: 12013.78 | J5: 43955.225 | K5: 96043.038 | L5: 79689.85 | M5: 240164.89 | N5: 25757.5 | O5: 37532.73 | P5: 128684.22 | Q5: 243172.78 | R5: 194576.74 | S5: 629723.97
A6: ნაძალადევის რაიონი | B6: 18151.574 | C6: 25079.504 | D6: 49478 | E6: 53016.5 | F6: 48772.81 | G6: 194498.39 | H6: 10442.8 | I6: 7990 | J6: 41774.89 | K6: 120779.54 | L6: 73503.435 | M6: 254490.66 | N6: 28594.374 | O6: 33069.504 | P6: 91252.89 | Q6: 173796.04 | R6: 122276.24 | S6: 448989.05
A7: დიდუბის რაიონი | B7: 22390 | C7: 22280 | D7: 57241.06 | E7: 29400.451 | F7: 55023.28 | G7: 186334.79 | H7: 1949.199 | I7: 2520 | J7: 47769.98 | K7: 40858.15 | L7: 53123.126 | M7: 146220.46 | N7: 24339.199 | O7: 24800 | P7: 105011.04 | Q7: 70258.601 | R7: 108146.41 | S7: 332555.25
A8: ჩუღურეთის რაიონი | B8: 0 | C8: 23366.6 | D8: 33771 | E8: 101278.68 | F8: 72838.934 | G8: 231255.21 | H8: 10182 | I8: 21766 | J8: 166972.64 | K8: 90473.58 | L8: 31684.7 | M8: 321078.92 | N8: 10182 | O8: 45132.6 | P8: 200743.64 | Q8: 191752.26 | R8: 104523.63 | S8: 552334.13
A9: ისნის რაიონი | B9: 10617 | C9: 23607.815 | D9: 18287.24 | E9: 33585.84 | F9: 54321.98 | G9: 140419.88 | H9: 17623 | I9: 33489 | J9: 49658.485 | K9: 106515.86 | L9: 112533.38 | M9: 319819.72 | N9: 28240 | O9: 57096.815 | P9: 67945.725 | Q9: 140101.7 | R9: 166855.36 | S9: 460239.6
A10: სამგორის რაიონი | B10: 4945 | C10: 39551 | D10: 45880 | E10: 83044.53 | F10: 99678.52 | G10: 273099.05 | H10: 18894 | I10: 26027 | J10: 36542.07 | K10: 60441.69 | L10: 116059.12 | M10: 257963.88 | N10: 23839 | O10: 65578 | P10: 82422.07 | Q10: 143486.22 | R10: 215737.64 | S10: 531062.93
A11: ვაკის რაიონი | B11: 6720 | C11: 18365.85 | D11: 31637.48 | E11: 121121.02 | F11: 310299.43 | G11: 488143.79 | H11: 24680 | I11: 2378 | J11: 30457.29 | K11: 63851.25 | L11: 107700.32 | M11: 229066.86 | N11: 31400 | O11: 20743.85 | P11: 62094.77 | Q11: 184972.27 | R11: 417999.76 | S11: 717210.65
A12: საბურთალოს რაიონი | B12: 19575.1 | C12: 31983.11 | D12: 35131.986 | E12: 65799 | F12: 84688.311 | G12: 237177.51 | H12: 6590 | I12: 35229 | J12: 149522.5 | K12: 96777.63 | L12: 111225.56 | M12: 399344.69 | N12: 26165.1 | O12: 67212.11 | P12: 184654.49 | Q12: 162576.63 | R12: 195913.87 | S12: 636522.2
A13: მთაწმინდის რაიონი | B13: 6330 | C13: 9809 | D13: 22967.6 | E13: 17945.68 | F13: 136833.44 | G13: 193885.72 | H13: 0 | I13: 78767 | J13: 6743 | K13: 15878.36 | L13: 86838.91 | M13: 188227.27 | N13: 6330 | O13: 88576 | P13: 29710.6 | Q13: 33824.04 | R13: 223672.35 | S13: 382112.99
A14: კრწანისის რაიონი | B14: 4275 | C14: 7431.058 | D14: 18273.4 | E14: 19734.27 | F14: 22535.99 | G14: 72249.718 | H14: 1500 | I14: 3916 | J14: 4899 | K14: 18664.86 | L14: 23193.457 | M14: 52173.317 | N14: 5775 | O14: 11347.058 | P14: 23172.4 | Q14: 38399.13 | R14: 45729.447 | S14: 124423.03
A15: სულ | B15: 110298.17 | C15: 226992.89 | D15: 397396.77 | E15: 672055.72 | F15: 999879.59 | G15: 2406623.1 | H15: 100324 | I15: 224095.78 | J15: 578295.08 | K15: 710283.96 | L15: 795551.86 | M15: 2408550.7 | N15: 210622.17 | O15: 451088.67 | P15: 975691.85 | Q15: 1382339.7 | R15: 1795431.4 | S15: 4815173.8
A17: კომისიის მიერ განხილული საქმეებზე გამოყოფილი თანხა განმცხადებლების სქესისა და ასაკის მიხედვით
B18: მამრობითი | H18: მდედრობითი | N18: სულ
A19: რაიონი | B19: 0_5 | C19: 6_17 | D19: 18_39 | E19: 40_59 | F19: 59-ზე მეტი | G19: სულ | H19: 0_5 | I19: 6_17 | J19: 18_39 | K19: 40_59 | L19: 59-ზე მეტი | M19: სულ | N19: 0_5 | O19: 6_17 | P19: 18_39 | Q19: 40_59 | R19: 59-ზე მეტი | S19: სულ
A20: გლდანის რაიონი | B20: 400 | C20: 2034 | D20: 10747 | E20: 36003 | F20: 26752 | G20: 75936 | H20: 1138 | I20: 800 | J20: 6986 | K20: 15289 | L20: 19995 | M20: 44208 | N20: 1538 | O20: 2834 | P20: 17733 | Q20: 51292 | R20: 46747 | S20: 120144
A21: ნაძალადევის რაიონი | B21: 1087 | C21: 2700 | D21: 6702 | E21: 10131 | F21: 17542 | G21: 38162 | H21: 300 | I21: 460 | J21: 8614 | K21: 25875 | L21: 22000 | M21: 57249 | N21: 1387 | O21: 3160 | P21: 15316 | Q21: 36006 | R21: 39542 | S21: 95411
A22: დიდუბის რაიონი | B22: 15000 | C22: 5212 | D22: 19740 | E22: 9295 | F22: 18013 | G22: 67260 | H22: 200 | I22: 250 | J22: 11186 | K22: 10596 | L22: 18097 | M22: 40329 | N22: 15200 | O22: 5462 | P22: 30926 | Q22: 19891 | R22: 36110 | S22: 107589
A23: ჩუღურეთის რაიონი | B23: 0 | C23: 5976 | D23: 200 | E23: 26192 | F23: 29094 | G23: 61462 | H23: 2010 | I23: 659 | J23: 21363 | K23: 20271 | L23: 10390 | M23: 54693 | N23: 2010 | O23: 6635 | P23: 21563 | Q23: 46463 | R23: 39484 | S23: 116155
A24: ისნის რაიონი | B24: 400 | C24: 3802 | D24: 3130 | E24: 10074 | F24: 17171 | G24: 34577 | H24: 450 | I24: 4067 | J24: 16245 | K24: 20648 | L24: 26114 | M24: 67524 | N24: 850 | O24: 7869 | P24: 19375 | Q24: 30722 | R24: 43285 | S24: 102101
A25: სამგორის რაიონი | B25: 500 | C25: 1319 | D25: 7844 | E25: 35542 | F25: 36648 | G25: 81853 | H25: 4502 | I25: 3670 | J25: 8532 | K25: 18509 | L25: 33834 | M25: 69047 | N25: 5002 | O25: 4989 | P25: 16376 | Q25: 54051 | R25: 70482 | S25: 150900
A26: ვაკის რაიონი | B26: 250 | C26: 1971 | D26: 5572 | E26: 17404 | F26: 72522 | G26: 97719 | H26: 9100 | I26: 713 | J26: 8394 | K26: 19259 | L26: 30693 | M26: 68159 | N26: 9350 | O26: 2684 | P26: 13966 | Q26: 36663 | R26: 103215 | S26: 165878
A27: საბურთალოს რაიონი | B27: 1643 | C27: 2074 | D27: 10170 | E27: 17500 | F27: 28552 | G27: 59939 | H27: 321 | I27: 16510 | J27: 26574 | K27: 45608 | L27: 27884 | M27: 116897 | N27: 1964 | O27: 18584 | P27: 36744 | Q27: 63108 | R27: 56436 | S27: 176836
A28: მთაწმინდის რაიონი | B28: 250 | C28: 0 | D28: 5495 | E28: 2409 | F28: 36497 | G28: 44651 | H28: 0 | I28: 16130 | J28: 2146 | K28: 6848 | L28: 26757 | M28: 51881 | N28: 250 | O28: 16130 | P28: 7641 | Q28: 9257 | R28: 63254 | S28: 96532
A29: კრწანისის რაიონი | B29: 250 | C29: 3500 | D29: 4219 | E29: 7776 | F29: 7015 | G29: 22760 | H29: 0 | I29: 150 | J29: 869 | K29: 6199 | L29: 10004 | M29: 17222 | N29: 250 | O29: 3650 | P29: 5088 | Q29: 13975 | R29: 17019 | S29: 39982
A30: სულ | B30: 19780 | C30: 28588 | D30: 73819 | E30: 172326 | F30: 289806 | G30: 584319 | H30: 18021 | I30: 43409 | J30: 110909 | K30: 189102 | L30: 225768 | M30: 587209 | N30: 37801 | O30: 71997 | P30: 184728 | Q30: 361428 | R30: 515574 | S30: 1171528
A32: კომისიის მიერ სრულად ან ნაწილობრივ დაკმაყოფილებულ მოთხოვნებზე გამოყოფილი თანხის წილი სქესისა და ასაკის მიხედვით (%)
B33: მამრობითი | H33: მდედრობითი | N33: სულ
A34: რაიონი | B34: 0_5 | C34: 6_17 | D34: 18_39 | E34: 40_59 | F34: 59-ზე მეტი | G34: სულ | H34: 0_5 | I34: 6_17 | J34: 18_39 | K34: 40_59 | L34: 59-ზე მეტი | M34: სულ | N34: 0_5 | O34: 6_17 | P34: 18_39 | Q34: 40_59 | R34: 59-ზე მეტი | S34: სულ
A35: გლდანის რაიონი | B35: =IFERROR(('February '!B20/'February '!B5)*100,0) -> 2.312874 | C35: =IFERROR(('February '!C20/'February '!C5)*100,0) -> 7.9705474 | D35: =IFERROR(('February '!D20/'February '!D5)*100,0) -> 12.683969 | E35: =IFERROR(('February '!E20/'February '!E5)*100,0) -> 24.47024 | F35: =IFERROR(('February '!F20/'February '!F5)*100,0) -> 23.285512 | G35: =IFERROR(('February '!G20/'February '!G5)*100,0) -> 19.492807 | H35: =IFERROR(('February '!H20/'February '!H5)*100,0) -> 13.446768 | I35: =IFERROR(('February '!I20/'February '!I5)*100,0) -> 6.6590199 | ... S35: =IFERROR(('February '!S20/'February '!S5)*100,0) -> 19.078835
A36: ნაძალადევის რაიონი | B36: =IFERROR(('February '!B21/'February '!B6)*100,0) -> 5.9884614 | C36: =IFERROR(('February '!C21/'February '!C6)*100,0) -> 10.765763 | D36: =IFERROR(('February '!D21/'February '!D6)*100,0) -> 13.545414 | E36: =IFERROR(('February '!E21/'February '!E6)*100,0) -> 19.109145 | F36: =IFERROR(('February '!F21/'February '!F6)*100,0) -> 35.966761 | G36: =IFERROR(('February '!G21/'February '!G6)*100,0) -> 19.620728 | H36: =IFERROR(('February '!H21/'February '!H6)*100,0) -> 2.8727927 | I36: =IFERROR(('February '!I21/'February '!I6)*100,0) -> 5.7571965 | ... S36: =IFERROR(('February '!S21/'February '!S6)*100,0) -> 21.250184
A37: დიდუბის რაიონი | B37: =IFERROR(('February '!B22/'February '!B7)*100,0) -> 66.994194 | C37: =IFERROR(('February '!C22/'February '!C7)*100,0) -> 23.393178 | D37: =IFERROR(('February '!D22/'February '!D7)*100,0) -> 34.485735 | E37: =IFERROR(('February '!E22/'February '!E7)*100,0) -> 31.615161 | F37: =IFERROR(('February '!F22/'February '!F7)*100,0) -> 32.737052 | G37: =IFERROR(('February '!G22/'February '!G7)*100,0) -> 36.096319 | H37: =IFERROR(('February '!H22/'February '!H7)*100,0) -> 10.260625 | I37: =IFERROR(('February '!I22/'February '!I7)*100,0) -> 9.9206349 | ... S37: =IFERROR(('February '!S22/'February '!S7)*100,0) -> 32.352219
A38: ჩუღურეთის რაიონი | B38: =IFERROR(('February '!B23/'February '!B8)*100,0) -> 0 | C38: =IFERROR(('February '!C23/'February '!C8)*100,0) -> 25.574966 | D38: =IFERROR(('February '!D23/'February '!D8)*100,0) -> 0.5922241 | E38: =IFERROR(('February '!E23/'February '!E8)*100,0) -> 25.861317 | F38: =IFERROR(('February '!F23/'February '!F8)*100,0) -> 39.942924 | G38: =IFERROR(('February '!G23/'February '!G8)*100,0) -> 26.577563 | H38: =IFERROR(('February '!H23/'February '!H8)*100,0) -> 19.740719 | I38: =IFERROR(('February '!I23/'February '!I8)*100,0) -> 3.0276578 | ... S38: =IFERROR(('February '!S23/'February '!S8)*100,0) -> 21.029843
A39: ისნის რაიონი | B39: =IFERROR(('February '!B24/'February '!B9)*100,0) -> 3.7675426 | C39: =IFERROR(('February '!C24/'February '!C9)*100,0) -> 16.104836 | D39: =IFERROR(('February '!D24/'February '!D9)*100,0) -> 17.115759 | E39: =IFERROR(('February '!E24/'February '!E9)*100,0) -> 29.994784 | F39: =IFERROR(('February '!F24/'February '!F9)*100,0) -> 31.609673 | G39: =IFERROR(('February '!G24/'February '!G9)*100,0) -> 24.624007 | H39: =IFERROR(('February '!H24/'February '!H9)*100,0) -> 2.5534812 | I39: =IFERROR(('February '!I24/'February '!I9)*100,0) -> 12.144286 | ... S39: =IFERROR(('February '!S24/'February '!S9)*100,0) -> 22.184315
A40: სამგორის რაიონი | B40: =IFERROR(('February '!B25/'February '!B10)*100,0) -> 10.111223 | C40: =IFERROR(('February '!C25/'February '!C10)*100,0) -> 3.3349346 | D40: =IFERROR(('February '!D25/'February '!D10)*100,0) -> 17.096774 | E40: =IFERROR(('February '!E25/'February '!E10)*100,0) -> 42.798725 | F40: =IFERROR(('February '!F25/'February '!F10)*100,0) -> 36.766196 | G40: =IFERROR(('February '!G25/'February '!G10)*100,0) -> 29.971909 | H40: =IFERROR(('February '!H25/'February '!H10)*100,0) -> 23.82767 | I40: =IFERROR(('February '!I25/'February '!I10)*100,0) -> 14.100742 | ... S40: =IFERROR(('February '!S25/'February '!S10)*100,0) -> 28.414712
A41: ვაკის რაიონი | B41: =IFERROR(('February '!B26/'February '!B11)*100,0) -> 3.7202381 | C41: =IFERROR(('February '!C26/'February '!C11)*100,0) -> 10.731875 | D41: =IFERROR(('February '!D26/'February '!D11)*100,0) -> 17.612022 | E41: =IFERROR(('February '!E26/'February '!E11)*100,0) -> 14.369099 | F41: =IFERROR(('February '!F26/'February '!F11)*100,0) -> 23.371619 | G41: =IFERROR(('February '!G26/'February '!G11)*100,0) -> 20.018487 | H41: =IFERROR(('February '!H26/'February '!H11)*100,0) -> 36.871961 | I41: =IFERROR(('February '!I26/'February '!I11)*100,0) -> 29.983179 | ... S41: =IFERROR(('February '!S26/'February '!S11)*100,0) -> 23.128212
A42: საბურთალოს რაიონი | B42: =IFERROR(('February '!B27/'February '!B12)*100,0) -> 8.393316 | C42: =IFERROR(('February '!C27/'February '!C12)*100,0) -> 6.4846727 | D42: =IFERROR(('February '!D27/'February '!D12)*100,0) -> 28.947979 | E42: =IFERROR(('February '!E27/'February '!E12)*100,0) -> 26.596149 | F42: =IFERROR(('February '!F27/'February '!F12)*100,0) -> 33.714216 | G42: =IFERROR(('February '!G27/'February '!G12)*100,0) -> 25.271789 | H42: =IFERROR(('February '!H27/'February '!H12)*100,0) -> 4.8710167 | I42: =IFERROR(('February '!I27/'February '!I12)*100,0) -> 46.864799 | ... S42: =IFERROR(('February '!S27/'February '!S12)*100,0) -> 27.781592
...

Sheet March 
B1: ქ.თბილისის მუნიციპალიტეტის მერია ჯანდაცვისა და სოციალური მომსახურების საქალაქო სამსახური
A2: კომისიის მიერ განხილული საქმეებზე მოთხოვნილი თანხა განმცხადებლების სქესისა და ასაკის მიხედვით
B3: მამრობითი | H3: მდედრობითი | N3: სულ
A4: რაიონი | B4: 0_5 | C4: 6_17 | D4: 18_39 | E4: 40_59 | F4: 59-ზე მეტი | G4: სულ | H4: 0_5 | I4: 6_17 | J4: 18_39 | K4: 40_59 | L4: 59-ზე მეტი | M4: სულ | N4: 0_5 | O4: 6_17 | P4: 18_39 | Q4: 40_59 | R4: 59-ზე მეტი | S4: სულ
A5: გლდანის რაიონი | B5: 12351 | C5: 20964.714 | D5: 39415.65 | E5: 97696.228 | F5: 68813.612 | G5: 239241.2 | H5: 11070 | I5: 7980.797 | J5: 74057.96 | K5: 134958.01 | L5: 96934.09 | M5: 325000.86 | N5: 23421 | O5: 28945.511 | P5: 113473.61 | Q5: 232654.24 | R5: 165747.7 | S5: 564242.06
A6: ნაძალადევის რაიონი | B6: 3128.5 | C6: 34838.56 | D6: 29648.31 | E6: 58059.01 | F6: 54994.22 | G6: 180668.6 | H6: 11777 | I6: 20309.324 | J6: 147725.3 | K6: 113185.1 | L6: 99402.707 | M6: 392399.43 | N6: 14905.5 | O6: 55147.884 | P6: 177373.61 | Q6: 171244.11 | R6: 154396.93 | S6: 573068.03
A7: დიდუბის რაიონი | B7: 5355 | C7: 11113.74 | D7: 33197.86 | E7: 29006.15 | F7: 55219.77 | G7: 133892.52 | H7: 2200 | I7: 50494.347 | J7: 70166 | K7: 51173.826 | L7: 51237.84 | M7: 225272.01 | N7: 7555 | O7: 61608.087 | P7: 103363.86 | Q7: 80179.976 | R7: 106457.61 | S7: 359164.53
A8: ჩუღურეთის რაიონი | B8: 3487 | C8: 7498 | D8: 74348.4 | E8: 44349.58 | F8: 84110.072 | G8: 213793.05 | H8: 6720 | I8: 12356.8 | J8: 18601.93 | K8: 89755.74 | L8: 37192.999 | M8: 164627.47 | N8: 10207 | O8: 19854.8 | P8: 92950.33 | Q8: 134105.32 | R8: 121303.07 | S8: 378420.52
A9: ისნის რაიონი | B9: 1320 | C9: 31137 | D9: 43343.61 | E9: 62214.21 | F9: 81239.419 | G9: 219254.24 | H9: 7043.9 | I9: 10067.5 | J9: 42473.69 | K9: 96039.6 | L9: 76689.611 | M9: 232314.3 | N9: 8363.9 | O9: 41204.5 | P9: 85817.3 | Q9: 158253.81 | R9: 157929.03 | S9: 451568.54
A10: სამგორის რაიონი | B10: 7682 | C10: 24714.898 | D10: 59292.822 | E10: 132632.09 | F10: 71616.451 | G10: 295938.26 | H10: 3600 | I10: 5818.4032 | J10: 46269.8 | K10: 106758.28 | L10: 90133.05 | M10: 252579.53 | N10: 11282 | O10: 30533.302 | P10: 105562.62 | Q10: 239390.37 | R10: 161749.5 | S10: 548517.79
A11: ვაკის რაიონი | B11: 12045 | C11: 272190.26 | D11: 83444.629 | E11: 83854.885 | F11: 64854.636 | G11: 516389.41 | H11: 1027 | I11: 4241 | J11: 28909.306 | K11: 46007.29 | L11: 108483.09 | M11: 188667.68 | N11: 13072 | O11: 276431.26 | P11: 112353.94 | Q11: 129862.17 | R11: 173337.72 | S11: 705057.09
A12: საბურთალოს რაიონი | B12: 11370 | C12: 37049.04 | D12: 58671.6 | E12: 214374.35 | F12: 187528.16 | G12: 508993.14 | H12: 5450 | I12: 11052.15 | J12: 40513.11 | K12: 148806.12 | L12: 112557.98 | M12: 318379.36 | N12: 16820 | O12: 48101.19 | P12: 99184.71 | Q12: 363180.47 | R12: 300086.14 | S12: 827372.5
A13: მთაწმინდის რაიონი | B13: 1102.995 | C13: 8131 | D13: 38783 | E13: 45468.64 | F13: 62138.12 | G13: 155623.76 | H13: 3157 | I13: 28092 | J13: 5425 | K13: 41176.398 | L13: 36316.58 | M13: 114166.98 | N13: 4259.995 | O13: 36223 | P13: 44208 | Q13: 86645.038 | R13: 98454.7 | S13: 269790.73
A14: კრწანისის რაიონი | B14: 5320 | C14: 0 | D14: 2480 | E14: 27114 | F14: 18524.57 | G14: 53438.57 | H14: 1800 | I14: 2485 | J14: 25070.29 | K14: 63147.6 | L14: 23968.72 | M14: 116471.61 | N14: 7120 | O14: 2485 | P14: 27550.29 | Q14: 90261.6 | R14: 42493.29 | S14: 169910.18
A15: სულ | B15: 63161.495 | C15: 447637.21 | D15: 462625.88 | E15: 794769.14 | F15: 749039.03 | G15: 2517232.8 | H15: 53844.9 | I15: 152897.32 | J15: 499212.39 | K15: 891007.96 | L15: 732916.66 | M15: 2329879.2 | N15: 117006.39 | O15: 600534.53 | P15: 961838.27 | Q15: 1685777.1 | R15: 1481955.7 | S15: 4847112
A17: კომისიის მიერ განხილული საქმეებზე გამოყოფილი თანხა განმცხადებლების სქესისა და ასაკის მიხედვით
B18: მამრობითი | H18: მდედრობითი | N18: სულ
A19: რაიონი | B19: 0_5 | C19: 6_17 | D19: 18_39 | E19: 40_59 | F19: 59-ზე მეტი | G19: სულ | H19: 0_5 | I19: 6_17 | J19: 18_39 | K19: 40_59 | L19: 59-ზე მეტი | M19: სულ | N19: 0_5 | O19: 6_17 | P19: 18_39 | Q19: 40_59 | R19: 59-ზე მეტი | S19: სულ
A20: გლდანის რაიონი | B20: 300 | C20: 1641 | D20: 11727 | E20: 24267 | F20: 20579 | G20: 58514 | H20: 925 | I20: 1145 | J20: 17800 | K20: 21733 | L20: 32539 | M20: 74142 | N20: 1225 | O20: 2786 | P20: 29527 | Q20: 46000 | R20: 53118 | S20: 132656
A21: ნაძალადევის რაიონი | B21: 424 | C21: 2324 | D21: 8553 | E21: 20101 | F21: 22146 | G21: 53548 | H21: 5414 | I21: 4333 | J21: 19779 | K21: 36191 | L21: 25190 | M21: 90907 | N21: 5838 | O21: 6657 | P21: 28332 | Q21: 56292 | R21: 47336 | S21: 144455
A22: დიდუბის რაიონი | B22: 400 | C22: 200 | D22: 10857 | E22: 11918 | F22: 20114 | G22: 43489 | H22: 0 | I22: 13797 | J22: 10928 | K22: 16951 | L22: 21351 | M22: 63027 | N22: 400 | O22: 13997 | P22: 21785 | Q22: 28869 | R22: 41465 | S22: 106516
A23: ჩუღურეთის რაიონი | B23: 1487 | C23: 927 | D23: 11396 | E23: 17487 | F23: 15804 | G23: 47101 | H23: 754 | I23: 4096 | J23: 5402 | K23: 24657 | L23: 8973 | M23: 43882 | N23: 2241 | O23: 5023 | P23: 16798 | Q23: 42144 | R23: 24777 | S23: 90983
A24: ისნის რაიონი | B24: 396 | C24: 1650 | D24: 8554 | E24: 24076 | F24: 27623 | G24: 62299 | H24: 745 | I24: 1311 | J24: 10953 | K24: 24632 | L24: 22899 | M24: 60540 | N24: 1141 | O24: 2961 | P24: 19507 | Q24: 48708 | R24: 50522 | S24: 122839
A25: სამგორის რაიონი | B25: 345 | C25: 3305 | D25: 18115 | E25: 22565 | F25: 25551 | G25: 69881 | H25: 0 | I25: 1120 | J25: 11795 | K25: 31151 | L25: 27063 | M25: 71129 | N25: 345 | O25: 4425 | P25: 29910 | Q25: 53716 | R25: 52614 | S25: 141010
A26: ვაკის რაიონი | B26: 250 | C26: 79175 | D26: 19517 | E26: 23218 | F26: 17097 | G26: 139257 | H26: 150 | I26: 0 | J26: 7716 | K26: 9656 | L26: 48843 | M26: 66365 | N26: 400 | O26: 79175 | P26: 27233 | Q26: 32874 | R26: 65940 | S26: 205622
A27: საბურთალოს რაიონი | B27: 300 | C27: 2960 | D27: 12376 | E27: 54458 | F27: 48184 | G27: 118278 | H27: 0 | I27: 1325 | J27: 9162 | K27: 45174 | L27: 28936 | M27: 84597 | N27: 300 | O27: 4285 | P27: 21538 | Q27: 99632 | R27: 77120 | S27: 202875
A28: მთაწმინდის რაიონი | B28: 235 | C28: 200 | D28: 9089 | E28: 6639 | F28: 12932 | G28: 29095 | H28: 407 | I28: 2150 | J28: 1542 | K28: 12741 | L28: 6239 | M28: 23079 | N28: 642 | O28: 2350 | P28: 10631 | Q28: 19380 | R28: 19171 | S28: 52174
A29: კრწანისის რაიონი | B29: 624 | C29: 0 | D29: 2000 | E29: 12792 | F29: 8137.65 | G29: 23553.65 | H29: 0 | I29: 745 | J29: 7993 | K29: 8480 | L29: 6387 | M29: 23605 | N29: 624 | O29: 745 | P29: 9993 | Q29: 21272 | R29: 14524.65 | S29: 47158.65
A30: სულ | B30: 4761 | C30: 92382 | D30: 112184 | E30: 217521 | F30: 218167.65 | G30: 645015.65 | H30: 8395 | I30: 30022 | J30: 103070 | K30: 231366 | L30: 228420 | M30: 601273 | N30: 13156 | O30: 122404 | P30: 215254 | Q30: 448887 | R30: 446587.65 | S30: 1246288.6
A32: კომისიის მიერ სრულად ან ნაწილობრივ დაკმაყოფილებულ მოთხოვნებზე გამოყოფილი თანხის წილი სქესისა და ასაკის მიხედვით (%)
B33: მამრობითი | H33: მდედრობითი | N33: სულ
A34: რაიონი | B34: 0_5 | C34: 6_17 | D34: 18_39 | E34: 40_59 | F34: 59-ზე მეტი | G34: სულ | H34: 0_5 | I34: 6_17 | J34: 18_39 | K34: 40_59 | L34: 59-ზე მეტი | M34: სულ | N34: 0_5 | O34: 6_17 | P34: 18_39 | Q34: 40_59 | R34: 59-ზე მეტი | S34: სულ
A35: გლდანის რაიონი | B35: =IFERROR(('March '!B20/'March '!B5)*100,0) -> 2.4289531 | C35: =IFERROR(('March '!C20/'March '!C5)*100,0) -> 7.827438 | D35: =IFERROR(('March '!D20/'March '!D5)*100,0) -> 29.752142 | E35: =IFERROR(('March '!E20/'March '!E5)*100,0) -> 24.839239 | F35: =IFERROR(('March '!F20/'March '!F5)*100,0) -> 29.90542 | G35: =IFERROR(('March '!G20/'March '!G5)*100,0) -> 24.458161 | H35: =IFERROR(('March '!H20/'March '!H5)*100,0) -> 8.3559169 | I35: =IFERROR(('March '!I20/'March '!I5)*100,0) -> 14.346938 | ... S35: =IFERROR(('March '!S20/'March '!S5)*100,0) -> 23.510477
A36: ნაძალადევის რაიონი | B36: =IFERROR(('March '!B21/'March '!B6)*100,0) -> 13.552821 | C36: =IFERROR(('March '!C21/'March '!C6)*100,0) -> 6.6707694 | D36: =IFERROR(('March '!D21/'March '!D6)*100,0) -> 28.848187 | E36: =IFERROR(('March '!E21/'March '!E6)*100,0) -> 34.621672 | F36: =IFERROR(('March '!F21/'March '!F6)*100,0) -> 40.269686 | G36: =IFERROR(('March '!G21/'March '!G6)*100,0) -> 29.638797 | H36: =IFERROR(('March '!H21/'March '!H6)*100,0) -> 45.97096 | I36: =IFERROR(('March '!I21/'March '!I6)*100,0) -> 21.335028 | ... S36: =IFERROR(('March '!S21/'March '!S6)*100,0) -> 25.207304
A37: დიდუბის რაიონი | B37: =IFERROR(('March '!B22/'March '!B7)*100,0) -> 7.4696545 | C37: =IFERROR(('March '!C22/'March '!C7)*100,0) -> 1.7995742 | D37: =IFERROR(('March '!D22/'March '!D7)*100,0) -> 32.703915 | E37: =IFERROR(('March '!E22/'March '!E7)*100,0) -> 41.087838 | F37: =IFERROR(('March '!F22/'March '!F7)*100,0) -> 36.42536 | G37: =IFERROR(('March '!G22/'March '!G7)*100,0) -> 32.48053 | H37: =IFERROR(('March '!H22/'March '!H7)*100,0) -> 0 | I37: =IFERROR(('March '!I22/'March '!I7)*100,0) -> 27.323851 | ... S37: =IFERROR(('March '!S22/'March '!S7)*100,0) -> 29.656603
A38: ჩუღურეთის რაიონი | B38: =IFERROR(('March '!B23/'March '!B8)*100,0) -> 42.644107 | C38: =IFERROR(('March '!C23/'March '!C8)*100,0) -> 12.363297 | D38: =IFERROR(('March '!D23/'March '!D8)*100,0) -> 15.327835 | E38: =IFERROR(('March '!E23/'March '!E8)*100,0) -> 39.429911 | F38: =IFERROR(('March '!F23/'March '!F8)*100,0) -> 18.789664 | G38: =IFERROR(('March '!G23/'March '!G8)*100,0) -> 22.031118 | H38: =IFERROR(('March '!H23/'March '!H8)*100,0) -> 11.220238 | I38: =IFERROR(('March '!I23/'March '!I8)*100,0) -> 33.147741 | ... S38: =IFERROR(('March '!S23/'March '!S8)*100,0) -> 24.042829
A39: ისნის რაიონი | B39: =IFERROR(('March '!B24/'March '!B9)*100,0) -> 30 | C39: =IFERROR(('March '!C24/'March '!C9)*100,0) -> 5.2991618 | D39: =IFERROR(('March '!D24/'March '!D9)*100,0) -> 19.73532 | E39: =IFERROR(('March '!E24/'March '!E9)*100,0) -> 38.698555 | F39: =IFERROR(('March '!F24/'March '!F9)*100,0) -> 34.001967 | G39: =IFERROR(('March '!G24/'March '!G9)*100,0) -> 28.414046 | H39: =IFERROR(('March '!H24/'March '!H9)*100,0) -> 10.576527 | I39: =IFERROR(('March '!I24/'March '!I9)*100,0) -> 13.022101 | ... S39: =IFERROR(('March '!S24/'March '!S9)*100,0) -> 27.202737
A40: სამგორის რაიონი | B40: =IFERROR(('March '!B25/'March '!B10)*100,0) -> 4.491018 | C40: =IFERROR(('March '!C25/'March '!C10)*100,0) -> 13.372501 | D40: =IFERROR(('March '!D25/'March '!D10)*100,0) -> 30.551759 | E40: =IFERROR(('March '!E25/'March '!E10)*100,0) -> 17.013228 | F40: =IFERROR(('March '!F25/'March '!F10)*100,0) -> 35.677557 | G40: =IFERROR(('March '!G25/'March '!G10)*100,0) -> 23.613371 | H40: =IFERROR(('March '!H25/'March '!H10)*100,0) -> 0 | I40: =IFERROR(('March '!I25/'March '!I10)*100,0) -> 19.249268 | ... S40: =IFERROR(('March '!S25/'March '!S10)*100,0) -> 25.707461
A41: ვაკის რაიონი | B41: =IFERROR(('March '!B26/'March '!B11)*100,0) -> 2.07555 | C41: =IFERROR(('March '!C26/'March '!C11)*100,0) -> 29.088109 | D41: =IFERROR(('March '!D26/'March '!D11)*100,0) -> 23.389163 | E41: =IFERROR(('March '!E26/'March '!E11)*100,0) -> 27.688309 | F41: =IFERROR(('March '!F26/'March '!F11)*100,0) -> 26.362032 | G41: =IFERROR(('March '!G26/'March '!G11)*100,0) -> 26.967439 | H41: =IFERROR(('March '!H26/'March '!H11)*100,0) -> 14.605648 | I41: =IFERROR(('March '!I26/'March '!I11)*100,0) -> 0 | ... S41: =IFERROR(('March '!S26/'March '!S11)*100,0) -> 29.163879
A42: საბურთალოს რაიონი | B42: =IFERROR(('March '!B27/'March '!B12)*100,0) -> 2.6385224 | C42: =IFERROR(('March '!C27/'March '!C12)*100,0) -> 7.9894108 | D42: =IFERROR(('March '!D27/'March '!D12)*100,0) -> 21.093681 | E42: =IFERROR(('March '!E27/'March '!E12)*100,0) -> 25.403226 | F42: =IFERROR(('March '!F27/'March '!F12)*100,0) -> 25.694275 | G42: =IFERROR(('March '!G27/'March '!G12)*100,0) -> 23.237641 | H42: =IFERROR(('March '!H27/'March '!H12)*100,0) -> 0 | I42: =IFERROR(('March '!I27/'March '!I12)*100,0) -> 11.988618 | ... S42: =IFERROR(('March '!S27/'March '!S12)*100,0) -> 24.520394
...

Sheet April 
B1: ქ.თბილისის მუნიციპალიტეტის მერია ჯანდაცვისა და სოციალური მომსახურების საქალაქო სამსახური
A2: კომისიის მიერ განხილული საქმეებზე მოთხოვნილი თანხა განმცხადებლების სქესისა და ასაკის მიხედვით
B3: მამრობითი | H3: მდედრობითი | N3: სულ
A4: რაიონი | B4: 0_5 | C4: 6_17 | D4: 18_39 | E4: 40_59 | F4: 59-ზე მეტი | G4: სულ | H4: 0_5 | I4: 6_17 | J4: 18_39 | K4: 40_59 | L4: 59-ზე მეტი | M4: სულ | N4: 0_5 | O4: 6_17 | P4: 18_39 | Q4: 40_59 | R4: 59-ზე მეტი | S4: სულ
A5: გლდანის რაიონი | B5: 30247.6 | C5: 84343.152 | D5: 90298.38 | E5: 237935.84 | F5: 135885.39 | G5: 578710.36 | H5: 13560 | I5: 78817.4 | J5: 184181.06 | K5: 305210.05 | L5: 345048.09 | M5: 926816.6 | N5: 43807.6 | O5: 163160.55 | P5: 274479.44 | Q5: 543145.89 | R5: 480933.48 | S5: 1505527
A6: ნაძალადევის რაიონი | B6: 4200 | C6: 1245 | D6: 61448.25 | E6: 112713.71 | F6: 104388.53 | G6: 283995.5 | H6: 7252 | I6: 8811 | J6: 29263.97 | K6: 70169.3 | L6: 59828.225 | M6: 175324.49 | N6: 11452 | O6: 10056 | P6: 90712.22 | Q6: 182883.01 | R6: 164216.76 | S6: 459319.99
A7: დიდუბის რაიონი | B7: 13477.6 | C7: 5978 | D7: 3980 | E7: 39447.41 | F7: 23166 | G7: 86049.01 | H7: 0 | I7: 3240 | J7: 27833 | K7: 12916.6 | L7: 38647.429 | M7: 82637.029 | N7: 13477.6 | O7: 9218 | P7: 31813 | Q7: 52364.01 | R7: 61813.429 | S7: 168686.04
A8: ჩუღურეთის რაიონი | B8: 1500 | C8: 15930 | D8: 5680 | E8: 23220.52 | F8: 23096.143 | G8: 69426.663 | H8: 0 | I8: 0 | J8: 71323 | K8: 37881.664 | L8: 31344.297 | M8: 140548.96 | N8: 1500 | O8: 15930 | P8: 77003 | Q8: 61102.184 | R8: 54440.44 | S8: 209975.62
A9: ისნის რაიონი | B9: 28617.717 | C9: 13232.37 | D9: 9337.62 | E9: 32934.37 | F9: 31319.485 | G9: 115441.56 | H9: 4245 | I9: 7478.9712 | J9: 78239.49 | K9: 59702.94 | L9: 42519.36 | M9: 192185.76 | N9: 32862.717 | O9: 20711.341 | P9: 87577.11 | Q9: 92637.31 | R9: 73838.845 | S9: 307627.32
A10: სამგორის რაიონი | B10: 9137 | C10: 20672 | D10: 88250 | E10: 26509.52 | F10: 56754.42 | G10: 201322.94 | H10: 8163 | I10: 51465 | J10: 69942.48 | K10: 54927.9 | L10: 42258.007 | M10: 226756.39 | N10: 17300 | O10: 72137 | P10: 158192.48 | Q10: 81437.42 | R10: 99012.427 | S10: 428079.33
A11: ვაკის რაიონი | B11: 5112 | C11: 3660 | D11: 16425 | E11: 38199.55 | F11: 228398.93 | G11: 291795.48 | H11: 0 | I11: 4548 | J11: 19577 | K11: 79418.7 | L11: 168543.73 | M11: 272087.43 | N11: 5112 | O11: 8208 | P11: 36002 | Q11: 117618.25 | R11: 396942.66 | S11: 563882.91
A12: საბურთალოს რაიონი | B12: 14771.5 | C12: 6550 | D12: 73213.99 | E12: 490070.13 | F12: 688571.62 | G12: 1273177.2 | H12: 2100 | I12: 170953.08 | J12: 18143.8 | K12: 76086.278 | L12: 98588.648 | M12: 365871.8 | N12: 16871.5 | O12: 177503.08 | P12: 91357.79 | Q12: 566156.4 | R12: 787160.26 | S12: 1639049
A13: მთაწმინდის რაიონი | B13: 3200 | C13: 0 | D13: 4622 | E13: 8907.28 | F13: 38482.854 | G13: 55212.134 | H13: 0 | I13: 3129.6 | J13: 5995 | K13: 176814 | L13: 21385.325 | M13: 207323.93 | N13: 3200 | O13: 3129.6 | P13: 10617 | Q13: 185721.28 | R13: 59868.18 | S13: 262536.06
A14: კრწანისის რაიონი | B14: 1527 | C14: 0 | D14: 8263.008 | E14: 5995 | F14: 11218.9 | G14: 27003.908 | H14: 0 | I14: 0 | J14: 5828.0999 | K14: 24566.5 | L14: 4372 | M14: 34766.6 | N14: 1527 | O14: 0 | P14: 14091.108 | Q14: 30561.5 | R14: 15590.9 | S14: 61770.508
A15: სულ | B15: 111790.42 | C15: 151610.52 | D15: 361518.25 | E15: 1015933.3 | F15: 1341282.3 | G15: 2982134.8 | H15: 35320 | I15: 328443.05 | J15: 510326.9 | K15: 897693.93 | L15: 852535.11 | M15: 2624319 | N15: 147110.42 | O15: 480053.57 | P15: 871845.15 | Q15: 1913627.3 | R15: 2193817.4 | S15: 5606453.8
A17: კომისიის მიერ განხილული საქმეებზე გამოყოფილი თანხა განმცხადებლების სქესისა და ასაკის მიხედვით
B18: მამრობითი | H18: მდედრობითი | N18: სულ
A19: რაიონი | B19: 0_5 | C19: 6_17 | D19: 18_39 | E19: 40_59 | F19: 59-ზე მეტი | G19: სულ | H19: 0_5 | I19: 6_17 | J19: 18_39 | K19: 40_59 | L19: 59-ზე მეტი | M19: სულ | N19: 0_5 | O19: 6_17 | P19: 18_39 | Q19: 40_59 | R19: 59-ზე მეტი | S19: სულ
A20: გლდანის რაიონი | B20: 5070 | C20: 47116 | D20: 20884 | E20: 68781 | F20: 38634 | G20: 180485 | H20: 700 | I20: 17906 | J20: 40671 | K20: 81137 | L20: 73386 | M20: 213800 | N20: 5770 | O20: 65022 | P20: 61555 | Q20: 149918 | R20: 112020 | S20: 394285
A21: ნაძალადევის რაიონი | B21: 0 | C21: 0 | D21: 12200 | E21: 39921 | F21: 46260 | G21: 98381 | H21: 765 | I21: 1130 | J21: 11244 | K21: 17837 | L21: 21083 | M21: 52059 | N21: 765 | O21: 1130 | P21: 23444 | Q21: 57758 | R21: 67343 | S21: 150440
A22: დიდუბის რაიონი | B22: 650 | C22: 0 | D22: 400 | E22: 11375 | F22: 8496 | G22: 20921 | H22: 0 | I22: 150 | J22: 6162 | K22: 4613 | L22: 7751 | M22: 18676 | N22: 650 | O22: 150 | P22: 6562 | Q22: 15988 | R22: 16247 | S22: 39597
A23: ჩუღურეთის რაიონი | B23: 0 | C23: 2374 | D23: 900 | E23: 4242 | F23: 10170 | G23: 17686 | H23: 0 | I23: 0 | J23: 21590 | K23: 13629 | L23: 10307 | M23: 45526 | N23: 0 | O23: 2374 | P23: 22490 | Q23: 17871 | R23: 20477 | S23: 63212
A24: ისნის რაიონი | B24: 493 | C24: 500 | D24: 2799 | E24: 10678 | F24: 9591 | G24: 24061 | H24: 697 | I24: 941 | J24: 14002 | K24: 12358 | L24: 16695 | M24: 44693 | N24: 1190 | O24: 1441 | P24: 16801 | Q24: 23036 | R24: 26286 | S24: 68754
A25: სამგორის რაიონი | B25: 877 | C25: 1995 | D25: 17903 | E25: 11042 | F25: 10202 | G25: 42019 | H25: 1100 | I25: 42927 | J25: 14840 | K25: 8696 | L25: 17456 | M25: 85019 | N25: 1977 | O25: 44922 | P25: 32743 | Q25: 19738 | R25: 27658 | S25: 127038
A26: ვაკის რაიონი | B26: 0 | C26: 250 | D26: 3783 | E26: 13893 | F26: 45632 | G26: 63558 | H26: 0 | I26: 1605 | J26: 2483 | K26: 35160 | L26: 34140 | M26: 73388 | N26: 0 | O26: 1855 | P26: 6266 | Q26: 49053 | R26: 79772 | S26: 136946
A27: საბურთალოს რაიონი | B27: 2170 | C27: 1364 | D27: 32058 | E27: 145038 | F27: 83995 | G27: 264625 | H27: 0 | I27: 30400 | J27: 3588 | K27: 23442 | L27: 34581 | M27: 92011 | N27: 2170 | O27: 31764 | P27: 35646 | Q27: 168480 | R27: 118576 | S27: 356636
A28: მთაწმინდის რაიონი | B28: 0 | C28: 0 | D28: 1000 | E28: 4316 | F28: 12927 | G28: 18243 | H28: 0 | I28: 550 | J28: 1384 | K28: 42363 | L28: 9822 | M28: 54119 | N28: 0 | O28: 550 | P28: 2384 | Q28: 46679 | R28: 22749 | S28: 72362
A29: კრწანისის რაიონი | B29: 610 | C29: 0 | D29: 1974 | E29: 1662 | F29: 5700 | G29: 9946 | H29: 0 | I29: 0 | J29: 3575 | K29: 7775 | L29: 335 | M29: 11685 | N29: 610 | O29: 0 | P29: 5549 | Q29: 9437 | R29: 6035 | S29: 21631
A30: სულ | B30: 9870 | C30: 53599 | D30: 93901 | E30: 310948 | F30: 271607 | G30: 739925 | H30: 3262 | I30: 95609 | J30: 119539 | K30: 247010 | L30: 225556 | M30: 690976 | N30: 13132 | O30: 149208 | P30: 213440 | Q30: 557958 | R30: 497163 | S30: 1430901
A32: კომისიის მიერ სრულად ან ნაწილობრივ დაკმაყოფილებულ მოთხოვნებზე გამოყოფილი თანხის წილი სქესისა და ასაკის მიხედვით (%)
B33: მამრობითი | H33: მდედრობითი | N33: სულ
A34: რაიონი | B34: 0_5 | C34: 6_17 | D34: 18_39 | E34: 40_59 | F34: 59-ზე მეტი | G34: სულ | H34: 0_5 | I34: 6_17 | J34: 18_39 | K34: 40_59 | L34: 59-ზე მეტი | M34: სულ | N34: 0_5 | O34: 6_17 | P34: 18_39 | Q34: 40_59 | R34: 59-ზე მეტი | S34: სულ
A35: გლდანის რაიონი | B35: 16.76166 | C35: 55.862271 | D35: 23.127768 | E35: 28.907373 | F35: 28.431313 | G35: 31.187449 | H35: 5.1622419 | I35: 22.718334 | J35: 22.082075 | K35: 26.583987 | L35: 21.26834 | M35: 23.06821 | N35: 13.171231 | O35: 39.851544 | P35: 22.426088 | Q35: 27.601792 | R35: 23.292203 | S35: 26.189169
A36: ნაძალადევის რაიონი | B36: 0 | C36: 0 | D36: 19.854105 | E36: 35.418051 | F36: 44.315213 | G36: 34.641747 | H36: 10.548814 | I36: 12.824878 | J36: 38.422675 | K36: 25.419949 | L36: 35.23922 | M36: 29.692942 | N36: 6.6800559 | O36: 11.237072 | P36: 25.844368 | Q36: 31.581938 | R36: 41.008604 | S36: 32.752766
A37: დიდუბის რაიონი | B37: 4.8228171 | C37: 0 | D37: 10.050251 | E37: 28.83586 | F37: 36.674437 | G37: 24.312889 | H37: 0 | I37: 4.6296296 | J37: 22.139187 | K37: 35.713733 | L37: 20.055668 | M37: 22.600038 | N37: 4.8228171 | O37: 1.627251 | P37: 20.626788 | Q37: 30.532421 | R37: 26.283933 | S37: 23.473786
A38: ჩუღურეთის რაიონი | B38: 0 | C38: 14.902699 | D38: 15.84507 | E38: 18.268325 | F38: 44.033327 | G38: 25.474363 | H38: 0 | I38: 0 | J38: 30.27074 | K38: 35.977828 | L38: 32.883175 | M38: 32.391559 | N38: 0 | O38: 14.902699 | P38: 29.206654 | Q38: 29.247727 | R38: 37.613583 | S38: 30.104447
A39: ისნის რაიონი | B39: 1.722709 | C39: 3.7786126 | D39: 29.975518 | E39: 32.422056 | F39: 30.623109 | G39: 20.84258 | H39: 16.419317 | I39: 12.581944 | J39: 17.896333 | K39: 20.699148 | L39: 39.264467 | M39: 23.255105 | N39: 3.6211248 | O39: 6.9575407 | P39: 19.184237 | Q39: 24.866871 | R39: 35.599148 | S39: 22.34977
A40: სამგორის რაიონი | B40: 9.5983364 | C40: 9.6507353 | D40: 20.286686 | E40: 41.652961 | F40: 17.975692 | G40: 20.871442 | H40: 13.475438 | I40: 83.410085 | J40: 21.217435 | K40: 15.831663 | L40: 41.308148 | M40: 37.493541 | N40: 11.427746 | O40: 62.273175 | P40: 20.698203 | Q40: 24.237015 | R40: 27.933867 | S40: 29.676275
A41: ვაკის რაიონი | B41: 0 | C41: 6.8306011 | D41: 23.031963 | E41: 36.369538 | F41: 19.979078 | G41: 21.781694 | H41: 0 | I41: 35.290237 | J41: 12.683251 | K41: 44.271689 | L41: 20.25587 | M41: 26.972212 | N41: 0 | O41: 22.599903 | P41: 17.404589 | Q41: 41.705263 | R41: 20.096605 | S41: 24.286247
A42: საბურთალოს რაიონი | B42: 14.690451 | C42: 20.824427 | D42: 43.786713 | E42: 29.595356 | F42: 12.198441 | G42: 20.784616 | H42: 0 | I42: 17.782657 | J42: 19.77535 | K42: 30.809761 | L42: 35.076047 | M42: 25.148426 | N42: 12.861927 | O42: 17.894901 | P42: 39.018019 | Q42: 29.758561 | R42: 15.063769 | S42: 21.758714
...

Sheet May 
B1: ქ.თბილისის მუნიციპალიტეტის მერია ჯანდაცვისა და სოციალური მომსახურების საქალაქო სამსახური
A2: კომისიის მიერ განხილული საქმეებზე მოთხოვნილი თანხა განმცხადებლების სქესისა და ასაკის მიხედვით
B3: მამრობითი | H3: მდედრობითი | N3: სულ
A4: რაიონი | B4: 0_5 | C4: 6_17 | D4: 18_39 | E4: 40_59 | F4: 59-ზე მეტი | G4: სულ | H4: 0_5 | I4: 6_17 | J4: 18_39 | K4: 40_59 | L4: 59-ზე მეტი | M4: სულ | N4: 0_5 | O4: 6_17 | P4: 18_39 | Q4: 40_59 | R4: 59-ზე მეტი | S4: სულ
A5: გლდანის რაიონი | B5: 18320.4 | C5: 44568.2 | D5: 99596 | E5: 227493.31 | F5: 306640.39 | G5: 696618.3 | H5: 19276.342 | I5: 30310 | J5: 186284.7 | K5: 414454.09 | L5: 342068.26 | M5: 992393.39 | N5: 37596.742 | O5: 74878.2 | P5: 285880.7 | Q5: 641947.4 | R5: 648708.65 | S5: 1689011.7
A6: ნაძალადევის რაიონი | B6: 4603.7614 | C6: 50830.454 | D6: 27316.11 | E6: 102410.78 | F6: 47508.955 | G6: 232670.06 | H6: 3159.824 | I6: 6575 | J6: 81366.8 | K6: 129465 | L6: 82586.6 | M6: 303153.22 | N6: 7763.5854 | O6: 57405.454 | P6: 108682.91 | Q6: 231875.78 | R6: 130095.56 | S6: 535823.29
A7: დიდუბის რაიონი | B7: 1200 | C7: 66009 | D7: 22700.792 | E7: 26804.21 | F7: 81761.331 | G7: 198475.33 | H7: 0 | I7: 21996 | J7: 47438.136 | K7: 66474.2 | L7: 75585.348 | M7: 211493.68 | N7: 1200 | O7: 88005 | P7: 70138.928 | Q7: 93278.41 | R7: 157346.68 | S7: 409969.02
A8: ჩუღურეთის რაიონი | B8: 5600 | C8: 2200 | D8: 13249.45 | E8: 61071.172 | F8: 96138.047 | G8: 178258.67 | H8: 0 | I8: 4500 | J8: 58058.44 | K8: 18048.588 | L8: 120924.57 | M8: 201531.6 | N8: 5600 | O8: 6700 | P8: 71307.89 | Q8: 79119.76 | R8: 217062.62 | S8: 379790.27
A9: ისნის რაიონი | B9: 8790 | C9: 27720.62 | D9: 11938.45 | E9: 146346 | F9: 46715.795 | G9: 241510.86 | H9: 1600 | I9: 15791.343 | J9: 27237 | K9: 44123.794 | L9: 106996.3 | M9: 195748.43 | N9: 10390 | O9: 43511.963 | P9: 39175.45 | Q9: 190469.79 | R9: 153712.09 | S9: 437259.3
A10: სამგორის რაიონი | B10: 16092 | C10: 20450.66 | D10: 27076.59 | E10: 97077.91 | F10: 60515.276 | G10: 221212.44 | H10: 3240 | I10: 9930 | J10: 20476 | K10: 190966.16 | L10: 78727.358 | M10: 303339.52 | N10: 19332 | O10: 30380.66 | P10: 47552.59 | Q10: 288044.07 | R10: 139242.63 | S10: 524551.95
A11: ვაკის რაიონი | B11: 8422 | C11: 40606.78 | D11: 8427 | E11: 91097 | F11: 103350.64 | G11: 251903.42 | H11: 2005.6488 | I11: 14000 | J11: 23643 | K11: 46443.7 | L11: 87074.044 | M11: 173166.39 | N11: 10427.649 | O11: 54606.78 | P11: 32070 | Q11: 137540.7 | R11: 190424.68 | S11: 425069.81
A12: საბურთალოს რაიონი | B12: 12654.191 | C12: 37284.469 | D12: 51660.7 | E12: 29574 | F12: 161285.3 | G12: 292458.66 | H12: 0 | I12: 279104 | J12: 125459.07 | K12: 122513.94 | L12: 136608.72 | M12: 663685.73 | N12: 12654.191 | O12: 316388.47 | P12: 177119.77 | Q12: 152087.94 | R12: 297894.02 | S12: 956144.39
A13: მთაწმინდის რაიონი | B13: 0 | C13: 2710 | D13: 15757 | E13: 12025 | F13: 53149.566 | G13: 83641.566 | H13: 3120 | I13: 11184 | J13: 3422 | K13: 147712 | L13: 41364.998 | M13: 206803 | N13: 3120 | O13: 13894 | P13: 19179 | Q13: 159737 | R13: 94514.564 | S13: 290444.56
A14: კრწანისის რაიონი | B14: 10090 | C14: 0 | D14: 6568 | E14: 9397.16 | F14: 21852.63 | G14: 47907.79 | H14: 1500 | I14: 40547 | J14: 9354.446 | K14: 19255.83 | L14: 16992.441 | M14: 87649.717 | N14: 11590 | O14: 40547 | P14: 15922.446 | Q14: 28652.99 | R14: 38845.071 | S14: 135557.51
A15: სულ | B15: 85772.352 | C15: 292380.18 | D15: 284290.09 | E15: 803296.55 | F15: 978917.93 | G15: 2444657.1 | H15: 33901.815 | I15: 433937.34 | J15: 582739.59 | K15: 1199457.3 | L15: 1088928.6 | M15: 3338964.7 | N15: 119674.17 | O15: 726317.53 | P15: 867029.68 | Q15: 2002753.8 | R15: 2067846.6 | S15: 5783621.8
A17: კომისიის მიერ განხილული საქმეებზე გამოყოფილი თანხა განმცხადებლების სქესისა და ასაკის მიხედვით
B18: მამრობითი | H18: მდედრობითი | N18: სულ
A19: რაიონი | B19: 0_5 | C19: 6_17 | D19: 18_39 | E19: 40_59 | F19: 59-ზე მეტი | G19: სულ | H19: 0_5 | I19: 6_17 | J19: 18_39 | K19: 40_59 | L19: 59-ზე მეტი | M19: სულ | N19: 0_5 | O19: 6_17 | P19: 18_39 | Q19: 40_59 | R19: 59-ზე მეტი | S19: სულ
A20: გლდანის რაიონი | B20: 700 | C20: 12221 | D20: 25859 | E20: 62015 | F20: 99695 | G20: 200490 | H20: 1550 | I20: 3281 | J20: 27700 | K20: 129773 | L20: 92270 | M20: 254574 | N20: 2250 | O20: 15502 | P20: 53559 | Q20: 191788 | R20: 191965 | S20: 455064
A21: ნაძალადევის რაიონი | B21: 945 | C21: 12715 | D21: 6973 | E21: 34050 | F21: 15801 | G21: 70484 | H21: 737 | I21: 974 | J21: 11106 | K21: 29406 | L21: 27289 | M21: 69512 | N21: 1682 | O21: 13689 | P21: 18079 | Q21: 63456 | R21: 43090 | S21: 139996
A22: დიდუბის რაიონი | B22: 250 | C22: 15742 | D22: 7684 | E22: 4360 | F22: 18123 | G22: 46159 | H22: 0 | I22: 2426 | J22: 6169 | K22: 26246 | L22: 25270 | M22: 60111 | N22: 250 | O22: 18168 | P22: 13853 | Q22: 30606 | R22: 43393 | S22: 106270
A23: ჩუღურეთის რაიონი | B23: 0 | C23: 0 | D23: 4809 | E23: 19443 | F23: 37273 | G23: 61525 | H23: 0 | I23: 950 | J23: 17841 | K23: 8705 | L23: 48595 | M23: 76091 | N23: 0 | O23: 950 | P23: 22650 | Q23: 28148 | R23: 85868 | S23: 137616
A24: ისნის რაიონი | B24: 912 | C24: 7828 | D24: 2856 | E24: 35983 | F24: 13871 | G24: 61450 | H24: 0 | I24: 2000 | J24: 9699 | K24: 19325 | L24: 23501 | M24: 54525 | N24: 912 | O24: 9828 | P24: 12555 | Q24: 55308 | R24: 37372 | S24: 115975
A25: სამგორის რაიონი | B25: 3709 | C25: 3628 | D25: 6972 | E25: 36965 | F25: 26708 | G25: 77982 | H25: 0 | I25: 380 | J25: 2853 | K25: 49303 | L25: 24523 | M25: 77059 | N25: 3709 | O25: 4008 | P25: 9825 | Q25: 86268 | R25: 51231 | S25: 155041
A26: ვაკის რაიონი | B26: 594 | C26: 1020 | D26: 2088 | E26: 31541 | F26: 38913 | G26: 74156 | H26: 300 | I26: 0 | J26: 6483 | K26: 13124 | L26: 15789 | M26: 35696 | N26: 894 | O26: 1020 | P26: 8571 | Q26: 44665 | R26: 54702 | S26: 109852
A27: საბურთალოს რაიონი | B27: 300 | C27: 5342 | D27: 15797 | E27: 11688 | F27: 77259 | G27: 110386 | H27: 0 | I27: 44100 | J27: 51122 | K27: 20503 | L27: 43889 | M27: 159614 | N27: 300 | O27: 49442 | P27: 66919 | Q27: 32191 | R27: 121148 | S27: 270000
A28: მთაწმინდის რაიონი | B28: 0 | C28: 0 | D28: 3000 | E28: 3704 | F28: 20752 | G28: 27456 | H28: 0 | I28: 2914 | J28: 684 | K28: 33594 | L28: 11469 | M28: 48661 | N28: 0 | O28: 2914 | P28: 3684 | Q28: 37298 | R28: 32221 | S28: 76117
A29: კრწანისის რაიონი | B29: 4867 | C29: 0 | D29: 3100 | E29: 5394 | F29: 14559 | G29: 27920 | H29: 0 | I29: 10000 | J29: 1150 | K29: 7785 | L29: 6744 | M29: 25679 | N29: 4867 | O29: 10000 | P29: 4250 | Q29: 13179 | R29: 21303 | S29: 53599
A30: სულ | B30: 12277 | C30: 58496 | D30: 79138 | E30: 245143 | F30: 362954 | G30: 758008 | H30: 2587 | I30: 67025 | J30: 134807 | K30: 337764 | L30: 319339 | M30: 861522 | N30: 14864 | O30: 125521 | P30: 213945 | Q30: 582907 | R30: 682293 | S30: 1619530
A32: კომისიის მიერ სრულად ან ნაწილობრივ დაკმაყოფილებულ მოთხოვნებზე გამოყოფილი თანხის წილი სქესისა და ასაკის მიხედვით (%)
B33: მამრობითი | H33: მდედრობითი | N33: სულ
A34: რაიონი | B34: 0_5 | C34: 6_17 | D34: 18_39 | E34: 40_59 | F34: 59-ზე მეტი | G34: სულ | H34: 0_5 | I34: 6_17 | J34: 18_39 | K34: 40_59 | L34: 59-ზე მეტი | M34: სულ | N34: 0_5 | O34: 6_17 | P34: 18_39 | Q34: 40_59 | R34: 59-ზე მეტი | S34: სულ
A35: გლდანის რაიონი | B35: =IFERROR(('May '!B20/'May '!B5)*100,0) -> 3.8208773 | C35: =IFERROR(('May '!C20/'May '!C5)*100,0) -> 27.420897 | D35: =IFERROR(('May '!D20/'May '!D5)*100,0) -> 25.963894 | E35: =IFERROR(('May '!E20/'May '!E5)*100,0) -> 27.260142 | F35: =IFERROR(('May '!F20/'May '!F5)*100,0) -> 32.512024 | G35: =IFERROR(('May '!G20/'May '!G5)*100,0) -> 28.780467 | H35: =IFERROR(('May '!H20/'May '!H5)*100,0) -> 8.0409445 | I35: =IFERROR(('May '!I20/'May '!I5)*100,0) -> 10.82481 | ... S35: =IFERROR(('May '!S20/'May '!S5)*100,0) -> 26.94262
A36: ნაძალადევის რაიონი | B36: =IFERROR(('May '!B21/'May '!B6)*100,0) -> 20.526694 | C36: =IFERROR(('May '!C21/'May '!C6)*100,0) -> 25.014531 | D36: =IFERROR(('May '!D21/'May '!D6)*100,0) -> 25.527061 | E36: =IFERROR(('May '!E21/'May '!E6)*100,0) -> 33.248452 | F36: =IFERROR(('May '!F21/'May '!F6)*100,0) -> 33.258993 | G36: =IFERROR(('May '!G21/'May '!G6)*100,0) -> 30.29354 | H36: =IFERROR(('May '!H21/'May '!H6)*100,0) -> 23.324084 | I36: =IFERROR(('May '!I21/'May '!I6)*100,0) -> 14.813688 | ... S36: =IFERROR(('May '!S21/'May '!S6)*100,0) -> 26.12727
A37: დიდუბის რაიონი | B37: =IFERROR(('May '!B22/'May '!B7)*100,0) -> 20.833333 | C37: =IFERROR(('May '!C22/'May '!C7)*100,0) -> 23.848263 | D37: =IFERROR(('May '!D22/'May '!D7)*100,0) -> 33.849039 | E37: =IFERROR(('May '!E22/'May '!E7)*100,0) -> 16.266101 | F37: =IFERROR(('May '!F22/'May '!F7)*100,0) -> 22.165735 | G37: =IFERROR(('May '!G22/'May '!G7)*100,0) -> 23.256794 | H37: =IFERROR(('May '!H22/'May '!H7)*100,0) -> 0 | I37: =IFERROR(('May '!I22/'May '!I7)*100,0) -> 11.029278 | ... S37: =IFERROR(('May '!S22/'May '!S7)*100,0) -> 25.921471
A38: ჩუღურეთის რაიონი | B38: =IFERROR(('May '!B23/'May '!B8)*100,0) -> 0 | C38: =IFERROR(('May '!C23/'May '!C8)*100,0) -> 0 | D38: =IFERROR(('May '!D23/'May '!D8)*100,0) -> 36.295846 | E38: =IFERROR(('May '!E23/'May '!E8)*100,0) -> 31.836625 | F38: =IFERROR(('May '!F23/'May '!F8)*100,0) -> 38.77029 | G38: =IFERROR(('May '!G23/'May '!G8)*100,0) -> 34.51445 | H38: =IFERROR(('May '!H23/'May '!H8)*100,0) -> 0 | I38: =IFERROR(('May '!I23/'May '!I8)*100,0) -> 21.111111 | ... S38: =IFERROR(('May '!S23/'May '!S8)*100,0) -> 36.234736
A39: ისნის რაიონი | B39: =IFERROR(('May '!B24/'May '!B9)*100,0) -> 10.375427 | C39: =IFERROR(('May '!C24/'May '!C9)*100,0) -> 28.238907 | D39: =IFERROR(('May '!D24/'May '!D9)*100,0) -> 23.922704 | E39: =IFERROR(('May '!E24/'May '!E9)*100,0) -> 24.587621 | F39: =IFERROR(('May '!F24/'May '!F9)*100,0) -> 29.692313 | G39: =IFERROR(('May '!G24/'May '!G9)*100,0) -> 25.44399 | H39: =IFERROR(('May '!H24/'May '!H9)*100,0) -> 0 | I39: =IFERROR(('May '!I24/'May '!I9)*100,0) -> 12.665167 | ... S39: =IFERROR(('May '!S24/'May '!S9)*100,0) -> 26.523164
A40: სამგორის რაიონი | B40: =IFERROR(('May '!B25/'May '!B10)*100,0) -> 23.04872 | C40: =IFERROR(('May '!C25/'May '!C10)*100,0) -> 17.740259 | D40: =IFERROR(('May '!D25/'May '!D10)*100,0) -> 25.74918 | E40: =IFERROR(('May '!E25/'May '!E10)*100,0) -> 38.077664 | F40: =IFERROR(('May '!F25/'May '!F10)*100,0) -> 44.134311 | G40: =IFERROR(('May '!G25/'May '!G10)*100,0) -> 35.252087 | H40: =IFERROR(('May '!H25/'May '!H10)*100,0) -> 0 | I40: =IFERROR(('May '!I25/'May '!I10)*100,0) -> 3.8267875 | ... S40: =IFERROR(('May '!S25/'May '!S10)*100,0) -> 29.556844
A41: ვაკის რაიონი | B41: =IFERROR(('May '!B26/'May '!B11)*100,0) -> 7.0529565 | C41: =IFERROR(('May '!C26/'May '!C11)*100,0) -> 2.5118958 | D41: =IFERROR(('May '!D26/'May '!D11)*100,0) -> 24.777501 | E41: =IFERROR(('May '!E26/'May '!E11)*100,0) -> 34.623533 | F41: =IFERROR(('May '!F26/'May '!F11)*100,0) -> 37.651438 | G41: =IFERROR(('May '!G26/'May '!G11)*100,0) -> 29.438267 | H41: =IFERROR(('May '!H26/'May '!H11)*100,0) -> 14.957753 | I41: =IFERROR(('May '!I26/'May '!I11)*100,0) -> 0 | ... S41: =IFERROR(('May '!S26/'May '!S11)*100,0) -> 25.843285
A42: საბურთალოს რაიონი | B42: =IFERROR(('May '!B27/'May '!B12)*100,0) -> 2.3707561 | C42: =IFERROR(('May '!C27/'May '!C12)*100,0) -> 14.327682 | D42: =IFERROR(('May '!D27/'May '!D12)*100,0) -> 30.57837 | E42: =IFERROR(('May '!E27/'May '!E12)*100,0) -> 39.521201 | F42: =IFERROR(('May '!F27/'May '!F12)*100,0) -> 47.90207 | G42: =IFERROR(('May '!G27/'May '!G12)*100,0) -> 37.744137 | H42: =IFERROR(('May '!H27/'May '!H12)*100,0) -> 0 | I42: =IFERROR(('May '!I27/'May '!I12)*100,0) -> 15.800562 | ... S42: =IFERROR(('May '!S27/'May '!S12)*100,0) -> 28.238413
...

Sheet June 
B1: ქ.თბილისის მუნიციპალიტეტის მერია ჯანდაცვისა და სოციალური მომსახურების საქალაქო სამსახური
A2: კომისიის მიერ განხილული საქმეებზე მოთხოვნილი თანხა განმცხადებლების სქესისა და ასაკის მიხედვით
B3: მამრობითი | H3: მდედრობითი | N3: სულ
A4: რაიონი | B4: 0_5 | C4: 6_17 | D4: 18_39 | E4: 40_59 | F4: 59-ზე მეტი | G4: სულ | H4: 0_5 | I4: 6_17 | J4: 18_39 | K4: 40_59 | L4: 59-ზე მეტი | M4: სულ | N4: 0_5 | O4: 6_17 | P4: 18_39 | Q4: 40_59 | R4: 59-ზე მეტი | S4: სულ
A5: გლდანის რაიონი | B5: 26522 | C5: 71419.453 | D5: 151320.89 | E5: 209627.13 | F5: 339756.45 | G5: 798645.91 | H5: 17140 | I5: 55516.1 | J5: 148438 | K5: 250224.53 | L5: 354795.35 | M5: 826113.98 | N5: 43662 | O5: 126935.55 | P5: 299758.89 | Q5: 459851.66 | R5: 694551.79 | S5: 1624759.9
A6: ნაძალადევის რაიონი | B6: 10210 | C6: 44893.29 | D6: 20923.6 | E6: 48054.27 | F6: 133817.5 | G6: 257898.66 | H6: 2034 | I6: 11185.03 | J6: 15084.48 | K6: 62941.64 | L6: 106043.51 | M6: 197288.66 | N6: 12244 | O6: 56078.32 | P6: 36008.08 | Q6: 110995.91 | R6: 239861.01 | S6: 455187.32
A7: დიდუბის რაიონი | B7: 6942 | C7: 5565 | D7: 11434.952 | E7: 21531.75 | F7: 31938.109 | G7: 77411.811 | H7: 2154 | I7: 2072 | J7: 6840 | K7: 21290.95 | L7: 68660.02 | M7: 101016.97 | N7: 9096 | O7: 7637 | P7: 18274.952 | Q7: 42822.7 | R7: 100598.13 | S7: 178428.78
A8: ჩუღურეთის რაიონი | B8: 88700 | C8: 42969 | D8: 12354.948 | E8: 21459.821 | F8: 31432.915 | G8: 196916.68 | H8: 1680 | I8: 8128 | J8: 200209 | K8: 18317 | L8: 74199.162 | M8: 302533.16 | N8: 90380 | O8: 51097 | P8: 212563.95 | Q8: 39776.821 | R8: 105632.08 | S8: 499449.85
A9: ისნის რაიონი | B9: 3357 | C9: 1245 | D9: 10512.06 | E9: 27687.206 | F9: 29462.684 | G9: 72263.95 | H9: 3791 | I9: 128336.26 | J9: 8233.94 | K9: 68472.1 | L9: 39182.131 | M9: 248015.43 | N9: 7148 | O9: 129581.26 | P9: 18746 | Q9: 96159.306 | R9: 68644.815 | S9: 320279.38
A10: სამგორის რაიონი | B10: 10595 | C10: 21516 | D10: 23015.96 | E10: 82948 | F10: 127521.56 | G10: 265596.52 | H10: 177553.94 | I10: 13887.43 | J10: 19107 | K10: 88047.868 | L10: 109695.42 | M10: 408291.65 | N10: 188148.94 | O10: 35403.43 | P10: 42122.96 | Q10: 170995.87 | R10: 237216.98 | S10: 673888.17
A11: ვაკის რაიონი | B11: 4860 | C11: 8168.0396 | D11: 93192.74 | E11: 43261.288 | F11: 121454.79 | G11: 270936.86 | H11: 2180 | I11: 4729 | J11: 45380.75 | K11: 82513.9 | L11: 86151.574 | M11: 220955.22 | N11: 7040 | O11: 12897.04 | P11: 138573.49 | Q11: 125775.19 | R11: 207606.36 | S11: 491892.08
A12: საბურთალოს რაიონი | B12: 7849.3908 | C12: 31235 | D12: 80117.6 | E12: 260600.81 | F12: 161444.16 | G12: 541246.96 | H12: 2700 | I12: 74137 | J12: 76203.851 | K12: 168201.91 | L12: 134066.63 | M12: 455309.39 | N12: 10549.391 | O12: 105372 | P12: 156321.45 | Q12: 428802.72 | R12: 295510.8 | S12: 996556.35
A13: მთაწმინდის რაიონი | B13: 0 | C13: 0 | D13: 8111 | E13: 4067.96 | F13: 44185.317 | G13: 56364.277 | H13: 1680 | I13: 1150 | J13: 11294 | K13: 14353.8 | L13: 46176.602 | M13: 74654.402 | N13: 1680 | O13: 1150 | P13: 19405 | Q13: 18421.76 | R13: 90361.919 | S13: 131018.68
A14: კრწანისის რაიონი | B14: 2400 | C14: 9700 | D14: 3405 | E14: 7969 | F14: 18258 | G14: 41732 | H14: 0 | I14: 0 | J14: 6600.527 | K14: 44373.9 | L14: 16810.14 | M14: 67784.567 | N14: 2400 | O14: 9700 | P14: 10005.527 | Q14: 52342.9 | R14: 35068.14 | S14: 109516.57
A15: სულ | B15: 161435.39 | C15: 236710.78 | D15: 414388.75 | E15: 727207.23 | F15: 1039271.5 | G15: 2579013.6 | H15: 210912.94 | I15: 299140.82 | J15: 537391.55 | K15: 818737.6 | L15: 1035780.5 | M15: 2901963.4 | N15: 372348.33 | O15: 535851.61 | P15: 951780.29 | Q15: 1545944.8 | R15: 2075052 | S15: 5480977.1
A17: კომისიის მიერ განხილული საქმეებზე გამოყოფილი თანხა განმცხადებლების სქესისა და ასაკის მიხედვით
B18: მამრობითი | H18: მდედრობითი | N18: სულ
A19: რაიონი | B19: 0_5 | C19: 6_17 | D19: 18_39 | E19: 40_59 | F19: 59-ზე მეტი | G19: სულ | H19: 0_5 | I19: 6_17 | J19: 18_39 | K19: 40_59 | L19: 59-ზე მეტი | M19: სულ | N19: 0_5 | O19: 6_17 | P19: 18_39 | Q19: 40_59 | R19: 59-ზე მეტი | S19: სულ
A20: გლდანის რაიონი | B20: 1400 | C20: 12475 | D20: 40166 | E20: 78008 | F20: 116757 | G20: 248806 | H20: 2050 | I20: 21741 | J20: 31856 | K20: 60596 | L20: 116490 | M20: 232733 | N20: 3450 | O20: 34216 | P20: 72022 | Q20: 138604 | R20: 233247 | S20: 481539
A21: ნაძალადევის რაიონი | B21: 0 | C21: 21400 | D21: 4307 | E21: 16000 | F21: 42629 | G21: 84336 | H21: 300 | I21: 1800 | J21: 6945 | K21: 21887 | L21: 53627 | M21: 84559 | N21: 300 | O21: 23200 | P21: 11252 | Q21: 37887 | R21: 96256 | S21: 168895
A22: დიდუბის რაიონი | B22: 400 | C22: 150 | D22: 2688 | E22: 9184 | F22: 11134 | G22: 23556 | H22: 300 | I22: 300 | J22: 3775 | K22: 2757 | L22: 19895 | M22: 27027 | N22: 700 | O22: 450 | P22: 6463 | Q22: 11941 | R22: 31029 | S22: 50583
