Workbook

Sheet January
B1: ქ.თბილისის მუნიციპალიტეტის მერია ჯანდაცვისა და სოციალური მომსახურების საქალაქო სამსახური
A2: კომისიის მიერ განხილული საქმეებზე მოთხოვნილი თანხა განმცხადებლების სქესისა და ასაკის მიხედვით
B3: მამრობითი | H3: მდედრობითი | N3: სულ
A4: რაიონი | B4: 0_5 | C4: 6_17 | D4: 18_39 | E4: 40_59 | F4: 59-ზე მეტი | G4: სულ | H4: 0_5 | I4: 6_17 | J4: 18_39 | K4: 40_59 | L4: 59-ზე მეტი | M4: სულ | N4: 0_5 | O4: 6_17 | P4: 18_39 | Q4: 40_59 | R4: 59-ზე მეტი | S4: სულ
A5: გლდანის რაიონი | B5: 5189 | C5: 16171.652 | D5: 16967.854 | E5: 37029.61 | F5: 66020.678 | G5: 141378.79 | H5: 2032.1 | I5: 6547.27 | J5: 23488.5 | K5: 49568.79 | L5: 51665.23 | M5: 133301.89 | N5: 7221.1 | O5: 22718.922 | P5: 40456.354 | Q5: 86598.4 | R5: 117685.91 | S5: 274680.68
A6: ნაძალადევის რაიონი | B6: 9031 | C6: 6837.7884 | D6: 28426.06 | E6: 45998.032 | F6: 40271.4 | G6: 130564.28 | H6: 4357 | I6: 2381 | J6: 187298.01 | K6: 59944.69 | L6: 47973.983 | M6: 301954.68 | N6: 13388 | O6: 9218.7884 | P6: 215724.07 | Q6: 105942.72 | R6: 88245.383 | S6: 432518.96
A7: დიდუბის რაიონი | B7: 1580 | C7: 13268 | D7: 6105 | E7: 41713.04 | F7: 12227.75 | G7: 74893.79 | H7: 1076.9 | I7: 41580 | J7: 84369 | K7: 10511.58 | L7: 31861.39 | M7: 169398.87 | N7: 2656.9 | O7: 54848 | P7: 90474 | Q7: 52224.62 | R7: 44089.14 | S7: 244292.66
A8: ჩუღურეთის რაიონი | B8: 6480 | C8: 4450.63 | D8: 26741 | E8: 20975 | F8: 20047 | G8: 78693.63 | H8: 1078 | I8: 20330 | J8: 17457.97 | K8: 61662.14 | L8: 33610.73 | M8: 134138.84 | N8: 7558 | O8: 24780.63 | P8: 44198.97 | Q8: 82637.14 | R8: 53657.73 | S8: 212832.47
A9: ისნის რაიონი | B9: 7215 | C9: 155179 | D9: 22522 | E9: 18727.36 | F9: 34461.94 | G9: 238105.3 | H9: 0 | I9: 9864 | J9: 30282.2 | K9: 24252.57 | L9: 45918.738 | M9: 110317.51 | N9: 7215 | O9: 165043 | P9: 52804.2 | Q9: 42979.93 | R9: 80380.678 | S9: 348422.81
A10: სამგორის რაიონი | B10: 6837.2224 | C10: 10440.1 | D10: 34788.05 | E10: 60921.78 | F10: 32869.18 | G10: 145856.33 | H10: 1017 | I10: 12678 | J10: 43941.07 | K10: 54654.961 | L10: 41673.07 | M10: 153964.1 | N10: 7854.2224 | O10: 23118.1 | P10: 78729.12 | Q10: 115576.74 | R10: 74542.25 | S10: 299820.43
A11: ვაკის რაიონი | B11: 9744.3936 | C11: 2533 | D11: 21177.77 | E11: 4445.32 | F11: 94533.301 | G11: 132433.78 | H11: 3700 | I11: 4267 | J11: 16610 | K11: 47463.459 | L11: 32831.109 | M11: 104871.57 | N11: 13444.394 | O11: 6800 | P11: 37787.77 | Q11: 51908.779 | R11: 127364.41 | S11: 237305.35
A12: საბურთალოს რაიონი | B12: 12092.73 | C12: 126643.81 | D12: 35150.682 | E12: 72620.45 | F12: 54790.759 | G12: 301298.43 | H12: 65169 | I12: 6827 | J12: 43251.2 | K12: 86247.634 | L12: 57817.306 | M12: 259312.14 | N12: 77261.73 | O12: 133470.81 | P12: 78401.882 | Q12: 158868.08 | R12: 112608.07 | S12: 560610.57
A13: მთაწმინდის რაიონი | B13: 3600 | C13: 2520 | D13: 0 | E13: 83895 | F13: 22314.68 | G13: 112329.68 | H13: 3532.992 | I13: 2158 | J13: 2287 | K13: 6166 | L13: 33156.021 | M13: 47300.013 | N13: 7132.992 | O13: 4678 | P13: 2287 | Q13: 90061 | R13: 55470.701 | S13: 159629.69
A14: კრწანისის რაიონი | B14: 1200 | C14: 0 | D14: 2871.5 | E14: 40478.16 | F14: 16569.308 | G14: 61118.968 | H14: 0 | I14: 1200 | J14: 2704.299 | K14: 10680.24 | L14: 4851.7 | M14: 19436.239 | N14: 1200 | O14: 1200 | P14: 5575.799 | Q14: 51158.4 | R14: 21421.008 | S14: 80555.207
A15: სულ | B15: 62969.346 | C15: 338043.98 | D15: 194749.92 | E15: 426803.75 | F15: 394106 | G15: 1416673 | H15: 81962.992 | I15: 107832.27 | J15: 451689.25 | K15: 411152.06 | L15: 381359.28 | M15: 1433995.8 | N15: 144932.34 | O15: 445876.25 | P15: 646439.16 | Q15: 837955.82 | R15: 775465.27 | S15: 2850668.8
A17: კომისიის მიერ განხილული საქმეებზე გამოყოფილი თანხა განმცხადებლების სქესისა და ასაკის მიხედვით
B18: მამრობითი | H18: მდედრობითი | N18: სულ
A19: რაიონი | B19: 0_5 | C19: 6_17 | D19: 18_39 | E19: 40_59 | F19: 59-ზე მეტი | G19: სულ | H19: 0_5 | I19: 6_17 | J19: 18_39 | K19: 40_59 | L19: 59-ზე მეტი | M19: სულ | N19: 0_5 | O19: 6_17 | P19: 18_39 | Q19: 40_59 | R19: 59-ზე მეტი | S19: სულ
A20: გლდანის რაიონი | B20: 1405 | C20: 500 | D20: 4804 | E20: 14067 | F20: 29995 | G20: 50771 | H20: 150 | I20: 600 | J20: 8556 | K20: 9358 | L20: 12248 | M20: 30912 | N20: 1555 | O20: 1100 | P20: 13360 | Q20: 23425 | R20: 42243 | S20: 81683
A21: ნაძალადევის რაიონი | B21: 300 | C21: 1058 | D21: 8697 | E21: 14118 | F21: 13407 | G21: 37580 | H21: 665 | I21: 200 | J21: 32123 | K21: 17507 | L21: 14642 | M21: 65137 | N21: 965 | O21: 1258 | P21: 40820 | Q21: 31625 | R21: 28049 | S21: 102717
A22: დიდუბის რაიონი | B22: 474 | C22: 1114 | D22: 1946 | E22: 14466 | F22: 3639 | G22: 21639 | H22: 150 | I22: 14000 | J22: 14155 | K22: 4535 | L22: 5405 | M22: 38245 | N22: 624 | O22: 15114 | P22: 16101 | Q22: 19001 | R22: 9044 | S22: 59884
A23: ჩუღურეთის რაიონი | B23: 0 | C23: 1167 | D23: 10000 | E23: 4801 | F23: 7338 | G23: 23306 | H23: 200 | I23: 10200 | J23: 7662 | K23: 18918 | L23: 7929 | M23: 44909 | N23: 200 | O23: 11367 | P23: 17662 | Q23: 23719 | R23: 15267 | S23: 68215
A24: ისნის რაიონი | B24: 0 | C24: 15960 | D24: 4412 | E24: 6624 | F24: 15757 | G24: 42753 | H24: 0 | I24: 7246 | J24: 7195 | K24: 4859 | L24: 7851 | M24: 27151 | N24: 0 | O24: 23206 | P24: 11607 | Q24: 11483 | R24: 23608 | S24: 69904
A25: სამგორის რაიონი | B25: 400 | C25: 959 | D25: 11598 | E25: 21326 | F25: 10968 | G25: 45251 | H25: 150 | I25: 3050 | J25: 17875 | K25: 10641 | L25: 11487 | M25: 43203 | N25: 550 | O25: 4009 | P25: 29473 | Q25: 31967 | R25: 22455 | S25: 88454
A26: ვაკის რაიონი | B26: 2703 | C26: 200 | D26: 4618 | E26: 1774 | F26: 47918 | G26: 57213 | H26: 600 | I26: 250 | J26: 5553 | K26: 16607 | L26: 10403 | M26: 33413 | N26: 3303 | O26: 450 | P26: 10171 | Q26: 18381 | R26: 58321 | S26: 90626
A27: საბურთალოს რაიონი | B27: 826 | C27: 65382 | D27: 8082 | E27: 15808 | F27: 24386 | G27: 114484 | H27: 15250 | I27: 1590 | J27: 13177 | K27: 25078 | L27: 20574 | M27: 75669 | N27: 16076 | O27: 66972 | P27: 21259 | Q27: 40886 | R27: 44960 | S27: 190153
A28: მთაწმინდის რაიონი | B28: 250 | C28: 0 | D28: 0 | E28: 29359 | F28: 8864 | G28: 38473 | H28: 200 | I28: 400 | J28: 0 | K28: 4860 | L28: 8192 | M28: 13652 | N28: 450 | O28: 400 | P28: 0 | Q28: 34219 | R28: 17056 | S28: 52125
A29: კრწანისის რაიონი | B29: 0 | C29: 0 | D29: 687 | E29: 13209 | F29: 2847 | G29: 16743 | H29: 0 | I29: 480 | J29: 463 | K29: 3176 | L29: 821 | M29: 4940 | N29: 0 | O29: 480 | P29: 1150 | Q29: 16385 | R29: 3668 | S29: 21683
A30: სულ | B30: 6358 | C30: 86340 | D30: 54844 | E30: 135552 | F30: 165119 | G30: 448213 | H30: 17365 | I30: 38016 | J30: 106759 | K30: 115539 | L30: 99552 | M30: 377231 | N30: 23723 | O30: 124356 | P30: 161603 | Q30: 251091 | R30: 264671 | S30: 825444
A32: კომისიის მიერ სრულად ან ნაწილობრივ დაკმაყოფილებულ მოთხოვნებზე გამოყოფილი თანხის წილი სქესისა და ასაკის მიხედვით (%)
B33: მამრობითი | H33: მდედრობითი | N33: სულ
A34: რაიონი | B34: 0_5 | C34: 6_17 | D34: 18_39 | E34: 40_59 | F34: 59-ზე მეტი | G34: სულ | H34: 0_5 | I34: 6_17 | J34: 18_39 | K34: 40_59 | L34: 59-ზე მეტი | M34: სულ | N34: 0_5 | O34: 6_17 | P34: 18_39 | Q34: 40_59 | R34: 59-ზე მეტი | S34: სულ
A35: გლდანის რაიონი | B35: 27.076508 | C35: 3.0918301 | D35: 28.312361 | E35: 37.988518 | F35: 45.432736 | G35: 35.911326 | H35: 7.3815265 | I35: 9.1641249 | J35: 36.426336 | K35: 18.878815 | L35: 23.706466 | M35: 23.189469 | N35: 21.534115 | O35: 4.841779 | P35: 33.023243 | Q35: 27.050153 | R35: 35.894697 | S35: 29.737439
A36: ნაძალადევის რაიონი | B36: 3.3218913 | C36: 15.472839 | D36: 30.595165 | E36: 30.692617 | F36: 33.291616 | G36: 28.782757 | H36: 15.262796 | I36: 8.399832 | J36: 17.150743 | K36: 29.205256 | L36: 30.52071 | M36: 21.57178 | N36: 7.2079474 | O36: 13.646045 | P36: 18.922321 | Q36: 29.851036 | R36: 31.785232 | S36: 23.748554
A37: დიდუბის რაიონი | B37: 30 | C37: 8.3961411 | D37: 31.875512 | E37: 34.679803 | F37: 29.760177 | G37: 28.892916 | H37: 13.92887 | I37: 33.670034 | J37: 16.777489 | K37: 43.142896 | L37: 16.964106 | M37: 22.576892 | N37: 23.486018 | O37: 27.556155 | P37: 17.796273 | Q37: 36.383223 | R37: 20.512988 | S37: 24.513221
A38: ჩუღურეთის რაიონი | B38: 0 | C38: 26.221007 | D38: 37.395759 | E38: 22.889154 | F38: 36.603981 | G38: 29.61612 | H38: 18.552876 | I38: 50.172159 | J38: 43.888264 | K38: 30.68009 | L38: 23.590681 | M38: 33.47949 | N38: 2.6462027 | O38: 45.870505 | P38: 39.960207 | Q38: 28.702591 | R38: 28.452564 | S38: 32.051031
A39: ისნის რაიონი | B39: 0 | C39: 10.284897 | D39: 19.589734 | E39: 35.370709 | F39: 45.722905 | G39: 17.955501 | H39: 0 | I39: 73.459043 | J39: 23.759833 | K39: 20.03499 | L39: 17.097595 | M39: 24.611687 | N39: 0 | O39: 14.060578 | P39: 21.981206 | Q39: 26.717121 | R39: 29.370242 | S39: 20.06298
A40: სამგორის რაიონი | B40: 5.8503289 | C40: 9.1857358 | D40: 33.339035 | E40: 35.005543 | F40: 33.368645 | G40: 31.024364 | H40: 14.749263 | I40: 24.057422 | J40: 40.679483 | K40: 19.469413 | L40: 27.564564 | M40: 28.060437 | N40: 7.0026028 | O40: 17.341391 | P40: 37.435958 | Q40: 27.658679 | R40: 30.123856 | S40: 29.502325
A41: ვაკის რაიონი | B41: 27.739027 | C41: 7.8957758 | D41: 21.805884 | E41: 39.907138 | F41: 50.689016 | G41: 43.201212 | H41: 16.216216 | I41: 5.8589173 | J41: 33.431668 | K41: 34.989022 | L41: 31.686411 | M41: 31.860876 | N41: 24.567862 | O41: 6.6176471 | P41: 26.916116 | Q41: 35.410195 | R41: 45.790657 | S41: 38.189615
A42: საბურთალოს რაიონი | B42: 6.8305503 | C42: 51.626684 | D42: 22.992442 | E42: 21.767973 | F42: 44.507505 | G42: 37.996879 | H42: 23.400697 | I42: 23.289878 | J42: 30.466207 | K42: 29.07674 | L42: 35.584501 | M42: 29.180662 | N42: 20.807197 | O42: 50.177263 | P42: 27.115421 | Q42: 25.735817 | R42: 39.926092 | S42: 33.918911
A43: მთაწმინდის რაიონი | B43: 6.9444444 | C43: 0 | D43: 0 | E43: 34.994934 | F43: 39.72273 | G43: 34.250075 | H43: 5.6609242 | I43: 18.535681 | J43: 0 | K43: 78.819332 | L43: 24.707428 | M43: 28.862571 | N43: 6.3087131 | O43: 8.5506627 | P43: 0 | Q43: 37.995359 | R43: 30.747763 | S43: 32.653699
A44: კრწანისის რაიონი | B44: 0 | C44: 0 | D44: 23.924778 | E44: 32.632412 | F44: 17.182371 | G44: 27.394114 | H44: 0 | I44: 40 | J44: 17.120888 | K44: 29.737159 | L44: 16.921904 | M44: 25.41644 | N44: 0 | O44: 40 | P44: 20.624847 | Q44: 32.027976 | R44: 17.123377 | S44: 26.916944
A45: სულ | B45: 10.096976 | C45: 25.541055 | D45: 28.161244 | E45: 31.759796 | F45: 41.897104 | G45: 31.638423 | H45: 21.186391 | I45: 35.254753 | J45: 23.635497 | K45: 28.101282 | L45: 26.104518 | M45: 26.306283 | N45: 16.368328 | O45: 27.89025 | P45: 24.99895 | Q45: 29.964706 | R45: 34.130606 | S45: 28.956152

Sheet February 
B1: ქ.თბილისის მუნიციპალიტეტის მერია ჯანდაცვისა და სოციალური მომსახურების საქალაქო სამსახური
A2: კომისიის მიერ განხილული საქმეებზე მოთხოვნილი თანხა განმცხადებლების სქესისა და ასაკის მიხედვით
B3: მამრობითი | H3: მდედრობითი | N3: სულ
A4: რაიონი | B4: 0_5 | C4: 6_17 | D4: 18_39 | E4: 40_59 | F4: 59-ზე მეტი | G4: სულ | H4: 0_5 | I4: 6_17 | J4: 18_39 | K4: 40_59 | L4: 59-ზე მეტი | M4: სულ | N4: 0_5 | O4: 6_17 | P4: 18_39 | Q4: 40_59 | R4: 59-ზე მეტი | S4: სულ
A5: გლდანის რაიონი | B5: 17294.5 | C5: 25518.95 | D5: 84729 | E5: 147129.74 | F5: 114886.89 | G5: 389559.08 | H5: 8463 | I5: 12013.78 | J5: 43955.225 | K5: 96043.038 | L5: 79689.85 | M5: 240164.89 | N5: 25757.5 | O5: 37532.73 | P5: 128684.22 | Q5: 243172.78 | R5: 194576.74 | S5: 629723.97
A6: ნაძალადევის რაიონი | B6: 18151.574 | C6: 25079.504 | D6: 49478 | E6: 53016.5 | F6: 48772.81 | G6: 194498.39 | H6: 10442.8 | I6: 7990 | J6: 41774.89 | K6: 120779.54 | L6: 73503.435 | M6: 254490.66 | N6: 28594.374 | O6: 33069.504 | P6: 91252.89 | Q6: 173796.04 | R6: 122276.24 | S6: 448989.05
A7: დიდუბის რაიონი | B7: 22390 | C7: 22280 | D7: 57241.06 | E7: 29400.451 | F7: 55023.28 | G7: 186334.79 | H7: 1949.199 | I7: 2520 | J7: 47769.98 | K7: 40858.15 | L7: 53123.126 | M7: 146220.46 | N7: 24339.199 | O7: 24800 | P7: 105011.04 | Q7: 70258.601 | R7: 108146.41 | S7: 332555.25
A8: ჩუღურეთის რაიონი | B8: 0 | C8: 23366.6 | D8: 33771 | E8: 101278.68 | F8: 72838.934 | G8: 231255.21 | H8: 10182 | I8: 21766 | J8: 166972.64 | K8: 90473.58 | L8: 31684.7 | M8: 321078.92 | N8: 10182 | O8: 45132.6 | P8: 200743.64 | Q8: 191752.26 | R8: 104523.63 | S8: 552334.13
A9: ისნის რაიონი | B9: 10617 | C9: 23607.815 | D9: 18287.24 | E9: 33585.84 | F9: 54321.98 | G9: 140419.88 | H9: 17623 | I9: 33489 | J9: 49658.485 | K9: 106515.86 | L9: 112533.38 | M9: 319819.72 | N9: 28240 | O9: 57096.815 | P9: 67945.725 | Q9: 140101.7 | R9: 166855.36 | S9: 460239.6
A10: სამგორის რაიონი | B10: 4945 | C10: 39551 | D10: 45880 | E10: 83044.53 | F10: 99678.52 | G10: 273099.05 | H10: 18894 | I10: 26027 | J10: 36542.07 | K10: 60441.69 | L10: 116059.12 | M10: 257963.88 | N10: 23839 | O10: 65578 | P10: 82422.07 | Q10: 143486.22 | R10: 215737.64 | S10: 531062.93
A11: ვაკის რაიონი | B11: 6720 | C11: 18365.85 | D11: 31637.48 | E11: 121121.02 | F11: 310299.43 | G11: 488143.79 | H11: 24680 | I11: 2378 | J11: 30457.29 | K11: 63851.25 | L11: 107700.32 | M11: 229066.86 | N11: 31400 | O11: 20743.85 | P11: 62094.77 | Q11: 184972.27 | R11: 417999.76 | S11: 717210.65
A12: საბურთალოს რაიონი | B12: 19575.1 | C12: 31983.11 | D12: 35131.986 | E12: 65799 | F12: 84688.311 | G12: 237177.51 | H12: 6590 | I12: 35229 | J12: 149522.5 | K12: 96777.63 | L12: 111225.56 | M12: 399344.69 | N12: 26165.1 | O12: 67212.11 | P12: 184654.49 | Q12: 162576.63 | R12: 195913.87 | S12: 636522.2
A13: მთაწმინდის რაიონი | B13: 6330 | C13: 9809 | D13: 22967.6 | E13: 17945.68 | F13: 136833.44 | G13: 193885.72 | H13: 0 | I13: 78767 | J13: 6743 | K13: 15878.36 | L13: 86838.91 | M13: 188227.27 | N13: 6330 | O13: 88576 | P13: 29710.6 | Q13: 33824.04 | R13: 223672.35 | S13: 382112.99
A14: კრწანისის რაიონი | B14: 4275 | C14: 7431.058 | D14: 18273.4 | E14: 19734.27 | F14: 22535.99 | G14: 72249.718 | H14: 1500 | I14: 3916 | J14: 4899 | K14: 18664.86 | L14: 23193.457 | M14: 52173.317 | N14: 5775 | O14: 11347.058 | P14: 23172.4 | Q14: 38399.13 | R14: 45729.447 | S14: 124423.03
A15: სულ | B15: 110298.17 | C15: 226992.89 | D15: 397396.77 | E15: 672055.72 | F15: 999879.59 | G15: 2406623.1 | H15: 100324 | I15: 224095.78 | J15: 578295.08 | K15: 710283.96 | L15: 795551.86 | M15: 2408550.7 | N15: 210622.17 | O15: 451088.67 | P15: 975691.85 | Q15: 1382339.7 | R15: 1795431.4 | S15: 4815173.8
A17: კომისიის მიერ განხილული საქმეებზე გამოყოფილი თანხა განმცხადებლების სქესისა და ასაკის მიხედვით
B18: მამრობითი | H18: მდედრობითი | N18: სულ
A19: რაიონი | B19: 0_5 | C19: 6_17 | D19: 18_39 | E19: 40_59 | F19: 59-ზე მეტი | G19: სულ | H19: 0_5 | I19: 6_17 | J19: 18_39 | K19: 40_59 | L19: 59-ზე მეტი | M19: სულ | N19: 0_5 | O19: 6_17 | P19: 18_39 | Q19: 40_59 | R19: 59-ზე მეტი | S19: სულ
A20: გლდანის რაიონი | B20: 400 | C20: 2034 | D20: 10747 | E20: 36003 | F20: 26752 | G20: 75936 | H20: 1138 | I20: 800 | J20: 6986 | K20: 15289 | L20: 19995 | M20: 44208 | N20: 1538 | O20: 2834 | P20: 17733 | Q20: 51292 | R20: 46747 | S20: 120144
A21: ნაძალადევის რაიონი | B21: 1087 | C21: 2700 | D21: 6702 | E21: 10131 | F21: 17542 | G21: 38162 | H21: 300 | I21: 460 | J21: 8614 | K21: 25875 | L21: 22000 | M21: 57249 | N21: 1387 | O21: 3160 | P21: 15316 | Q21: 36006 | R21: 39542 | S21: 95411
A22: დიდუბის რაიონი | B22: 15000 | C22: 5212 | D22: 19740 | E22: 9295 | F22: 18013 | G22: 67260 | H22: 200 | I22: 250 | J22: 11186 | K22: 10596 | L22: 18097 | M22: 40329 | N22: 15200 | O22: 5462 | P22: 30926 | Q22: 19891 | R22: 36110 | S22: 107589
A23: ჩუღურეთის რაიონი | B23: 0 | C23: 5976 | D23: 200 | E23: 26192 | F23: 29094 | G23: 61462 | H23: 2010 | I23: 659 | J23: 21363 | K23: 20271 | L23: 10390 | M23: 54693 | N23: 2010 | O23: 6635 | P23: 21563 | Q23: 46463 | R23: 39484 | S23: 116155
A24: ისნის რაიონი | B24: 400 | C24: 3802 | D24: 3130 | E24: 10074 | F24: 17171 | G24: 34577 | H24: 450 | I24: 4067 | J24: 16245 | K24: 20648 | L24: 26114 | M24: 67524 | N24: 850 | O24: 7869 | P24: 19375 | Q24: 30722 | R24: 43285 | S24: 102101
A25: სამგორის რაიონი | B25: 500 | C25: 1319 | D25: 7844 | E25: 35542 | F25: 36648 | G25: 81853 | H25: 4502 | I25: 3670 | J25: 8532 | K25: 18509 | L25: 33834 | M25: 69047 | N25: 5002 | O25: 4989 | P25: 16376 | Q25: 54051 | R25: 70482 | S25: 150900
A26: ვაკის რაიონი | B26: 250 | C26: 1971 | D26: 5572 | E26: 17404 | F26: 72522 | G26: 97719 | H26: 9100 | I26: 713 | J26: 8394 | K26: 19259 | L26: 30693 | M26: 68159 | N26: 9350 | O26: 2684 | P26: 13966 | Q26: 36663 | R26: 103215 | S26: 165878
A27: საბურთალოს რაიონი | B27: 1643 | C27: 2074 | D27: 10170 | E27: 17500 | F27: 28552 | G27: 59939 | H27: 321 | I27: 16510 | J27: 26574 | K27: 45608 | L27: 27884 | M27: 116897 | N27: 1964 | O27: 18584 | P27: 36744 | Q27: 63108 | R27: 56436 | S27: 176836
A28: მთაწმინდის რაიონი | B28: 250 | C28: 0 | D28: 5495 | E28: 2409 | F28: 36497 | G28: 44651 | H28: 0 | I28: 16130 | J28: 2146 | K28: 6848 | L28: 26757 | M28: 51881 | N28: 250 | O28: 16130 | P28: 7641 | Q28: 9257 | R28: 63254 | S28: 96532
A29: კრწანისის რაიონი | B29: 250 | C29: 3500 | D29: 4219 | E29: 7776 | F29: 7015 | G29: 22760 | H29: 0 | I29: 150 | J29: 869 | K29: 6199 | L29: 10004 | M29: 17222 | N29: 250 | O29: 3650 | P29: 5088 | Q29: 13975 | R29: 17019 | S29: 39982
A30: სულ | B30: 19780 | C30: 28588 | D30: 73819 | E30: 172326 | F30: 289806 | G30: 584319 | H30: 18021 | I30: 43409 | J30: 110909 | K30: 189102 | L30: 225768 | M30: 587209 | N30: 37801 | O30: 71997 | P30: 184728 | Q30: 361428 | R30: 515574 | S30: 1171528
A32: კომისიის მიერ სრულად ან ნაწილობრივ დაკმაყოფილებულ მოთხოვნებზე გამოყოფილი თანხის წილი სქესისა და ასაკის მიხედვით (%)
B33: მამრობითი | H33: მდედრობითი | N33: სულ
A34: რაიონი | B34: 0_5 | C34: 6_17 | D34: 18_39 | E34: 40_59 | F34: 59-ზე მეტი | G34: სულ | H34: 0_5 | I34: 6_17 | J34: 18_39 | K34: 40_59 | L34: 59-ზე მეტი | M34: სულ | N34: 0_5 | O34: 6_17 | P34: 18_39 | Q34: 40_59 | R34: 59-ზე მეტი | S34: სულ
A35: გლდანის რაიონი | B35: =IFERROR(('February '!B20/'February '!B5)*100,0) -> 2.312874 | C35: =IFERROR(('February '!C20/'February '!C5)*100,0) -> 7.9705474 | D35: =IFERROR(('February '!D20/'February '!D5)*100,0) -> 12.683969 | E35: =IFERROR(('February '!E20/'February '!E5)*100,0) -> 24.47024 | F35: =IFERROR(('February '!F20/'February '!F5)*100,0) -> 23.285512 | G35: =IFERROR(('February '!G20/'February '!G5)*100,0) -> 19.492807 | H35: =IFERROR(('February '!H20/'February '!H5)*100,0) -> 13.446768 | I35: =IFERROR(('February '!I20/'February '!I5)*100,0) -> 6.6590199 | ... S35: =IFERROR(('February '!S20/'February '!S5)*100,0) -> 19.078835
A36: ნაძალადევის რაიონი | B36: =IFERROR(('February '!B21/'February '!B6)*100,0) -> 5.9884614 | C36: =IFERROR(('February '!C21/'February '!C6)*100,0) -> 10.765763 | D36: =IFERROR(('February '!D21/'February '!D6)*100,0) -> 13.545414 | E36: =IFERROR(('February '!E21/'February '!E6)*100,0) -> 19.109145 | F36: =IFERROR(('February '!F21/'February '!F6)*100,0) -> 35.966761 | G36: =IFERROR(('February '!G21/'February '!G6)*100,0) -> 19.620728 | H36: =IFERROR(('February '!H21/'February '!H6)*100,0) -> 2.8727927 | I36: =IFERROR(('February '!I21/'February '!I6)*100,0) -> 5.7571965 | ... S36: =IFERROR(('February '!S21/'February '!S6)*100,0) -> 21.250184
A37: დიდუბის რაიონი | B37: =IFERROR(('February '!B22/'February '!B7)*100,0) -> 66.994194 | C37: =IFERROR(('February '!C22/'February '!C7)*100,0) -> 23.393178 | D37: =IFERROR(('February '!D22/'February '!D7)*100,0) -> 34.485735 | E37: =IFERROR(('February '!E22/'February '!E7)*100,0) -> 31.615161 | F37: =IFERROR(('February '!F22/'February '!F7)*100,0) -> 32.737052 | G37: =IFERROR(('February '!G22/'February '!G7)*100,0) -> 36.096319 | H37: =IFERROR(('February '!H22/'February '!H7)*100,0) -> 10.260625 | I37: =IFERROR(('February '!I22/'February '!I7)*100,0) -> 9.9206349 | ... S37: =IFERROR(('February '!S22/'February '!S7)*100,0) -> 32.352219
A38: ჩუღურეთის რაიონი | B38: =IFERROR(('February '!B23/'February '!B8)*100,0) -> 0 | C38: =IFERROR(('February '!C23/'February '!C8)*100,0) -> 25.574966 | D38: =IFERROR(('February '!D23/'February '!D8)*100,0) -> 0.5922241 | E38: =IFERROR(('February '!E23/'February '!E8)*100,0) -> 25.861317 | F38: =IFERROR(('February '!F23/'February '!F8)*100,0) -> 39.942924 | G38: =IFERROR(('February '!G23/'February '!G8)*100,0) -> 26.577563 | H38: =IFERROR(('February '!H23/'February '!H8)*100,0) -> 19.740719 | I38: =IFERROR(('February '!I23/'February '!I8)*100,0) -> 3.0276578 | ... S38: =IFERROR(('February '!S23/'February '!S8)*100,0) -> 21.029843
A39: ისნის რაიონი | B39: =IFERROR(('February '!B24/'February '!B9)*100,0) -> 3.7675426 | C39: =IFERROR(('February '!C24/'February '!C9)*100,0) -> 16.104836 | D39: =IFERROR(('February '!D24/'February '!D9)*100,0) -> 17.115759 | E39: =IFERROR(('February '!E24/'February '!E9)*100,0) -> 29.994784 | F39: =IFERROR(('February '!F24/'February '!F9)*100,0) -> 31.609673 | G39: =IFERROR(('February '!G24/'February '!G9)*100,0) -> 24.624007 | H39: =IFERROR(('February '!H24/'February '!H9)*100,0) -> 2.5534812 | I39: =IFERROR(('February '!I24/'February '!I9)*100,0) -> 12.144286 | ... S39: =IFERROR(('February '!S24/'February '!S9)*100,0) -> 22.184315
A40: სამგორის რაიონი | B40: =IFERROR(('February '!B25/'February '!B10)*100,0) -> 10.111223 | C40: =IFERROR(('February '!C25/'February '!C10)*100,0) -> 3.3349346 | D40: =IFERROR(('February '!D25/'February '!D10)*100,0) -> 17.096774 | E40: =IFERROR(('February '!E25/'February '!E10)*100,0) -> 42.798725 | F40: =IFERROR(('February '!F25/'February '!F10)*100,0) -> 36.766196 | G40: =IFERROR(('February '!G25/'February '!G10)*100,0) -> 29.971909 | H40: =IFERROR(('February '!H25/'February '!H10)*100,0) -> 23.82767 | I40: =IFERROR(('February '!I25/'February '!I10)*100,0) -> 14.100742 | ... S40: =IFERROR(('February '!S25/'February '!S10)*100,0) -> 28.414712
A41: ვაკის რაიონი | B41: =IFERROR(('February '!B26/'February '!B11)*100,0) -> 3.7202381 | C41: =IFERROR(('February '!C26/'February '!C11)*100,0) -> 10.731875 | D41: =IFERROR(('February '!D26/'February '!D11)*100,0) -> 17.612022 | E41: =IFERROR(('February '!E26/'February '!E11)*100,0) -> 14.369099 | F41: =IFERROR(('February '!F26/'February '!F11)*100,0) -> 23.371619 | G41: =IFERROR(('February '!G26/'February '!G11)*100,0) -> 20.018487 | H41: =IFERROR(('February '!H26/'February '!H11)*100,0) -> 36.871961 | I41: =IFERROR(('February '!I26/'February '!I11)*100,0) -> 29.983179 | ... S41: =IFERROR(('February '!S26/'February '!S11)*100,0) -> 23.128212
A42: საბურთალოს რაიონი | B42: =IFERROR(('February '!B27/'February '!B12)*100,0) -> 8.393316 | C42: =IFERROR(('February '!C27/'February '!C12)*100,0) -> 6.4846727 | D42: =IFERROR(('February '!D27/'February '!D12)*100,0) -> 28.947979 | E42: =IFERROR(('February '!E27/'February '!E12)*100,0) -> 26.596149 | F42: =IFERROR(('February '!F27/'February '!F12)*100,0) -> 33.714216 | G42: =IFERROR(('February '!G27/'February '!G12)*100,0) -> 25.271789 | H42: =IFERROR(('February '!H27/'February '!H12)*100,0) -> 4.8710167 | I42: =IFERROR(('February '!I27/'February '!I12)*100,0) -> 46.864799 | ... S42: =IFERROR(('February '!S27/'February '!S12)*100,0) -> 27.781592
A43: მთაწმინდის რაიონი | B43: =IFERROR(('February '!B28/'February '!B13)*100,0) -> 3.9494471 | C43: =IFERROR(('February '!C28/'February '!C13)*100,0) -> 0 | D43: =IFERROR(('February '!D28/'February '!D13)*100,0) -> 23.925007 | E43: =IFERROR(('February '!E28/'February '!E13)*100,0) -> 13.423844 | F43: =IFERROR(('February '!F28/'February '!F13)*100,0) -> 26.672574 | G43: =IFERROR(('February '!G28/'February '!G13)*100,0) -> 23.029545 | H43: =IFERROR(('February '!H28/'February '!H13)*100,0) -> 0 | I43: =IFERROR(('February '!I28/'February '!I13)*100,0) -> 20.478119 | ... S43: =IFERROR(('February '!S28/'February '!S13)*100,0) -> 25.262685
A44: კრწანისის რაიონი | B44: =IFERROR(('February '!B29/'February '!B14)*100,0) -> 5.8479532 | C44: =IFERROR(('February '!C29/'February '!C14)*100,0) -> 47.099619 | D44: =IFERROR(('February '!D29/'February '!D14)*100,0) -> 23.088205 | E44: =IFERROR(('February '!E29/'February '!E14)*100,0) -> 39.403535 | F44: =IFERROR(('February '!F29/'February '!F14)*100,0) -> 31.127987 | G44: =IFERROR(('February '!G29/'February '!G14)*100,0) -> 31.501853 | H44: =IFERROR(('February '!H29/'February '!H14)*100,0) -> 0 | I44: =IFERROR(('February '!I29/'February '!I14)*100,0) -> 3.8304392 | ... S44: =IFERROR(('February '!S29/'February '!S14)*100,0) -> 32.133921
A45: სულ | B45: =IFERROR(('February '!B30/'February '!B15)*100,0) -> 17.933207 | C45: =IFERROR(('February '!C30/'February '!C15)*100,0) -> 12.594227 | D45: =IFERROR(('February '!D30/'February '!D15)*100,0) -> 18.575642 | E45: =IFERROR(('February '!E30/'February '!E15)*100,0) -> 25.641624 | F45: =IFERROR(('February '!F30/'February '!F15)*100,0) -> 28.98409 | G45: =IFERROR(('February '!G30/'February '!G15)*100,0) -> 24.279622 | H45: =IFERROR(('February '!H30/'February '!H15)*100,0) -> 17.962801 | I45: =IFERROR(('February '!I30/'February '!I15)*100,0) -> 19.370735 | ... S45: =IFERROR(('February '!S30/'February '!S15)*100,0) -> 24.329921

Sheet March 
B1: ქ.თბილისის მუნიციპალიტეტის მერია ჯანდაცვისა და სოციალური მომსახურების საქალაქო სამსახური
A2: კომისიის მიერ განხილული საქმეებზე მოთხოვნილი თანხა განმცხადებლების სქესისა და ასაკის მიხედვით
B3: მამრობითი | H3: მდედრობითი | N3: სულ
A4: რაიონი | B4: 0_5 | C4: 6_17 | D4: 18_39 | E4: 40_59 | F4: 59-ზე მეტი | G4: სულ | H4: 0_5 | I4: 6_17 | J4: 18_39 | K4: 40_59 | L4: 59-ზე მეტი | M4: სულ | N4: 0_5 | O4: 6_17 | P4: 18_39 | Q4: 40_59 | R4: 59-ზე მეტი | S4: სულ
A5: გლდანის რაიონი | B5: 12351 | C5: 20964.714 | D5: 39415.65 | E5: 97696.228 | F5: 68813.612 | G5: 239241.2 | H5: 11070 | I5: 7980.797 | J5: 74057.96 | K5: 134958.01 | L5: 96934.09 | M5: 325000.86 | N5: 23421 | O5: 28945.511 | P5: 113473.61 | Q5: 232654.24 | R5: 165747.7 | S5: 564242.06
A6: ნაძალადევის რაიონი | B6: 3128.5 | C6: 34838.56 | D6: 29648.31 | E6: 58059.01 | F6: 54994.22 | G6: 180668.6 | H6: 11777 | I6: 20309.324 | J6: 147725.3 | K6: 113185.1 | L6: 99402.707 | M6: 392399.43 | N6: 14905.5 | O6: 55147.884 | P6: 177373.61 | Q6: 171244.11 | R6: 154396.93 | S6: 573068.03
A7: დიდუბის რაიონი | B7: 5355 | C7: 11113.74 | D7: 33197.86 | E7: 29006.15 | F7: 55219.77 | G7: 133892.52 | H7: 2200 | I7: 50494.347 | J7: 70166 | K7: 51173.826 | L7: 51237.84 | M7: 225272.01 | N7: 7555 | O7: 61608.087 | P7: 103363.86 | Q7: 80179.976 | R7: 106457.61 | S7: 359164.53
A8: ჩუღურეთის რაიონი | B8: 3487 | C8: 7498 | D8: 74348.4 | E8: 44349.58 | F8: 84110.072 | G8: 213793.05 | H8: 6720 | I8: 12356.8 | J8: 18601.93 | K8: 89755.74 | L8: 37192.999 | M8: 164627.47 | N8: 10207 | O8: 19854.8 | P8: 92950.33 | Q8: 134105.32 | R8: 121303.07 | S8: 378420.52
A9: ისნის რაიონი | B9: 1320 | C9: 31137 | D9: 43343.61 | E9: 62214.21 | F9: 81239.419 | G9: 219254.24 | H9: 7043.9 | I9: 10067.5 | J9: 42473.69 | K9: 96039.6 | L9: 76689.611 | M9: 232314.3 | N9: 8363.9 | O9: 41204.5 | P9: 85817.3 | Q9: 158253.81 | R9: 157929.03 | S9: 451568.54
A10: სამგორის რაიონი | B10: 7682 | C10: 24714.898 | D10: 59292.822 | E10: 132632.09 | F10: 71616.451 | G10: 295938.26 | H10: 3600 | I10: 5818.4032 | J10: 46269.8 | K10: 106758.28 | L10: 90133.05 | M10: 252579.53 | N10: 11282 | O10: 30533.302 | P10: 105562.62 | Q10: 239390.37 | R10: 161749.5 | S10: 548517.79
A11: ვაკის რაიონი | B11: 12045 | C11: 272190.26 | D11: 83444.629 | E11: 83854.885 | F11: 64854.636 | G11: 516389.41 | H11: 1027 | I11: 4241 | J11: 28909.306 | K11: 46007.29 | L11: 108483.09 | M11: 188667.68 | N11: 13072 | O11: 276431.26 | P11: 112353.94 | Q11: 129862.17 | R11: 173337.72 | S11: 705057.09
A12: საბურთალოს რაიონი | B12: 11370 | C12: 37049.04 | D12: 58671.6 | E12: 214374.35 | F12: 187528.16 | G12: 508993.14 | H12: 5450 | I12: 11052.15 | J12: 40513.11 | K12: 148806.12 | L12: 112557.98 | M12: 318379.36 | N12: 16820 | O12: 48101.19 | P12: 99184.71 | Q12: 363180.47 | R12: 300086.14 | S12: 827372.5
A13: მთაწმინდის რაიონი | B13: 1102.995 | C13: 8131 | D13: 38783 | E13: 45468.64 | F13: 62138.12 | G13: 155623.76 | H13: 3157 | I13: 28092 | J13: 5425 | K13: 41176.398 | L13: 36316.58 | M13: 114166.98 | N13: 4259.995 | O13: 36223 | P13: 44208 | Q13: 86645.038 | R13: 98454.7 | S13: 269790.73
A14: კრწანისის რაიონი | B14: 5320 | C14: 0 | D14: 2480 | E14: 27114 | F14: 18524.57 | G14: 53438.57 | H14: 1800 | I14: 2485 | J14: 25070.29 | K14: 63147.6 | L14: 23968.72 | M14: 116471.61 | N14: 7120 | O14: 2485 | P14: 27550.29 | Q14: 90261.6 | R14: 42493.29 | S14: 169910.18
A15: სულ | B15: 63161.495 | C15: 447637.21 | D15: 462625.88 | E15: 794769.14 | F15: 749039.03 | G15: 2517232.8 | H15: 53844.9 | I15: 152897.32 | J15: 499212.39 | K15: 891007.96 | L15: 732916.66 | M15: 2329879.2 | N15: 117006.39 | O15: 600534.53 | P15: 961838.27 | Q15: 1685777.1 | R15: 1481955.7 | S15: 4847112
A17: კომისიის მიერ განხილული საქმეებზე გამოყოფილი თანხა განმცხადებლების სქესისა და ასაკის მიხედვით
B18: მამრობითი | H18: მდედრობითი | N18: სულ
A19: რაიონი | B19: 0_5 | C19: 6_17 | D19: 18_39 | E19: 40_59 | F19: 59-ზე მეტი | G19: სულ | H19: 0_5 | I19: 6_17 | J19: 18_39 | K19: 40_59 | L19: 59-ზე მეტი | M19: სულ | N19: 0_5 | O19: 6_17 | P19: 18_39 | Q19: 40_59 | R19: 59-ზე მეტი | S19: სულ
A20: გლდანის რაიონი | B20: 300 | C20: 1641 | D20: 11727 | E20: 24267 | F20: 20579 | G20: 58514 | H20: 925 | I20: 1145 | J20: 17800 | K20: 21733 | L20: 32539 | M20: 74142 | N20: 1225 | O20: 2786 | P20: 29527 | Q20: 46000 | R20: 53118 | S20: 132656
A21: ნაძალადევის რაიონი | B21: 424 | C21: 2324 | D21: 8553 | E21: 20101 | F21: 22146 | G21: 53548 | H21: 5414 | I21: 4333 | J21: 19779 | K21: 36191 | L21: 25190 | M21: 90907 | N21: 5838 | O21: 6657 | P21: 28332 | Q21: 56292 | R21: 47336 | S21: 144455
A22: დიდუბის რაიონი | B22: 400 | C22: 200 | D22: 10857 | E22: 11918 | F22: 20114 | G22: 43489 | H22: 0 | I22: 13797 | J22: 10928 | K22: 16951 | L22: 21351 | M22: 63027 | N22: 400 | O22: 13997 | P22: 21785 | Q22: 28869 | R22: 41465 | S22: 106516
A23: ჩუღურეთის რაიონი | B23: 1487 | C23: 927 | D23: 11396 | E23: 17487 | F23: 15804 | G23: 47101 | H23: 754 | I23: 4096 | J23: 5402 | K23: 24657 | L23: 8973 | M23: 43882 | N23: 2241 | O23: 5023 | P23: 16798 | Q23: 42144 | R23: 24777 | S23: 90983
A24: ისნის რაიონი | B24: 396 | C24: 1650 | D24: 8554 | E24: 24076 | F24: 27623 | G24: 62299 | H24: 745 | I24: 1311 | J24: 10953 | K24: 24632 | L24: 22899 | M24: 60540 | N24: 1141 | O24: 2961 | P24: 19507 | Q24: 48708 | R24: 50522 | S24: 122839
A25: სამგორის რაიონი | B25: 345 | C25: 3305 | D25: 18115 | E25: 22565 | F25: 25551 | G25: 69881 | H25: 0 | I25: 1120 | J25: 11795 | K25: 31151 | L25: 27063 | M25: 71129 | N25: 345 | O25: 4425 | P25: 29910 | Q25: 53716 | R25: 52614 | S25: 141010
A26: ვაკის რაიონი | B26: 250 | C26: 79175 | D26: 19517 | E26: 23218 | F26: 17097 | G26: 139257 | H26: 150 | I26: 0 | J26: 7716 | K26: 9656 | L26: 48843 | M26: 66365 | N26: 400 | O26: 79175 | P26: 27233 | Q26: 32874 | R26: 65940 | S26: 205622
A27: საბურთალოს რაიონი | B27: 300 | C27: 2960 | D27: 12376 | E27: 54458 | F27: 48184 | G27: 118278 | H27: 0 | I27: 1325 | J27: 9162 | K27: 45174 | L27: 28936 | M27: 84597 | N27: 300 | O27: 4285 | P27: 21538 | Q27: 99632 | R27: 77120 | S27: 202875
A28: მთაწმინდის რაიონი | B28: 235 | C28: 200 | D28: 9089 | E28: 6639 | F28: 12932 | G28: 29095 | H28: 407 | I28: 2150 | J28: 1542 | K28: 12741 | L28: 6239 | M28: 23079 | N28: 642 | O28: 2350 | P28: 10631 | Q28: 19380 | R28: 19171 | S28: 52174
A29: კრწანისის რაიონი | B29: 624 | C29: 0 | D29: 2000 | E29: 12792 | F29: 8137.65 | G29: 23553.65 | H29: 0 | I29: 745 | J29: 7993 | K29: 8480 | L29: 6387 | M29: 23605 | N29: 624 | O29: 745 | P29: 9993 | Q29: 21272 | R29: 14524.65 | S29: 47158.65
A30: სულ | B30: 4761 | C30: 92382 | D30: 112184 | E30: 217521 | F30: 218167.65 | G30: 645015.65 | H30: 8395 | I30: 30022 | J30: 103070 | K30: 231366 | L30: 228420 | M30: 601273 | N30: 13156 | O30: 122404 | P30: 215254 | Q30: 448887 | R30: 446587.65 | S30: 1246288.6
A32: კომისიის მიერ სრულად ან ნაწილობრივ დაკმაყოფილებულ მოთხოვნებზე გამოყოფილი თანხის წილი სქესისა და ასაკის მიხედვით (%)
B33: მამრობითი | H33: მდედრობითი | N33: სულ
A34: რაიონი | B34: 0_5 | C34: 6_17 | D34: 18_39 | E34: 40_59 | F34: 59-ზე მეტი | G34: სულ | H34: 0_5 | I34: 6_17 | J34: 18_39 | K34: 40_59 | L34: 59-ზე მეტი | M34: სულ | N34: 0_5 | O34: 6_17 | P34: 18_39 | Q34: 40_59 | R34: 59-ზე მეტი | S34: სულ
A35: გლდანის რაიონი | B35: =IFERROR(('March '!B20/'March '!B5)*100,0) -> 2.4289531 | C35: =IFERROR(('March '!C20/'March '!C5)*100,0) -> 7.827438 | D35: =IFERROR(('March '!D20/'March '!D5)*100,0) -> 29.752142 | E35: =IFERROR(('March '!E20/'March '!E5)*100,0) -> 24.839239 | F35: =IFERROR(('March '!F20/'March '!F5)*100,0) -> 29.90542 | G35: =IFERROR(('March '!G20/'March '!G5)*100,0) -> 24.458161 | H35: =IFERROR(('March '!H20/'March '!H5)*100,0) -> 8.3559169 | I35: =IFERROR(('March '!I20/'March '!I5)*100,0) -> 14.346938 | ... S35: =IFERROR(('March '!S20/'March '!S5)*100,0) -> 23.510477
A36: ნაძალადევის რაიონი | B36: =IFERROR(('March '!B21/'March '!B6)*100,0) -> 13.552821 | C36: =IFERROR(('March '!C21/'March '!C6)*100,0) -> 6.6707694 | D36: =IFERROR(('March '!D21/'March '!D6)*100,0) -> 28.848187 | E36: =IFERROR(('March '!E21/'March '!E6)*100,0) -> 34.621672 | F36: =IFERROR(('March '!F21/'March '!F6)*100,0) -> 40.269686 | G36: =IFERROR(('March '!G21/'March '!G6)*100,0) -> 29.638797 | H36: =IFERROR(('March '!H21/'March '!H6)*100,0) -> 45.97096 | I36: =IFERROR(('March '!I21/'March '!I6)*100,0) -> 21.335028 | ... S36: =IFERROR(('March '!S21/'March '!S6)*100,0) -> 25.207304
A37: დიდუბის რაიონი | B37: =IFERROR(('March '!B22/'March '!B7)*100,0) -> 7.4696545 | C37: =IFERROR(('March '!C22/'March '!C7)*100,0) -> 1.7995742 | D37: =IFERROR(('March '!D22/'March '!D7)*100,0) -> 32.703915 | E37: =IFERROR(('March '!E22/'March '!E7)*100,0) -> 41.087838 | F37: =IFERROR(('March '!F22/'March '!F7)*100,0) -> 36.42536 | G37: =IFERROR(('March '!G22/'March '!G7)*100,0) -> 32.48053 | H37: =IFERROR(('March '!H22/'March '!H7)*100,0) -> 0 | I37: =IFERROR(('March '!I22/'March '!I7)*100,0) -> 27.323851 | ... S37: =IFERROR(('March '!S22/'March '!S7)*100,0) -> 29.656603
A38: ჩუღურეთის რაიონი | B38: =IFERROR(('March '!B23/'March '!B8)*100,0) -> 42.644107 | C38: =IFERROR(('March '!C23/'March '!C8)*100,0) -> 12.363297 | D38: =IFERROR(('March '!D23/'March '!D8)*100,0) -> 15.327835 | E38: =IFERROR(('March '!E23/'March '!E8)*100,0) -> 39.429911 | F38: =IFERROR(('March '!F23/'March '!F8)*100,0) -> 18.789664 | G38: =IFERROR(('March '!G23/'March '!G8)*100,0) -> 22.031118 | H38: =IFERROR(('March '!H23/'March '!H8)*100,0) -> 11.220238 | I38: =IFERROR(('March '!I23/'March '!I8)*100,0) -> 33.147741 | ... S38: =IFERROR(('March '!S23/'March '!S8)*100,0) -> 24.042829
A39: ისნის რაიონი | B39: =IFERROR(('March '!B24/'March '!B9)*100,0) -> 30 | C39: =IFERROR(('March '!C24/'March '!C9)*100,0) -> 5.2991618 | D39: =IFERROR(('March '!D24/'March '!D9)*100,0) -> 19.73532 | E39: =IFERROR(('March '!E24/'March '!E9)*100,0) -> 38.698555 | F39: =IFERROR(('March '!F24/'March '!F9)*100,0) -> 34.001967 | G39: =IFERROR(('March '!G24/'March '!G9)*100,0) -> 28.414046 | H39: =IFERROR(('March '!H24/'March '!H9)*100,0) -> 10.576527 | I39: =IFERROR(('March '!I24/'March '!I9)*100,0) -> 13.022101 | ... S39: =IFERROR(('March '!S24/'March '!S9)*100,0) -> 27.202737
A40: სამგორის რაიონი | B40: =IFERROR(('March '!B25/'March '!B10)*100,0) -> 4.491018 | C40: =IFERROR(('March '!C25/'March '!C10)*100,0) -> 13.372501 | D40: =IFERROR(('March '!D25/'March '!D10)*100,0) -> 30.551759 | E40: =IFERROR(('March '!E25/'March '!E10)*100,0) -> 17.013228 | F40: =IFERROR(('March '!F25/'March '!F10)*100,0) -> 35.677557 | G40: =IFERROR(('March '!G25/'March '!G10)*100,0) -> 23.613371 | H40: =IFERROR(('March '!H25/'March '!H10)*100,0) -> 0 | I40: =IFERROR(('March '!I25/'March '!I10)*100,0) -> 19.249268 | ... S40: =IFERROR(('March '!S25/'March '!S10)*100,0) -> 25.707461
A41: ვაკის რაიონი | B41: =IFERROR(('March '!B26/'March '!B11)*100,0) -> 2.07555 | C41: =IFERROR(('March '!C26/'March '!C11)*100,0) -> 29.088109 | D41: =IFERROR(('March '!D26/'March '!D11)*100,0) -> 23.389163 | E41: =IFERROR(('March '!E26/'March '!E11)*100,0) -> 27.688309 | F41: =IFERROR(('March '!F26/'March '!F11)*100,0) -> 26.362032 | G41: =IFERROR(('March '!G26/'March '!G11)*100,0) -> 26.967439 | H41: =IFERROR(('March '!H26/'March '!H11)*100,0) -> 14.605648 | I41: =IFERROR(('March '!I26/'March '!I11)*100,0) -> 0 | ... S41: =IFERROR(('March '!S26/'March '!S11)*100,0) -> 29.163879
A42: საბურთალოს რაიონი | B42: =IFERROR(('March '!B27/'March '!B12)*100,0) -> 2.6385224 | C42: =IFERROR(('March '!C27/'March '!C12)*100,0) -> 7.9894108 | D42: =IFERROR(('March '!D27/'March '!D12)*100,0) -> 21.093681 | E42: =IFERROR(('March '!E27/'March '!E12)*100,0) -> 25.403226 | F42: =IFERROR(('March '!F27/'March '!F12)*100,0) -> 25.694275 | G42: =IFERROR(('March '!G27/'March '!G12)*100,0) -> 23.237641 | H42: =IFERROR(('March '!H27/'March '!H12)*100,0) -> 0 | I42: =IFERROR(('March '!I27/'March '!I12)*100,0) -> 11.988618 | ... S42: =IFERROR(('March '!S27/'March '!S12)*100,0) -> 24.520394
A43: მთაწმინდის რაიონი | B43: =IFERROR(('March '!B28/'March '!B13)*100,0) -> 21.305627 | C43: =IFERROR(('March '!C28/'March '!C13)*100,0) -> 2.4597221 | D43: =IFERROR(('March '!D28/'March '!D13)*100,0) -> 23.435526 | E43: =IFERROR(('March '!E28/'March '!E13)*100,0) -> 14.601272 | F43: =IFERROR(('March '!F28/'March '!F13)*100,0) -> 20.811701 | G43: =IFERROR(('March '!G28/'March '!G13)*100,0) -> 18.695732 | H43: =IFERROR(('March '!H28/'March '!H13)*100,0) -> 12.891986 | I43: =IFERROR(('March '!I28/'March '!I13)*100,0) -> 7.6534245 | ... S43: =IFERROR(('March '!S28/'March '!S13)*100,0) -> 19.338692
A44: კრწანისის რაიონი | B44: =IFERROR(('March '!B29/'March '!B14)*100,0) -> 11.729323 | C44: =IFERROR(('March '!C29/'March '!C14)*100,0) -> 0 | D44: =IFERROR(('March '!D29/'March '!D14)*100,0) -> 80.645161 | E44: =IFERROR(('March '!E29/'March '!E14)*100,0) -> 47.178579 | F44: =IFERROR(('March '!F29/'March '!F14)*100,0) -> 43.928955 | G44: =IFERROR(('March '!G29/'March '!G14)*100,0) -> 44.076123 | H44: =IFERROR(('March '!H29/'March '!H14)*100,0) -> 0 | I44: =IFERROR(('March '!I29/'March '!I14)*100,0) -> 29.979879 | ... S44: =IFERROR(('March '!S29/'March '!S14)*100,0) -> 27.755047
A45: სულ | B45: =IFERROR(('March '!B30/'March '!B15)*100,0) -> 7.5378203 | C45: =IFERROR(('March '!C30/'March '!C15)*100,0) -> 20.637694 | D45: =IFERROR(('March '!D30/'March '!D15)*100,0) -> 24.2494 | E45: =IFERROR(('March '!E30/'March '!E15)*100,0) -> 27.36908 | F45: =IFERROR(('March '!F30/'March '!F15)*100,0) -> 29.126339 | G45: =IFERROR(('March '!G30/'March '!G15)*100,0) -> 25.623997 | H45: =IFERROR(('March '!H30/'March '!H15)*100,0) -> 15.591077 | I45: =IFERROR(('March '!I30/'March '!I15)*100,0) -> 19.6354 | ... S45: =IFERROR(('March '!S30/'March '!S15)*100,0) -> 25.711984

Sheet April 
B1: ქ.თბილისის მუნიციპალიტეტის მერია ჯანდაცვისა და სოციალური მომსახურების საქალაქო სამსახური
A2: კომისიის მიერ განხილული საქმეებზე მოთხოვნილი თანხა განმცხადებლების სქესისა და ასაკის მიხედვით
B3: მამრობითი | H3: მდედრობითი | N3: სულ
A4: რაიონი | B4: 0_5 | C4: 6_17 | D4: 18_39 | E4: 40_59 | F4: 59-ზე მეტი | G4: სულ | H4: 0_5 | I4: 6_17 | J4: 18_39 | K4: 40_59 | L4: 59-ზე მეტი | M4: სულ | N4: 0_5 | O4: 6_17 | P4: 18_39 | Q4: 40_59 | R4: 59-ზე მეტი | S4: სულ
A5: გლდანის რაიონი | B5: 30247.6 | C5: 84343.152 | D5: 90298.38 | E5: 237935.84 | F5: 135885.39 | G5: 578710.36 | H5: 13560 | I5: 78817.4 | J5: 184181.06 | K5: 305210.05 | L5: 345048.09 | M5: 926816.6 | N5: 43807.6 | O5: 163160.55 | P5: 274479.44 | Q5: 543145.89 | R5: 480933.48 | S5: 1505527
A6: ნაძალადევის რაიონი | B6: 4200 | C6: 1245 | D6: 61448.25 | E6: 112713.71 | F6: 104388.53 | G6: 283995.5 | H6: 7252 | I6: 8811 | J6: 29263.97 | K6: 70169.3 | L6: 59828.225 | M6: 175324.49 | N6: 11452 | O6: 10056 | P6: 90712.22 | Q6: 182883.01 | R6: 164216.76 | S6: 459319.99
A7: დიდუბის რაიონი | B7: 13477.6 | C7: 5978 | D7: 3980 | E7: 39447.41 | F7: 23166 | G7: 86049.01 | H7: 0 | I7: 3240 | J7: 27833 | K7: 12916.6 | L7: 38647.429 | M7: 82637.029 | N7: 13477.6 | O7: 9218 | P7: 31813 | Q7: 52364.01 | R7: 61813.429 | S7: 168686.04
A8: ჩუღურეთის რაიონი | B8: 1500 | C8: 15930 | D8: 5680 | E8: 23220.52 | F8: 23096.143 | G8: 69426.663 | H8: 0 | I8: 0 | J8: 71323 | K8: 37881.664 | L8: 31344.297 | M8: 140548.96 | N8: 1500 | O8: 15930 | P8: 77003 | Q8: 61102.184 | R8: 54440.44 | S8: 209975.62
A9: ისნის რაიონი | B9: 28617.717 | C9: 13232.37 | D9: 9337.62 | E9: 32934.37 | F9: 31319.485 | G9: 115441.56 | H9: 4245 | I9: 7478.9712 | J9: 78239.49 | K9: 59702.94 | L9: 42519.36 | M9: 192185.76 | N9: 32862.717 | O9: 20711.341 | P9: 87577.11 | Q9: 92637.31 | R9: 73838.845 | S9: 307627.32
A10: სამგორის რაიონი | B10: 9137 | C10: 20672 | D10: 88250 | E10: 26509.52 | F10: 56754.42 | G10: 201322.94 | H10: 8163 | I10: 51465 | J10: 69942.48 | K10: 54927.9 | L10: 42258.007 | M10: 226756.39 | N10: 17300 | O10: 72137 | P10: 158192.48 | Q10: 81437.42 | R10: 99012.427 | S10: 428079.33
A11: ვაკის რაიონი | B11: 5112 | C11: 3660 | D11: 16425 | E11: 38199.55 | F11: 228398.93 | G11: 291795.48 | H11: 0 | I11: 4548 | J11: 19577 | K11: 79418.7 | L11: 168543.73 | M11: 272087.43 | N11: 5112 | O11: 8208 | P11: 36002 | Q11: 117618.25 | R11: 396942.66 | S11: 563882.91
A12: საბურთალოს რაიონი | B12: 14771.5 | C12: 6550 | D12: 73213.99 | E12: 490070.13 | F12: 688571.62 | G12: 1273177.2 | H12: 2100 | I12: 170953.08 | J12: 18143.8 | K12: 76086.278 | L12: 98588.648 | M12: 365871.8 | N12: 16871.5 | O12: 177503.08 | P12: 91357.79 | Q12: 566156.4 | R12: 787160.26 | S12: 1639049
A13: მთაწმინდის რაიონი | B13: 3200 | C13: 0 | D13: 4622 | E13: 8907.28 | F13: 38482.854 | G13: 55212.134 | H13: 0 | I13: 3129.6 | J13: 5995 | K13: 176814 | L13: 21385.325 | M13: 207323.93 | N13: 3200 | O13: 3129.6 | P13: 10617 | Q13: 185721.28 | R13: 59868.18 | S13: 262536.06
A14: კრწანისის რაიონი | B14: 1527 | C14: 0 | D14: 8263.008 | E14: 5995 | F14: 11218.9 | G14: 27003.908 | H14: 0 | I14: 0 | J14: 5828.0999 | K14: 24566.5 | L14: 4372 | M14: 34766.6 | N14: 1527 | O14: 0 | P14: 14091.108 | Q14: 30561.5 | R14: 15590.9 | S14: 61770.508
A15: სულ | B15: 111790.42 | C15: 151610.52 | D15: 361518.25 | E15: 1015933.3 | F15: 1341282.3 | G15: 2982134.8 | H15: 35320 | I15: 328443.05 | J15: 510326.9 | K15: 897693.93 | L15: 852535.11 | M15: 2624319 | N15: 147110.42 | O15: 480053.57 | P15: 871845.15 | Q15: 1913627.3 | R15: 2193817.4 | S15: 5606453.8
A17: კომისიის მიერ განხილული საქმეებზე გამოყოფილი თანხა განმცხადებლების სქესისა და ასაკის მიხედვით
B18: მამრობითი | H18: მდედრობითი | N18: სულ
A19: რაიონი | B19: 0_5 | C19: 6_17 | D19: 18_39 | E19: 40_59 | F19: 59-ზე მეტი | G19: სულ | H19: 0_5 | I19: 6_17 | J19: 18_39 | K19: 40_59 | L19: 59-ზე მეტი | M19: სულ | N19: 0_5 | O19: 6_17 | P19: 18_39 | Q19: 40_59 | R19: 59-ზე მეტი | S19: სულ
A20: გლდანის რაიონი | B20: 5070 | C20: 47116 | D20: 20884 | E20: 68781 | F20: 38634 | G20: 180485 | H20: 700 | I20: 17906 | J20: 40671 | K20: 81137 | L20: 73386 | M20: 213800 | N20: 5770 | O20: 65022 | P20: 61555 | Q20: 149918 | R20: 112020 | S20: 394285
A21: ნაძალადევის რაიონი | B21: 0 | C21: 0 | D21: 12200 | E21: 39921 | F21: 46260 | G21: 98381 | H21: 765 | I21: 1130 | J21: 11244 | K21: 17837 | L21: 21083 | M21: 52059 | N21: 765 | O21: 1130 | P21: 23444 | Q21: 57758 | R21: 67343 | S21: 150440
A22: დიდუბის რაიონი | B22: 650 | C22: 0 | D22: 400 | E22: 11375 | F22: 8496 | G22: 20921 | H22: 0 | I22: 150 | J22: 6162 | K22: 4613 | L22: 7751 | M22: 18676 | N22: 650 | O22: 150 | P22: 6562 | Q22: 15988 | R22: 16247 | S22: 39597
A23: ჩუღურეთის რაიონი | B23: 0 | C23: 2374 | D23: 900 | E23: 4242 | F23: 10170 | G23: 17686 | H23: 0 | I23: 0 | J23: 21590 | K23: 13629 | L23: 10307 | M23: 45526 | N23: 0 | O23: 2374 | P23: 22490 | Q23: 17871 | R23: 20477 | S23: 63212
A24: ისნის რაიონი | B24: 493 | C24: 500 | D24: 2799 | E24: 10678 | F24: 9591 | G24: 24061 | H24: 697 | I24: 941 | J24: 14002 | K24: 12358 | L24: 16695 | M24: 44693 | N24: 1190 | O24: 1441 | P24: 16801 | Q24: 23036 | R24: 26286 | S24: 68754
A25: სამგორის რაიონი | B25: 877 | C25: 1995 | D25: 17903 | E25: 11042 | F25: 10202 | G25: 42019 | H25: 1100 | I25: 42927 | J25: 14840 | K25: 8696 | L25: 17456 | M25: 85019 | N25: 1977 | O25: 44922 | P25: 32743 | Q25: 19738 | R25: 27658 | S25: 127038
A26: ვაკის რაიონი | B26: 0 | C26: 250 | D26: 3783 | E26: 13893 | F26: 45632 | G26: 63558 | H26: 0 | I26: 1605 | J26: 2483 | K26: 35160 | L26: 34140 | M26: 73388 | N26: 0 | O26: 1855 | P26: 6266 | Q26: 49053 | R26: 79772 | S26: 136946
A27: საბურთალოს რაიონი | B27: 2170 | C27: 1364 | D27: 32058 | E27: 145038 | F27: 83995 | G27: 264625 | H27: 0 | I27: 30400 | J27: 3588 | K27: 23442 | L27: 34581 | M27: 92011 | N27: 2170 | O27: 31764 | P27: 35646 | Q27: 168480 | R27: 118576 | S27: 356636
A28: მთაწმინდის რაიონი | B28: 0 | C28: 0 | D28: 1000 | E28: 4316 | F28: 12927 | G28: 18243 | H28: 0 | I28: 550 | J28: 1384 | K28: 42363 | L28: 9822 | M28: 54119 | N28: 0 | O28: 550 | P28: 2384 | Q28: 46679 | R28: 22749 | S28: 72362
A29: კრწანისის რაიონი | B29: 610 | C29: 0 | D29: 1974 | E29: 1662 | F29: 5700 | G29: 9946 | H29: 0 | I29: 0 | J29: 3575 | K29: 7775 | L29: 335 | M29: 11685 | N29: 610 | O29: 0 | P29: 5549 | Q29: 9437 | R29: 6035 | S29: 21631
A30: სულ | B30: 9870 | C30: 53599 | D30: 93901 | E30: 310948 | F30: 271607 | G30: 739925 | H30: 3262 | I30: 95609 | J30: 119539 | K30: 247010 | L30: 225556 | M30: 690976 | N30: 13132 | O30: 149208 | P30: 213440 | Q30: 557958 | R30: 497163 | S30: 1430901
A32: კომისიის მიერ სრულად ან ნაწილობრივ დაკმაყოფილებულ მოთხოვნებზე გამოყოფილი თანხის წილი სქესისა და ასაკის მიხედვით (%)
B33: მამრობითი | H33: მდედრობითი | N33: სულ
A34: რაიონი | B34: 0_5 | C34: 6_17 | D34: 18_39 | E34: 40_59 | F34: 59-ზე მეტი | G34: სულ | H34: 0_5 | I34: 6_17 | J34: 18_39 | K34: 40_59 | L34: 59-ზე მეტი | M34: სულ | N34: 0_5 | O34: 6_17 | P34: 18_39 | Q34: 40_59 | R34: 59-ზე მეტი | S34: სულ
A35: გლდანის რაიონი | B35: 16.76166 | C35: 55.862271 | D35: 23.127768 | E35: 28.907373 | F35: 28.431313 | G35: 31.187449 | H35: 5.1622419 | I35: 22.718334 | J35: 22.082075 | K35: 26.583987 | L35: 21.26834 | M35: 23.06821 | N35: 13.171231 | O35: 39.851544 | P35: 22.426088 | Q35: 27.601792 | R35: 23.292203 | S35: 26.189169
A36: ნაძალადევის რაიონი | B36: 0 | C36: 0 | D36: 19.854105 | E36: 35.418051 | F36: 44.315213 | G36: 34.641747 | H36: 10.548814 | I36: 12.824878 | J36: 38.422675 | K36: 25.419949 | L36: 35.23922 | M36: 29.692942 | N36: 6.6800559 | O36: 11.237072 | P36: 25.844368 | Q36: 31.581938 | R36: 41.008604 | S36: 32.752766
A37: დიდუბის რაიონი | B37: 4.8228171 | C37: 0 | D37: 10.050251 | E37: 28.83586 | F37: 36.674437 | G37: 24.312889 | H37: 0 | I37: 4.6296296 | J37: 22.139187 | K37: 35.713733 | L37: 20.055668 | M37: 22.600038 | N37: 4.8228171 | O37: 1.627251 | P37: 20.626788 | Q37: 30.532421 | R37: 26.283933 | S37: 23.473786
A38: ჩუღურეთის რაიონი | B38: 0 | C38: 14.902699 | D38: 15.84507 | E38: 18.268325 | F38: 44.033327 | G38: 25.474363 | H38: 0 | I38: 0 | J38: 30.27074 | K38: 35.977828 | L38: 32.883175 | M38: 32.391559 | N38: 0 | O38: 14.902699 | P38: 29.206654 | Q38: 29.247727 | R38: 37.613583 | S38: 30.104447
A39: ისნის რაიონი | B39: 1.722709 | C39: 3.7786126 | D39: 29.975518 | E39: 32.422056 | F39: 30.623109 | G39: 20.84258 | H39: 16.419317 | I39: 12.581944 | J39: 17.896333 | K39: 20.699148 | L39: 39.264467 | M39: 23.255105 | N39: 3.6211248 | O39: 6.9575407 | P39: 19.184237 | Q39: 24.866871 | R39: 35.599148 | S39: 22.34977
A40: სამგორის რაიონი | B40: 9.5983364 | C40: 9.6507353 | D40: 20.286686 | E40: 41.652961 | F40: 17.975692 | G40: 20.871442 | H40: 13.475438 | I40: 83.410085 | J40: 21.217435 | K40: 15.831663 | L40: 41.308148 | M40: 37.493541 | N40: 11.427746 | O40: 62.273175 | P40: 20.698203 | Q40: 24.237015 | R40: 27.933867 | S40: 29.676275
A41: ვაკის რაიონი | B41: 0 | C41: 6.8306011 | D41: 23.031963 | E41: 36.369538 | F41: 19.979078 | G41: 21.781694 | H41: 0 | I41: 35.290237 | J41: 12.683251 | K41: 44.271689 | L41: 20.25587 | M41: 26.972212 | N41: 0 | O41: 22.599903 | P41: 17.404589 | Q41: 41.705263 | R41: 20.096605 | S41: 24.286247
A42: საბურთალოს რაიონი | B42: 14.690451 | C42: 20.824427 | D42: 43.786713 | E42: 29.595356 | F42: 12.198441 | G42: 20.784616 | H42: 0 | I42: 17.782657 | J42: 19.77535 | K42: 30.809761 | L42: 35.076047 | M42: 25.148426 | N42: 12.861927 | O42: 17.894901 | P42: 39.018019 | Q42: 29.758561 | R42: 15.063769 | S42: 21.758714
A43: მთაწმინდის რაიონი | B43: 0 | C43: 0 | D43: 21.635656 | E43: 48.454747 | F43: 33.591583 | G43: 33.04165 | H43: 0 | I43: 17.574131 | J43: 23.085905 | K43: 23.959076 | L43: 45.928691 | M43: 26.103596 | N43: 0 | O43: 17.574131 | P43: 22.454554 | Q43: 25.1339 | R43: 37.998483 | S43: 27.56269
A44: კრწანისის რაიონი | B44: 39.94761 | C44: 0 | D44: 23.889605 | E44: 27.723103 | F44: 50.80712 | G44: 36.831706 | H44: 0 | I44: 0 | J44: 61.340747 | K44: 31.64879 | L44: 7.6623971 | M44: 33.609844 | N44: 39.94761 | O44: 0 | P44: 39.379444 | Q44: 30.87872 | R44: 38.708477 | S44: 35.01833
A45: სულ | B45: 8.8290215 | C45: 35.353087 | D45: 25.974069 | E45: 30.607127 | F45: 20.249802 | G45: 24.811923 | H45: 9.2355606 | I45: 29.109765 | J45: 23.424005 | K45: 27.51606 | L45: 26.457092 | M45: 26.329726 | N45: 8.9266282 | O45: 31.081531 | P45: 24.481412 | Q45: 29.157089 | R45: 22.662005 | S45: 25.52239

Sheet May 
B1: ქ.თბილისის მუნიციპალიტეტის მერია ჯანდაცვისა და სოციალური მომსახურების საქალაქო სამსახური
A2: კომისიის მიერ განხილული საქმეებზე მოთხოვნილი თანხა განმცხადებლების სქესისა და ასაკის მიხედვით
B3: მამრობითი | H3: მდედრობითი | N3: სულ
A4: რაიონი | B4: 0_5 | C4: 6_17 | D4: 18_39 | E4: 40_59 | F4: 59-ზე მეტი | G4: სულ | H4: 0_5 | I4: 6_17 | J4: 18_39 | K4: 40_59 | L4: 59-ზე მეტი | M4: სულ | N4: 0_5 | O4: 6_17 | P4: 18_39 | Q4: 40_59 | R4: 59-ზე მეტი | S4: სულ
A5: გლდანის რაიონი | B5: 18320.4 | C5: 44568.2 | D5: 99596 | E5: 227493.31 | F5: 306640.39 | G5: 696618.3 | H5: 19276.342 | I5: 30310 | J5: 186284.7 | K5: 414454.09 | L5: 342068.26 | M5: 992393.39 | N5: 37596.742 | O5: 74878.2 | P5: 285880.7 | Q5: 641947.4 | R5: 648708.65 | S5: 1689011.7
A6: ნაძალადევის რაიონი | B6: 4603.7614 | C6: 50830.454 | D6: 27316.11 | E6: 102410.78 | F6: 47508.955 | G6: 232670.06 | H6: 3159.824 | I6: 6575 | J6: 81366.8 | K6: 129465 | L6: 82586.6 | M6: 303153.22 | N6: 7763.5854 | O6: 57405.454 | P6: 108682.91 | Q6: 231875.78 | R6: 130095.56 | S6: 535823.29
A7: დიდუბის რაიონი | B7: 1200 | C7: 66009 | D7: 22700.792 | E7: 26804.21 | F7: 81761.331 | G7: 198475.33 | H7: 0 | I7: 21996 | J7: 47438.136 | K7: 66474.2 | L7: 75585.348 | M7: 211493.68 | N7: 1200 | O7: 88005 | P7: 70138.928 | Q7: 93278.41 | R7: 157346.68 | S7: 409969.02
A8: ჩუღურეთის რაიონი | B8: 5600 | C8: 2200 | D8: 13249.45 | E8: 61071.172 | F8: 96138.047 | G8: 178258.67 | H8: 0 | I8: 4500 | J8: 58058.44 | K8: 18048.588 | L8: 120924.57 | M8: 201531.6 | N8: 5600 | O8: 6700 | P8: 71307.89 | Q8: 79119.76 | R8: 217062.62 | S8: 379790.27
A9: ისნის რაიონი | B9: 8790 | C9: 27720.62 | D9: 11938.45 | E9: 146346 | F9: 46715.795 | G9: 241510.86 | H9: 1600 | I9: 15791.343 | J9: 27237 | K9: 44123.794 | L9: 106996.3 | M9: 195748.43 | N9: 10390 | O9: 43511.963 | P9: 39175.45 | Q9: 190469.79 | R9: 153712.09 | S9: 437259.3
A10: სამგორის რაიონი | B10: 16092 | C10: 20450.66 | D10: 27076.59 | E10: 97077.91 | F10: 60515.276 | G10: 221212.44 | H10: 3240 | I10: 9930 | J10: 20476 | K10: 190966.16 | L10: 78727.358 | M10: 303339.52 | N10: 19332 | O10: 30380.66 | P10: 47552.59 | Q10: 288044.07 | R10: 139242.63 | S10: 524551.95
A11: ვაკის რაიონი | B11: 8422 | C11: 40606.78 | D11: 8427 | E11: 91097 | F11: 103350.64 | G11: 251903.42 | H11: 2005.6488 | I11: 14000 | J11: 23643 | K11: 46443.7 | L11: 87074.044 | M11: 173166.39 | N11: 10427.649 | O11: 54606.78 | P11: 32070 | Q11: 137540.7 | R11: 190424.68 | S11: 425069.81
A12: საბურთალოს რაიონი | B12: 12654.191 | C12: 37284.469 | D12: 51660.7 | E12: 29574 | F12: 161285.3 | G12: 292458.66 | H12: 0 | I12: 279104 | J12: 125459.07 | K12: 122513.94 | L12: 136608.72 | M12: 663685.73 | N12: 12654.191 | O12: 316388.47 | P12: 177119.77 | Q12: 152087.94 | R12: 297894.02 | S12: 956144.39
A13: მთაწმინდის რაიონი | B13: 0 | C13: 2710 | D13: 15757 | E13: 12025 | F13: 53149.566 | G13: 83641.566 | H13: 3120 | I13: 11184 | J13: 3422 | K13: 147712 | L13: 41364.998 | M13: 206803 | N13: 3120 | O13: 13894 | P13: 19179 | Q13: 159737 | R13: 94514.564 | S13: 290444.56
A14: კრწანისის რაიონი | B14: 10090 | C14: 0 | D14: 6568 | E14: 9397.16 | F14: 21852.63 | G14: 47907.79 | H14: 1500 | I14: 40547 | J14: 9354.446 | K14: 19255.83 | L14: 16992.441 | M14: 87649.717 | N14: 11590 | O14: 40547 | P14: 15922.446 | Q14: 28652.99 | R14: 38845.071 | S14: 135557.51
A15: სულ | B15: 85772.352 | C15: 292380.18 | D15: 284290.09 | E15: 803296.55 | F15: 978917.93 | G15: 2444657.1 | H15: 33901.815 | I15: 433937.34 | J15: 582739.59 | K15: 1199457.3 | L15: 1088928.6 | M15: 3338964.7 | N15: 119674.17 | O15: 726317.53 | P15: 867029.68 | Q15: 2002753.8 | R15: 2067846.6 | S15: 5783621.8
A17: კომისიის მიერ განხილული საქმეებზე გამოყოფილი თანხა განმცხადებლების სქესისა და ასაკის მიხედვით
B18: მამრობითი | H18: მდედრობითი | N18: სულ
A19: რაიონი | B19: 0_5 | C19: 6_17 | D19: 18_39 | E19: 40_59 | F19: 59-ზე მეტი | G19: სულ | H19: 0_5 | I19: 6_17 | J19: 18_39 | K19: 40_59 | L19: 59-ზე მეტი | M19: სულ | N19: 0_5 | O19: 6_17 | P19: 18_39 | Q19: 40_59 | R19: 59-ზე მეტი | S19: სულ
A20: გლდანის რაიონი | B20: 700 | C20: 12221 | D20: 25859 | E20: 62015 | F20: 99695 | G20: 200490 | H20: 1550 | I20: 3281 | J20: 27700 | K20: 129773 | L20: 92270 | M20: 254574 | N20: 2250 | O20: 15502 | P20: 53559 | Q20: 191788 | R20: 191965 | S20: 455064
A21: ნაძალადევის რაიონი | B21: 945 | C21: 12715 | D21: 6973 | E21: 34050 | F21: 15801 | G21: 70484 | H21: 737 | I21: 974 | J21: 11106 | K21: 29406 | L21: 27289 | M21: 69512 | N21: 1682 | O21: 13689 | P21: 18079 | Q21: 63456 | R21: 43090 | S21: 139996
A22: დიდუბის რაიონი | B22: 250 | C22: 15742 | D22: 7684 | E22: 4360 | F22: 18123 | G22: 46159 | H22: 0 | I22: 2426 | J22: 6169 | K22: 26246 | L22: 25270 | M22: 60111 | N22: 250 | O22: 18168 | P22: 13853 | Q22: 30606 | R22: 43393 | S22: 106270
A23: ჩუღურეთის რაიონი | B23: 0 | C23: 0 | D23: 4809 | E23: 19443 | F23: 37273 | G23: 61525 | H23: 0 | I23: 950 | J23: 17841 | K23: 8705 | L23: 48595 | M23: 76091 | N23: 0 | O23: 950 | P23: 22650 | Q23: 28148 | R23: 85868 | S23: 137616
A24: ისნის რაიონი | B24: 912 | C24: 7828 | D24: 2856 | E24: 35983 | F24: 13871 | G24: 61450 | H24: 0 | I24: 2000 | J24: 9699 | K24: 19325 | L24: 23501 | M24: 54525 | N24: 912 | O24: 9828 | P24: 12555 | Q24: 55308 | R24: 37372 | S24: 115975
A25: სამგორის რაიონი | B25: 3709 | C25: 3628 | D25: 6972 | E25: 36965 | F25: 26708 | G25: 77982 | H25: 0 | I25: 380 | J25: 2853 | K25: 49303 | L25: 24523 | M25: 77059 | N25: 3709 | O25: 4008 | P25: 9825 | Q25: 86268 | R25: 51231 | S25: 155041
A26: ვაკის რაიონი | B26: 594 | C26: 1020 | D26: 2088 | E26: 31541 | F26: 38913 | G26: 74156 | H26: 300 | I26: 0 | J26: 6483 | K26: 13124 | L26: 15789 | M26: 35696 | N26: 894 | O26: 1020 | P26: 8571 | Q26: 44665 | R26: 54702 | S26: 109852
A27: საბურთალოს რაიონი | B27: 300 | C27: 5342 | D27: 15797 | E27: 11688 | F27: 77259 | G27: 110386 | H27: 0 | I27: 44100 | J27: 51122 | K27: 20503 | L27: 43889 | M27: 159614 | N27: 300 | O27: 49442 | P27: 66919 | Q27: 32191 | R27: 121148 | S27: 270000
A28: მთაწმინდის რაიონი | B28: 0 | C28: 0 | D28: 3000 | E28: 3704 | F28: 20752 | G28: 27456 | H28: 0 | I28: 2914 | J28: 684 | K28: 33594 | L28: 11469 | M28: 48661 | N28: 0 | O28: 2914 | P28: 3684 | Q28: 37298 | R28: 32221 | S28: 76117
A29: კრწანისის რაიონი | B29: 4867 | C29: 0 | D29: 3100 | E29: 5394 | F29: 14559 | G29: 27920 | H29: 0 | I29: 10000 | J29: 1150 | K29: 7785 | L29: 6744 | M29: 25679 | N29: 4867 | O29: 10000 | P29: 4250 | Q29: 13179 | R29: 21303 | S29: 53599
A30: სულ | B30: 12277 | C30: 58496 | D30: 79138 | E30: 245143 | F30: 362954 | G30: 758008 | H30: 2587 | I30: 67025 | J30: 134807 | K30: 337764 | L30: 319339 | M30: 861522 | N30: 14864 | O30: 125521 | P30: 213945 | Q30: 582907 | R30: 682293 | S30: 1619530
A32: კომისიის მიერ სრულად ან ნაწილობრივ დაკმაყოფილებულ მოთხოვნებზე გამოყოფილი თანხის წილი სქესისა და ასაკის მიხედვით (%)
B33: მამრობითი | H33: მდედრობითი | N33: სულ
A34: რაიონი | B34: 0_5 | C34: 6_17 | D34: 18_39 | E34: 40_59 | F34: 59-ზე მეტი | G34: სულ | H34: 0_5 | I34: 6_17 | J34: 18_39 | K34: 40_59 | L34: 59-ზე მეტი | M34: სულ | N34: 0_5 | O34: 6_17 | P34: 18_39 | Q34: 40_59 | R34: 59-ზე მეტი | S34: სულ
A35: გლდანის რაიონი | B35: =IFERROR(('May '!B20/'May '!B5)*100,0) -> 3.8208773 | C35: =IFERROR(('May '!C20/'May '!C5)*100,0) -> 27.420897 | D35: =IFERROR(('May '!D20/'May '!D5)*100,0) -> 25.963894 | E35: =IFERROR(('May '!E20/'May '!E5)*100,0) -> 27.260142 | F35: =IFERROR(('May '!F20/'May '!F5)*100,0) -> 32.512024 | G35: =IFERROR(('May '!G20/'May '!G5)*100,0) -> 28.780467 | H35: =IFERROR(('May '!H20/'May '!H5)*100,0) -> 8.0409445 | I35: =IFERROR(('May '!I20/'May '!I5)*100,0) -> 10.82481 | ... S35: =IFERROR(('May '!S20/'May '!S5)*100,0) -> 26.94262
A36: ნაძალადევის რაიონი | B36: =IFERROR(('May '!B21/'May '!B6)*100,0) -> 20.526694 | C36: =IFERROR(('May '!C21/'May '!C6)*100,0) -> 25.014531 | D36: =IFERROR(('May '!D21/'May '!D6)*100,0) -> 25.527061 | E36: =IFERROR(('May '!E21/'May '!E6)*100,0) -> 33.248452 | F36: =IFERROR(('May '!F21/'May '!F6)*100,0) -> 33.258993 | G36: =IFERROR(('May '!G21/'May '!G6)*100,0) -> 30.29354 | H36: =IFERROR(('May '!H21/'May '!H6)*100,0) -> 23.324084 | I36: =IFERROR(('May '!I21/'May '!I6)*100,0) -> 14.813688 | ... S36: =IFERROR(('May '!S21/'May '!S6)*100,0) -> 26.12727
A37: დიდუბის რაიონი | B37: =IFERROR(('May '!B22/'May '!B7)*100,0) -> 20.833333 | C37: =IFERROR(('May '!C22/'May '!C7)*100,0) -> 23.848263 | D37: =IFERROR(('May '!D22/'May '!D7)*100,0) -> 33.849039 | E37: =IFERROR(('May '!E22/'May '!E7)*100,0) -> 16.266101 | F37: =IFERROR(('May '!F22/'May '!F7)*100,0) -> 22.165735 | G37: =IFERROR(('May '!G22/'May '!G7)*100,0) -> 23.256794 | H37: =IFERROR(('May '!H22/'May '!H7)*100,0) -> 0 | I37: =IFERROR(('May '!I22/'May '!I7)*100,0) -> 11.029278 | ... S37: =IFERROR(('May '!S22/'May '!S7)*100,0) -> 25.921471
A38: ჩუღურეთის რაიონი | B38: =IFERROR(('May '!B23/'May '!B8)*100,0) -> 0 | C38: =IFERROR(('May '!C23/'May '!C8)*100,0) -> 0 | D38: =IFERROR(('May '!D23/'May '!D8)*100,0) -> 36.295846 | E38: =IFERROR(('May '!E23/'May '!E8)*100,0) -> 31.836625 | F38: =IFERROR(('May '!F23/'May '!F8)*100,0) -> 38.77029 | G38: =IFERROR(('May '!G23/'May '!G8)*100,0) -> 34.51445 | H38: =IFERROR(('May '!H23/'May '!H8)*100,0) -> 0 | I38: =IFERROR(('May '!I23/'May '!I8)*100,0) -> 21.111111 | ... S38: =IFERROR(('May '!S23/'May '!S8)*100,0) -> 36.234736
A39: ისნის რაიონი | B39: =IFERROR(('May '!B24/'May '!B9)*100,0) -> 10.375427 | C39: =IFERROR(('May '!C24/'May '!C9)*100,0) -> 28.238907 | D39: =IFERROR(('May '!D24/'May '!D9)*100,0) -> 23.922704 | E39: =IFERROR(('May '!E24/'May '!E9)*100,0) -> 24.587621 | F39: =IFERROR(('May '!F24/'May '!F9)*100,0) -> 29.692313 | G39: =IFERROR(('May '!G24/'May '!G9)*100,0) -> 25.44399 | H39: =IFERROR(('May '!H24/'May '!H9)*100,0) -> 0 | I39: =IFERROR(('May '!I24/'May '!I9)*100,0) -> 12.665167 | ... S39: =IFERROR(('May '!S24/'May '!S9)*100,0) -> 26.523164
A40: სამგორის რაიონი | B40: =IFERROR(('May '!B25/'May '!B10)*100,0) -> 23.04872 | C40: =IFERROR(('May '!C25/'May '!C10)*100,0) -> 17.740259 | D40: =IFERROR(('May '!D25/'May '!D10)*100,0) -> 25.74918 | E40: =IFERROR(('May '!E25/'May '!E10)*100,0) -> 38.077664 | F40: =IFERROR(('May '!F25/'May '!F10)*100,0) -> 44.134311 | G40: =IFERROR(('May '!G25/'May '!G10)*100,0) -> 35.252087 | H40: =IFERROR(('May '!H25/'May '!H10)*100,0) -> 0 | I40: =IFERROR(('May '!I25/'May '!I10)*100,0) -> 3.8267875 | ... S40: =IFERROR(('May '!S25/'May '!S10)*100,0) -> 29.556844
A41: ვაკის რაიონი | B41: =IFERROR(('May '!B26/'May '!B11)*100,0) -> 7.0529565 | C41: =IFERROR(('May '!C26/'May '!C11)*100,0) -> 2.5118958 | D41: =IFERROR(('May '!D26/'May '!D11)*100,0) -> 24.777501 | E41: =IFERROR(('May '!E26/'May '!E11)*100,0) -> 34.623533 | F41: =IFERROR(('May '!F26/'May '!F11)*100,0) -> 37.651438 | G41: =IFERROR(('May '!G26/'May '!G11)*100,0) -> 29.438267 | H41: =IFERROR(('May '!H26/'May '!H11)*100,0) -> 14.957753 | I41: =IFERROR(('May '!I26/'May '!I11)*100,0) -> 0 | ... S41: =IFERROR(('May '!S26/'May '!S11)*100,0) -> 25.843285
A42: საბურთალოს რაიონი | B42: =IFERROR(('May '!B27/'May '!B12)*100,0) -> 2.3707561 | C42: =IFERROR(('May '!C27/'May '!C12)*100,0) -> 14.327682 | D42: =IFERROR(('May '!D27/'May '!D12)*100,0) -> 30.57837 | E42: =IFERROR(('May '!E27/'May '!E12)*100,0) -> 39.521201 | F42: =IFERROR(('May '!F27/'May '!F12)*100,0) -> 47.90207 | G42: =IFERROR(('May '!G27/'May '!G12)*100,0) -> 37.744137 | H42: =IFERROR(('May '!H27/'May '!H12)*100,0) -> 0 | I42: =IFERROR(('May '!I27/'May '!I12)*100,0) -> 15.800562 | ... S42: =IFERROR(('May '!S27/'May '!S12)*100,0) -> 28.238413
A43: მთაწმინდის რაიონი | B43: =IFERROR(('May '!B28/'May '!B13)*100,0) -> 0 | C43: =IFERROR(('May '!C28/'May '!C13)*100,0) -> 0 | D43: =IFERROR(('May '!D28/'May '!D13)*100,0) -> 19.039157 | E43: =IFERROR(('May '!E28/'May '!E13)*100,0) -> 30.802495 | F43: =IFERROR(('May '!F28/'May '!F13)*100,0) -> 39.044533 | G43: =IFERROR(('May '!G28/'May '!G13)*100,0) -> 32.825784 | H43: =IFERROR(('May '!H28/'May '!H13)*100,0) -> 0 | I43: =IFERROR(('May '!I28/'May '!I13)*100,0) -> 26.055079 | ... S43: =IFERROR(('May '!S28/'May '!S13)*100,0) -> 26.207066
A44: კრწანისის რაიონი | B44: =IFERROR(('May '!B29/'May '!B14)*100,0) -> 48.235877 | C44: =IFERROR(('May '!C29/'May '!C14)*100,0) -> 0 | D44: =IFERROR(('May '!D29/'May '!D14)*100,0) -> 47.198538 | E44: =IFERROR(('May '!E29/'May '!E14)*100,0) -> 57.400321 | F44: =IFERROR(('May '!F29/'May '!F14)*100,0) -> 66.62356 | G44: =IFERROR(('May '!G29/'May '!G14)*100,0) -> 58.278622 | H44: =IFERROR(('May '!H29/'May '!H14)*100,0) -> 0 | I44: =IFERROR(('May '!I29/'May '!I14)*100,0) -> 24.662737 | ... S44: =IFERROR(('May '!S29/'May '!S14)*100,0) -> 39.539677
A45: სულ | B45: =IFERROR(('May '!B30/'May '!B15)*100,0) -> 14.31347 | C45: =IFERROR(('May '!C30/'May '!C15)*100,0) -> 20.006828 | D45: =IFERROR(('May '!D30/'May '!D15)*100,0) -> 27.837059 | E45: =IFERROR(('May '!E30/'May '!E15)*100,0) -> 30.517124 | F45: =IFERROR(('May '!F30/'May '!F15)*100,0) -> 37.077061 | G45: =IFERROR(('May '!G30/'May '!G15)*100,0) -> 31.006721 | H45: =IFERROR(('May '!H30/'May '!H15)*100,0) -> 7.6308598 | I45: =IFERROR(('May '!I30/'May '!I15)*100,0) -> 15.445778 | ... S45: =IFERROR(('May '!S30/'May '!S15)*100,0) -> 28.002004

Sheet June 
B1: ქ.თბილისის მუნიციპალიტეტის მერია ჯანდაცვისა და სოციალური მომსახურების საქალაქო სამსახური
A2: კომისიის მიერ განხილული საქმეებზე მოთხოვნილი თანხა განმცხადებლების სქესისა და ასაკის მიხედვით
B3: მამრობითი | H3: მდედრობითი | N3: სულ
A4: რაიონი | B4: 0_5 | C4: 6_17 | D4: 18_39 | E4: 40_59 | F4: 59-ზე მეტი | G4: სულ | H4: 0_5 | I4: 6_17 | J4: 18_39 | K4: 40_59 | L4: 59-ზე მეტი | M4: სულ | N4: 0_5 | O4: 6_17 | P4: 18_39 | Q4: 40_59 | R4: 59-ზე მეტი | S4: სულ
A5: გლდანის რაიონი | B5: 26522 | C5: 71419.453 | D5: 151320.89 | E5: 209627.13 | F5: 339756.45 | G5: 798645.91 | H5: 17140 | I5: 55516.1 | J5: 148438 | K5: 250224.53 | L5: 354795.35 | M5: 826113.98 | N5: 43662 | O5: 126935.55 | P5: 299758.89 | Q5: 459851.66 | R5: 694551.79 | S5: 1624759.9
A6: ნაძალადევის რაიონი | B6: 10210 | C6: 44893.29 | D6: 20923.6 | E6: 48054.27 | F6: 133817.5 | G6: 257898.66 | H6: 2034 | I6: 11185.03 | J6: 15084.48 | K6: 62941.64 | L6: 106043.51 | M6: 197288.66 | N6: 12244 | O6: 56078.32 | P6: 36008.08 | Q6: 110995.91 | R6: 239861.01 | S6: 455187.32
A7: დიდუბის რაიონი | B7: 6942 | C7: 5565 | D7: 11434.952 | E7: 21531.75 | F7: 31938.109 | G7: 77411.811 | H7: 2154 | I7: 2072 | J7: 6840 | K7: 21290.95 | L7: 68660.02 | M7: 101016.97 | N7: 9096 | O7: 7637 | P7: 18274.952 | Q7: 42822.7 | R7: 100598.13 | S7: 178428.78
A8: ჩუღურეთის რაიონი | B8: 88700 | C8: 42969 | D8: 12354.948 | E8: 21459.821 | F8: 31432.915 | G8: 196916.68 | H8: 1680 | I8: 8128 | J8: 200209 | K8: 18317 | L8: 74199.162 | M8: 302533.16 | N8: 90380 | O8: 51097 | P8: 212563.95 | Q8: 39776.821 | R8: 105632.08 | S8: 499449.85
A9: ისნის რაიონი | B9: 3357 | C9: 1245 | D9: 10512.06 | E9: 27687.206 | F9: 29462.684 | G9: 72263.95 | H9: 3791 | I9: 128336.26 | J9: 8233.94 | K9: 68472.1 | L9: 39182.131 | M9: 248015.43 | N9: 7148 | O9: 129581.26 | P9: 18746 | Q9: 96159.306 | R9: 68644.815 | S9: 320279.38
A10: სამგორის რაიონი | B10: 10595 | C10: 21516 | D10: 23015.96 | E10: 82948 | F10: 127521.56 | G10: 265596.52 | H10: 177553.94 | I10: 13887.43 | J10: 19107 | K10: 88047.868 | L10: 109695.42 | M10: 408291.65 | N10: 188148.94 | O10: 35403.43 | P10: 42122.96 | Q10: 170995.87 | R10: 237216.98 | S10: 673888.17
A11: ვაკის რაიონი | B11: 4860 | C11: 8168.0396 | D11: 93192.74 | E11: 43261.288 | F11: 121454.79 | G11: 270936.86 | H11: 2180 | I11: 4729 | J11: 45380.75 | K11: 82513.9 | L11: 86151.574 | M11: 220955.22 | N11: 7040 | O11: 12897.04 | P11: 138573.49 | Q11: 125775.19 | R11: 207606.36 | S11: 491892.08
A12: საბურთალოს რაიონი | B12: 7849.3908 | C12: 31235 | D12: 80117.6 | E12: 260600.81 | F12: 161444.16 | G12: 541246.96 | H12: 2700 | I12: 74137 | J12: 76203.851 | K12: 168201.91 | L12: 134066.63 | M12: 455309.39 | N12: 10549.391 | O12: 105372 | P12: 156321.45 | Q12: 428802.72 | R12: 295510.8 | S12: 996556.35
A13: მთაწმინდის რაიონი | B13: 0 | C13: 0 | D13: 8111 | E13: 4067.96 | F13: 44185.317 | G13: 56364.277 | H13: 1680 | I13: 1150 | J13: 11294 | K13: 14353.8 | L13: 46176.602 | M13: 74654.402 | N13: 1680 | O13: 1150 | P13: 19405 | Q13: 18421.76 | R13: 90361.919 | S13: 131018.68
A14: კრწანისის რაიონი | B14: 2400 | C14: 9700 | D14: 3405 | E14: 7969 | F14: 18258 | G14: 41732 | H14: 0 | I14: 0 | J14: 6600.527 | K14: 44373.9 | L14: 16810.14 | M14: 67784.567 | N14: 2400 | O14: 9700 | P14: 10005.527 | Q14: 52342.9 | R14: 35068.14 | S14: 109516.57
A15: სულ | B15: 161435.39 | C15: 236710.78 | D15: 414388.75 | E15: 727207.23 | F15: 1039271.5 | G15: 2579013.6 | H15: 210912.94 | I15: 299140.82 | J15: 537391.55 | K15: 818737.6 | L15: 1035780.5 | M15: 2901963.4 | N15: 372348.33 | O15: 535851.61 | P15: 951780.29 | Q15: 1545944.8 | R15: 2075052 | S15: 5480977.1
A17: კომისიის მიერ განხილული საქმეებზე გამოყოფილი თანხა განმცხადებლების სქესისა და ასაკის მიხედვით
B18: მამრობითი | H18: მდედრობითი | N18: სულ
A19: რაიონი | B19: 0_5 | C19: 6_17 | D19: 18_39 | E19: 40_59 | F19: 59-ზე მეტი | G19: სულ | H19: 0_5 | I19: 6_17 | J19: 18_39 | K19: 40_59 | L19: 59-ზე მეტი | M19: სულ | N19: 0_5 | O19: 6_17 | P19: 18_39 | Q19: 40_59 | R19: 59-ზე მეტი | S19: სულ
A20: გლდანის რაიონი | B20: 1400 | C20: 12475 | D20: 40166 | E20: 78008 | F20: 116757 | G20: 248806 | H20: 2050 | I20: 21741 | J20: 31856 | K20: 60596 | L20: 116490 | M20: 232733 | N20: 3450 | O20: 34216 | P20: 72022 | Q20: 138604 | R20: 233247 | S20: 481539
A21: ნაძალადევის რაიონი | B21: 0 | C21: 21400 | D21: 4307 | E21: 16000 | F21: 42629 | G21: 84336 | H21: 300 | I21: 1800 | J21: 6945 | K21: 21887 | L21: 53627 | M21: 84559 | N21: 300 | O21: 23200 | P21: 11252 | Q21: 37887 | R21: 96256 | S21: 168895
A22: დიდუბის რაიონი | B22: 400 | C22: 150 | D22: 2688 | E22: 9184 | F22: 11134 | G22: 23556 | H22: 300 | I22: 300 | J22: 3775 | K22: 2757 | L22: 19895 | M22: 27027 | N22: 700 | O22: 450 | P22: 6463 | Q22: 11941 | R22: 31029 | S22: 50583
A23: ჩუღურეთის რაიონი | B23: 20000 | C23: 42000 | D23: 7500 | E23: 6398 | F23: 8886 | G23: 84784 | H23: 0 | I23: 900 | J23: 52321 | K23: 5659 | L23: 16356 | M23: 75236 | N23: 20000 | O23: 42900 | P23: 59821 | Q23: 12057 | R23: 25242 | S23: 160020
A24: ისნის რაიონი | B24: 840 | C24: 0 | D24: 3097 | E24: 6230 | F24: 7557 | G24: 17724 | H24: 504 | I24: 20879 | J24: 2716 | K24: 31356 | L24: 11303 | M24: 66758 | N24: 1344 | O24: 20879 | P24: 5813 | Q24: 37586 | R24: 18860 | S24: 84482
A25: სამგორის რაიონი | B25: 0 | C25: 2450 | D25: 5927 | E25: 12803 | F25: 32959 | G25: 54139 | H25: 21015 | I25: 5196 | J25: 6302 | K25: 22102 | L25: 32350 | M25: 86965 | N25: 21015 | O25: 7646 | P25: 12229 | Q25: 34905 | R25: 65309 | S25: 141104
A26: ვაკის რაიონი | B26: 0 | C26: 1315 | D26: 36232 | E26: 22637 | F26: 44671 | G26: 104855 | H26: 400 | I26: 1712 | J26: 14283 | K26: 39724 | L26: 32029 | M26: 88148 | N26: 400 | O26: 3027 | P26: 50515 | Q26: 62361 | R26: 76700 | S26: 193003
A27: საბურთალოს რაიონი | B27: 300 | C27: 2050 | D27: 19691 | E27: 61068 | F27: 41144 | G27: 124253 | H27: 0 | I27: 14080 | J27: 26966 | K27: 47428 | L27: 41764 | M27: 130238 | N27: 300 | O27: 16130 | P27: 46657 | Q27: 108496 | R27: 82908 | S27: 254491
A28: მთაწმინდის რაიონი | B28: 0 | C28: 0 | D28: 2047 | E28: 200 | F28: 15689 | G28: 17936 | H28: 0 | I28: 0 | J28: 1740 | K28: 6202 | L28: 19628 | M28: 27570 | N28: 0 | O28: 0 | P28: 3787 | Q28: 6402 | R28: 35317 | S28: 45506
A29: კრწანისის რაიონი | B29: 0 | C29: 2000 | D29: 1021 | E29: 1734 | F29: 2727 | G29: 7482 | H29: 0 | I29: 0 | J29: 2115 | K29: 5424 | L29: 6174 | M29: 13713 | N29: 0 | O29: 2000 | P29: 3136 | Q29: 7158 | R29: 8901 | S29: 21195
A30: სულ | B30: 22940 | C30: 83840 | D30: 122676 | E30: 214262 | F30: 324153 | G30: 767871 | H30: 24569 | I30: 66608 | J30: 149019 | K30: 243135 | L30: 349616 | M30: 832947 | N30: 47509 | O30: 150448 | P30: 271695 | Q30: 457397 | R30: 673769 | S30: 1600818
A32: კომისიის მიერ სრულად ან ნაწილობრივ დაკმაყოფილებულ მოთხოვნებზე გამოყოფილი თანხის წილი სქესისა და ასაკის მიხედვით (%)
B33: მამრობითი | H33: მდედრობითი | N33: სულ
A34: რაიონი | B34: 0_5 | C34: 6_17 | D34: 18_39 | E34: 40_59 | F34: 59-ზე მეტი | G34: სულ | H34: 0_5 | I34: 6_17 | J34: 18_39 | K34: 40_59 | L34: 59-ზე მეტი | M34: სულ | N34: 0_5 | O34: 6_17 | P34: 18_39 | Q34: 40_59 | R34: 59-ზე მეტი | S34: სულ
A35: გლდანის რაიონი | B35: =IFERROR(('June '!B20/'June '!B5)*100,0) -> 5.2786366 | C35: =IFERROR(('June '!C20/'June '!C5)*100,0) -> 17.46723 | D35: =IFERROR(('June '!D20/'June '!D5)*100,0) -> 26.543593 | E35: =IFERROR(('June '!E20/'June '!E5)*100,0) -> 37.212741 | F35: =IFERROR(('June '!F20/'June '!F5)*100,0) -> 34.364911 | G35: =IFERROR(('June '!G20/'June '!G5)*100,0) -> 31.153481 | H35: =IFERROR(('June '!H20/'June '!H5)*100,0) -> 11.960327 | I35: =IFERROR(('June '!I20/'June '!I5)*100,0) -> 39.161613 | ... S35: =IFERROR(('June '!S20/'June '!S5)*100,0) -> 29.637548
A36: ნაძალადევის რაიონი | B36: =IFERROR(('June '!B21/'June '!B6)*100,0) -> 0 | C36: =IFERROR(('June '!C21/'June '!C6)*100,0) -> 47.668594 | D36: =IFERROR(('June '!D21/'June '!D6)*100,0) -> 20.584412 | E36: =IFERROR(('June '!E21/'June '!E6)*100,0) -> 33.295688 | F36: =IFERROR(('June '!F21/'June '!F6)*100,0) -> 31.856072 | G36: =IFERROR(('June '!G21/'June '!G6)*100,0) -> 32.701216 | H36: =IFERROR(('June '!H21/'June '!H6)*100,0) -> 14.749263 | I36: =IFERROR(('June '!I21/'June '!I6)*100,0) -> 16.092939 | ... S36: =IFERROR(('June '!S21/'June '!S6)*100,0) -> 37.104504
A37: დიდუბის რაიონი | B37: =IFERROR(('June '!B22/'June '!B7)*100,0) -> 5.7620282 | C37: =IFERROR(('June '!C22/'June '!C7)*100,0) -> 2.6954178 | D37: =IFERROR(('June '!D22/'June '!D7)*100,0) -> 23.506876 | E37: =IFERROR(('June '!E22/'June '!E7)*100,0) -> 42.653291 | F37: =IFERROR(('June '!F22/'June '!F7)*100,0) -> 34.861175 | G37: =IFERROR(('June '!G22/'June '!G7)*100,0) -> 30.429465 | H37: =IFERROR(('June '!H22/'June '!H7)*100,0) -> 13.927577 | I37: =IFERROR(('June '!I22/'June '!I7)*100,0) -> 14.478764 | ... S37: =IFERROR(('June '!S22/'June '!S7)*100,0) -> 28.349126
A38: ჩუღურეთის რაიონი | B38: =IFERROR(('June '!B23/'June '!B8)*100,0) -> 22.547914 | C38: =IFERROR(('June '!C23/'June '!C8)*100,0) -> 97.744886 | D38: =IFERROR(('June '!D23/'June '!D8)*100,0) -> 60.704424 | E38: =IFERROR(('June '!E23/'June '!E8)*100,0) -> 29.813855 | F38: =IFERROR(('June '!F23/'June '!F8)*100,0) -> 28.269729 | G38: =IFERROR(('June '!G23/'June '!G8)*100,0) -> 43.055773 | H38: =IFERROR(('June '!H23/'June '!H8)*100,0) -> 0 | I38: =IFERROR(('June '!I23/'June '!I8)*100,0) -> 11.072835 | ... S38: =IFERROR(('June '!S23/'June '!S8)*100,0) -> 32.039253
A39: ისნის რაიონი | B39: =IFERROR(('June '!B24/'June '!B9)*100,0) -> 25.022341 | C39: =IFERROR(('June '!C24/'June '!C9)*100,0) -> 0 | D39: =IFERROR(('June '!D24/'June '!D9)*100,0) -> 29.4614 | E39: =IFERROR(('June '!E24/'June '!E9)*100,0) -> 22.501368 | F39: =IFERROR(('June '!F24/'June '!F9)*100,0) -> 25.649394 | G39: =IFERROR(('June '!G24/'June '!G9)*100,0) -> 24.526752 | H39: =IFERROR(('June '!H24/'June '!H9)*100,0) -> 13.294645 | I39: =IFERROR(('June '!I24/'June '!I9)*100,0) -> 16.268979 | ... S39: =IFERROR(('June '!S24/'June '!S9)*100,0) -> 26.377595
A40: სამგორის რაიონი | B40: =IFERROR(('June '!B25/'June '!B10)*100,0) -> 0 | C40: =IFERROR(('June '!C25/'June '!C10)*100,0) -> 11.386875 | D40: =IFERROR(('June '!D25/'June '!D10)*100,0) -> 25.751696 | E40: =IFERROR(('June '!E25/'June '!E10)*100,0) -> 15.434971 | F40: =IFERROR(('June '!F25/'June '!F10)*100,0) -> 25.845825 | G40: =IFERROR(('June '!G25/'June '!G10)*100,0) -> 20.383927 | H40: =IFERROR(('June '!H25/'June '!H10)*100,0) -> 11.83584 | I40: =IFERROR(('June '!I25/'June '!I10)*100,0) -> 37.41513 | ... S40: =IFERROR(('June '!S25/'June '!S10)*100,0) -> 20.938786
A41: ვაკის რაიონი | B41: =IFERROR(('June '!B26/'June '!B11)*100,0) -> 0 | C41: =IFERROR(('June '!C26/'June '!C11)*100,0) -> 16.099334 | D41: =IFERROR(('June '!D26/'June '!D11)*100,0) -> 38.878565 | E41: =IFERROR(('June '!E26/'June '!E11)*100,0) -> 52.326228 | F41: =IFERROR(('June '!F26/'June '!F11)*100,0) -> 36.779941 | G41: =IFERROR(('June '!G26/'June '!G11)*100,0) -> 38.700899 | H41: =IFERROR(('June '!H26/'June '!H11)*100,0) -> 18.348624 | I41: =IFERROR(('June '!I26/'June '!I11)*100,0) -> 36.202157 | ... S41: =IFERROR(('June '!S26/'June '!S11)*100,0) -> 39.236859
A42: საბურთალოს რაიონი | B42: =IFERROR(('June '!B27/'June '!B12)*100,0) -> 3.8219527 | C42: =IFERROR(('June '!C27/'June '!C12)*100,0) -> 6.5631503 | D42: =IFERROR(('June '!D27/'June '!D12)*100,0) -> 24.577621 | E42: =IFERROR(('June '!E27/'June '!E12)*100,0) -> 23.433542 | F42: =IFERROR(('June '!F27/'June '!F12)*100,0) -> 25.484972 | G42: =IFERROR(('June '!G27/'June '!G12)*100,0) -> 22.956803 | H42: =IFERROR(('June '!H27/'June '!H12)*100,0) -> 0 | I42: =IFERROR(('June '!I27/'June '!I12)*100,0) -> 18.991866 | ... S42: =IFERROR(('June '!S27/'June '!S12)*100,0) -> 25.537041
A43: მთაწმინდის რაიონი | B43: =IFERROR(('June '!B28/'June '!B13)*100,0) -> 0 | C43: =IFERROR(('June '!C28/'June '!C13)*100,0) -> 0 | D43: =IFERROR(('June '!D28/'June '!D13)*100,0) -> 25.237332 | E43: =IFERROR(('June '!E28/'June '!E13)*100,0) -> 4.9164692 | F43: =IFERROR(('June '!F28/'June '!F13)*100,0) -> 35.507271 | G43: =IFERROR(('June '!G28/'June '!G13)*100,0) -> 31.821574 | H43: =IFERROR(('June '!H28/'June '!H13)*100,0) -> 0 | I43: =IFERROR(('June '!I28/'June '!I13)*100,0) -> 0 | ... S43: =IFERROR(('June '!S28/'June '!S13)*100,0) -> 34.732452
A44: კრწანისის რაიონი | B44: =IFERROR(('June '!B29/'June '!B14)*100,0) -> 0 | C44: =IFERROR(('June '!C29/'June '!C14)*100,0) -> 20.618557 | D44: =IFERROR(('June '!D29/'June '!D14)*100,0) -> 29.985316 | E44: =IFERROR(('June '!E29/'June '!E14)*100,0) -> 21.759317 | F44: =IFERROR(('June '!F29/'June '!F14)*100,0) -> 14.935919 | G44: =IFERROR(('June '!G29/'June '!G14)*100,0) -> 17.928688 | H44: =IFERROR(('June '!H29/'June '!H14)*100,0) -> 0 | I44: =IFERROR(('June '!I29/'June '!I14)*100,0) -> 0 | ... S44: =IFERROR(('June '!S29/'June '!S14)*100,0) -> 19.353236
A45: სულ | B45: =IFERROR(('June '!B30/'June '!B15)*100,0) -> 14.210019 | C45: =IFERROR(('June '!C30/'June '!C15)*100,0) -> 35.41875 | D45: =IFERROR(('June '!D30/'June '!D15)*100,0) -> 29.604086 | E45: =IFERROR(('June '!E30/'June '!E15)*100,0) -> 29.463679 | F45: =IFERROR(('June '!F30/'June '!F15)*100,0) -> 31.190406 | G45: =IFERROR(('June '!G30/'June '!G15)*100,0) -> 29.773825 | H45: =IFERROR(('June '!H30/'June '!H15)*100,0) -> 11.648882 | I45: =IFERROR(('June '!I30/'June '!I15)*100,0) -> 22.266436 | ... S45: =IFERROR(('June '!S30/'June '!S15)*100,0) -> 29.2068

Sheet July 
B1: ქ.თბილისის მუნიციპალიტეტის მერია ჯანდაცვისა და სოციალური მომსახურების საქალაქო სამსახური
A2: კომისიის მიერ განხილული საქმეებზე მოთხოვნილი თანხა განმცხადებლების სქესისა და ასაკის მიხედვით
B3: მამრობითი | H3: მდედრობითი | N3: სულ
A4: რაიონი | B4: 0_5 | C4: 6_17 | D4: 18_39 | E4: 40_59 | F4: 59-ზე მეტი | G4: სულ | H4: 0_5 | I4: 6_17 | J4: 18_39 | K4: 40_59 | L4: 59-ზე მეტი | M4: სულ | N4: 0_5 | O4: 6_17 | P4: 18_39 | Q4: 40_59 | R4: 59-ზე მეტი | S4: სულ
A5: გლდანის რაიონი | B5: 49120.383 | C5: 67510.885 | D5: 139789.86 | E5: 430160.51 | F5: 344601.64 | G5: 1031183.3 | H5: 12829 | I5: 36906.07 | J5: 166072 | K5: 416039.51 | L5: 289206.34 | M5: 921052.92 | N5: 61949.383 | O5: 104416.95 | P5: 305861.86 | Q5: 846200.03 | R5: 633807.97 | S5: 1952236.2
A6: ნაძალადევის რაიონი | B6: 5040 | C6: 6435.9 | D6: 22437 | E6: 24471.68 | F6: 804843.69 | G6: 863228.27 | H6: 10465 | I6: 14358 | J6: 31011.92 | K6: 64012 | L6: 97136.903 | M6: 216983.82 | N6: 15505 | O6: 20793.9 | P6: 53448.92 | Q6: 88483.68 | R6: 901980.6 | S6: 1080212.1
A7: დიდუბის რაიონი | B7: 0 | C7: 7628 | D7: 39996 | E7: 41664.2 | F7: 70351.2 | G7: 159639.4 | H7: 0 | I7: 4271.9328 | J7: 2374 | K7: 44343.35 | L7: 37061.58 | M7: 88050.863 | N7: 0 | O7: 11899.933 | P7: 42370 | Q7: 86007.55 | R7: 107412.78 | S7: 247690.26
A8: ჩუღურეთის რაიონი | B8: 0 | C8: 11324.584 | D8: 10647 | E8: 23859.42 | F8: 17202.857 | G8: 63033.861 | H8: 1050 | I8: 4605 | J8: 36256.6 | K8: 140964.1 | L8: 69003.24 | M8: 251878.94 | N8: 1050 | O8: 15929.584 | P8: 46903.6 | Q8: 164823.52 | R8: 86206.097 | S8: 314912.8
A9: ისნის რაიონი | B9: 0 | C9: 10103.4 | D9: 13389 | E9: 19942 | F9: 45975.974 | G9: 89410.374 | H9: 2737.6 | I9: 11854.192 | J9: 31251 | K9: 77258 | L9: 76756.006 | M9: 199856.8 | N9: 2737.6 | O9: 21957.592 | P9: 44640 | Q9: 97200 | R9: 122731.98 | S9: 289267.17
A10: სამგორის რაიონი | B10: 3582.06 | C10: 12490 | D10: 41118 | E10: 36648.68 | F10: 79302.416 | G10: 173141.16 | H10: 5106 | I10: 26778 | J10: 11343 | K10: 91178.724 | L10: 127601.27 | M10: 262006.99 | N10: 8688.06 | O10: 39268 | P10: 52461 | Q10: 127827.4 | R10: 206903.68 | S10: 435148.15
A11: ვაკის რაიონი | B11: 3080 | C11: 295485 | D11: 40758.983 | E11: 360600.86 | F11: 109422.19 | G11: 809347.04 | H11: 2446 | I11: 22419.511 | J11: 10550 | K11: 66187.597 | L11: 85743.326 | M11: 187346.43 | N11: 5526 | O11: 317904.51 | P11: 51308.983 | Q11: 426788.46 | R11: 195165.52 | S11: 996693.47
A12: საბურთალოს რაიონი | B12: 19525 | C12: 19034 | D12: 302161.37 | E12: 99688.11 | F12: 855964.83 | G12: 1296373.3 | H12: 1299 | I12: 595937.43 | J12: 14752.798 | K12: 71812.82 | L12: 176919.4 | M12: 860721.45 | N12: 20824 | O12: 614971.43 | P12: 316914.17 | Q12: 171500.93 | R12: 1032884.2 | S12: 2157094.8
A13: მთაწმინდის რაიონი | B13: 5193.0356 | C13: 0 | D13: 4789 | E13: 18040.442 | F13: 52209.09 | G13: 80231.568 | H13: 790 | I13: 3524 | J13: 0 | K13: 37898.939 | L13: 27405.401 | M13: 69618.34 | N13: 5983.0356 | O13: 3524 | P13: 4789 | Q13: 55939.381 | R13: 79614.491 | S13: 149849.91
A14: კრწანისის რაიონი | B14: 0 | C14: 3156 | D14: 8000 | E14: 1110 | F14: 35699.474 | G14: 47965.474 | H14: 0 | I14: 3145 | J14: 3885 | K14: 10683.16 | L14: 74973.07 | M14: 92686.23 | N14: 0 | O14: 6301 | P14: 11885 | Q14: 11793.16 | R14: 110672.54 | S14: 140651.7
A15: სულ | B15: 85540.479 | C15: 433167.77 | D15: 623086.21 | E15: 1056185.9 | F15: 2415573.4 | G15: 4613553.7 | H15: 36722.6 | I15: 723799.14 | J15: 307496.32 | K15: 1020378.2 | L15: 1061806.5 | M15: 3150202.8 | N15: 122263.08 | O15: 1156966.9 | P15: 930582.53 | Q15: 2076564.1 | R15: 3477379.9 | S15: 7763756.5
A17: კომისიის მიერ განხილული საქმეებზე გამოყოფილი თანხა განმცხადებლების სქესისა და ასაკის მიხედვით
B18: მამრობითი | H18: მდედრობითი | N18: სულ
A19: რაიონი | B19: 0_5 | C19: 6_17 | D19: 18_39 | E19: 40_59 | F19: 59-ზე მეტი | G19: სულ | H19: 0_5 | I19: 6_17 | J19: 18_39 | K19: 40_59 | L19: 59-ზე მეტი | M19: სულ | N19: 0_5 | O19: 6_17 | P19: 18_39 | Q19: 40_59 | R19: 59-ზე მეტი | S19: სულ
A20: გლდანის რაიონი | B20: 4102 | C20: 10244 | D20: 44207 | E20: 138292 | F20: 105415 | G20: 302260 | H20: 1200 | I20: 5905 | J20: 37207 | K20: 131554 | L20: 103000 | M20: 278866 | N20: 5302 | O20: 16149 | P20: 81414 | Q20: 269846 | R20: 208415 | S20: 581126
A21: ნაძალადევის რაიონი | B21: 0 | C21: 200 | D21: 1557 | E21: 11132 | F21: 72112 | G21: 85001 | H21: 2635 | I21: 1600 | J21: 10661 | K21: 22908 | L21: 26744 | M21: 64548 | N21: 2635 | O21: 1800 | P21: 12218 | Q21: 34040 | R21: 98856 | S21: 149549
A22: დიდუბის რაიონი | B22: 0 | C22: 1400 | D22: 13187 | E22: 7990 | F22: 29877 | G22: 52454 | H22: 0 | I22: 500 | J22: 712 | K22: 11578 | L22: 10901 | M22: 23691 | N22: 0 | O22: 1900 | P22: 13899 | Q22: 19568 | R22: 40778 | S22: 76145
A23: ჩუღურეთის რაიონი | B23: 0 | C23: 450 | D23: 3143 | E23: 13159 | F23: 6500 | G23: 23252 | H23: 200 | I23: 0 | J23: 16290 | K23: 42765 | L23: 39466 | M23: 98721 | N23: 200 | O23: 450 | P23: 19433 | Q23: 55924 | R23: 45966 | S23: 121973
A24: ისნის რაიონი | B24: 0 | C24: 2051 | D24: 7711 | E24: 7342 | F24: 18095 | G24: 35199 | H24: 150 | I24: 2635 | J24: 10082 | K24: 20598 | L24: 29453 | M24: 62918 | N24: 150 | O24: 4686 | P24: 17793 | Q24: 27940 | R24: 47548 | S24: 98117
A25: სამგორის რაიონი | B25: 250 | C25: 300 | D25: 10531 | E25: 8586 | F25: 21484 | G25: 41151 | H25: 2400 | I25: 8887 | J25: 2811 | K25: 33251 | L25: 49167 | M25: 96516 | N25: 2650 | O25: 9187 | P25: 13342 | Q25: 41837 | R25: 70651 | S25: 137667
A26: ვაკის რაიონი | B26: 0 | C26: 41437 | D26: 18783 | E26: 54787 | F26: 41763 | G26: 156770 | H26: 300 | I26: 5565 | J26: 715 | K26: 32253 | L26: 22100 | M26: 60933 | N26: 300 | O26: 47002 | P26: 19498 | Q26: 87040 | R26: 63863 | S26: 217703
A27: საბურთალოს რაიონი | B27: 1197 | C27: 805 | D27: 34054 | E27: 21315 | F27: 90399 | G27: 147770 | H27: 389 | I27: 122600 | J27: 3494 | K27: 33192 | L27: 59103 | M27: 218778 | N27: 1586 | O27: 123405 | P27: 37548 | Q27: 54507 | R27: 149502 | S27: 366548
A28: მთაწმინდის რაიონი | B28: 727 | C28: 0 | D28: 1436 | E28: 6667 | F28: 23122 | G28: 31952 | H28: 790 | I28: 300 | J28: 0 | K28: 5765 | L28: 11744 | M28: 18599 | N28: 1517 | O28: 300 | P28: 1436 | Q28: 12432 | R28: 34866 | S28: 50551
A29: კრწანისის რაიონი | B29: 0 | C29: 3156 | D29: 2500 | E29: 333 | F29: 11884 | G29: 17873 | H29: 0 | I29: 943 | J29: 1715 | K29: 2302 | L29: 22730 | M29: 27690 | N29: 0 | O29: 4099 | P29: 4215 | Q29: 2635 | R29: 34614 | S29: 45563
A30: სულ | B30: 6276 | C30: 60043 | D30: 137109 | E30: 269603 | F30: 420651 | G30: 893682 | H30: 8064 | I30: 148935 | J30: 83687 | K30: 336166 | L30: 374408 | M30: 951260 | N30: 14340 | O30: 208978 | P30: 220796 | Q30: 605769 | R30: 795059 | S30: 1844942
A32: კომისიის მიერ სრულად ან ნაწილობრივ დაკმაყოფილებულ მოთხოვნებზე გამოყოფილი თანხის წილი სქესისა და ასაკის მიხედვით (%)
B33: მამრობითი | H33: მდედრობითი | N33: სულ
A34: რაიონი | B34: 0_5 | C34: 6_17 | D34: 18_39 | E34: 40_59 | F34: 59-ზე მეტი | G34: სულ | H34: 0_5 | I34: 6_17 | J34: 18_39 | K34: 40_59 | L34: 59-ზე მეტი | M34: სულ | N34: 0_5 | O34: 6_17 | P34: 18_39 | Q34: 40_59 | R34: 59-ზე მეტი | S34: სულ
A35: გლდანის რაიონი | B35: =IFERROR(('July '!B20/'July '!B5)*100,0) -> 8.3509121 | C35: =IFERROR(('July '!C20/'July '!C5)*100,0) -> 15.173849 | D35: =IFERROR(('July '!D20/'July '!D5)*100,0) -> 31.623896 | E35: =IFERROR(('July '!E20/'July '!E5)*100,0) -> 32.14893 | F35: =IFERROR(('July '!F20/'July '!F5)*100,0) -> 30.590394 | G35: =IFERROR(('July '!G20/'July '!G5)*100,0) -> 29.311957 | H35: =IFERROR(('July '!H20/'July '!H5)*100,0) -> 9.3538078 | I35: =IFERROR(('July '!I20/'July '!I5)*100,0) -> 16.000078 | ... S35: =IFERROR(('July '!S20/'July '!S5)*100,0) -> 29.767197
A36: ნაძალადევის რაიონი | B36: =IFERROR(('July '!B21/'July '!B6)*100,0) -> 0 | C36: =IFERROR(('July '!C21/'July '!C6)*100,0) -> 3.1075685 | D36: =IFERROR(('July '!D21/'July '!D6)*100,0) -> 6.9394304 | E36: =IFERROR(('July '!E21/'July '!E6)*100,0) -> 45.489317 | F36: =IFERROR(('July '!F21/'July '!F6)*100,0) -> 8.9597521 | G36: =IFERROR(('July '!G21/'July '!G6)*100,0) -> 9.8468739 | H36: =IFERROR(('July '!H21/'July '!H6)*100,0) -> 25.179169 | I36: =IFERROR(('July '!I21/'July '!I6)*100,0) -> 11.143613 | ... S36: =IFERROR(('July '!S21/'July '!S6)*100,0) -> 13.844411
A37: დიდუბის რაიონი | B37: =IFERROR(('July '!B22/'July '!B7)*100,0) -> 0 | C37: =IFERROR(('July '!C22/'July '!C7)*100,0) -> 18.353435 | D37: =IFERROR(('July '!D22/'July '!D7)*100,0) -> 32.970797 | E37: =IFERROR(('July '!E22/'July '!E7)*100,0) -> 19.177135 | F37: =IFERROR(('July '!F22/'July '!F7)*100,0) -> 42.468359 | G37: =IFERROR(('July '!G22/'July '!G7)*100,0) -> 32.857803 | H37: =IFERROR(('July '!H22/'July '!H7)*100,0) -> 0 | I37: =IFERROR(('July '!I22/'July '!I7)*100,0) -> 11.704304 | ... S37: =IFERROR(('July '!S22/'July '!S7)*100,0) -> 30.742024
A38: ჩუღურეთის რაიონი | B38: =IFERROR(('July '!B23/'July '!B8)*100,0) -> 0 | C38: =IFERROR(('July '!C23/'July '!C8)*100,0) -> 3.9736559 | D38: =IFERROR(('July '!D23/'July '!D8)*100,0) -> 29.520053 | E38: =IFERROR(('July '!E23/'July '!E8)*100,0) -> 55.152221 | F38: =IFERROR(('July '!F23/'July '!F8)*100,0) -> 37.784421 | G38: =IFERROR(('July '!G23/'July '!G8)*100,0) -> 36.88811 | H38: =IFERROR(('July '!H23/'July '!H8)*100,0) -> 19.047619 | I38: =IFERROR(('July '!I23/'July '!I8)*100,0) -> 0 | ... S38: =IFERROR(('July '!S23/'July '!S8)*100,0) -> 38.732309
A39: ისნის რაიონი | B39: =IFERROR(('July '!B24/'July '!B9)*100,0) -> 0 | C39: =IFERROR(('July '!C24/'July '!C9)*100,0) -> 20.300097 | D39: =IFERROR(('July '!D24/'July '!D9)*100,0) -> 57.592053 | E39: =IFERROR(('July '!E24/'July '!E9)*100,0) -> 36.816769 | F39: =IFERROR(('July '!F24/'July '!F9)*100,0) -> 39.357513 | G39: =IFERROR(('July '!G24/'July '!G9)*100,0) -> 39.367915 | H39: =IFERROR(('July '!H24/'July '!H9)*100,0) -> 5.4792519 | I39: =IFERROR(('July '!I24/'July '!I9)*100,0) -> 22.228423 | ... S39: =IFERROR(('July '!S24/'July '!S9)*100,0) -> 33.919162
A40: სამგორის რაიონი | B40: =IFERROR(('July '!B25/'July '!B10)*100,0) -> 6.9792242 | C40: =IFERROR(('July '!C25/'July '!C10)*100,0) -> 2.4019215 | D40: =IFERROR(('July '!D25/'July '!D10)*100,0) -> 25.611654 | E40: =IFERROR(('July '!E25/'July '!E10)*100,0) -> 23.427856 | F40: =IFERROR(('July '!F25/'July '!F10)*100,0) -> 27.09123 | G40: =IFERROR(('July '!G25/'July '!G10)*100,0) -> 23.767313 | H40: =IFERROR(('July '!H25/'July '!H10)*100,0) -> 47.003525 | I40: =IFERROR(('July '!I25/'July '!I10)*100,0) -> 33.187691 | ... S40: =IFERROR(('July '!S25/'July '!S10)*100,0) -> 31.636812
A41: ვაკის რაიონი | B41: =IFERROR(('July '!B26/'July '!B11)*100,0) -> 0 | C41: =IFERROR(('July '!C26/'July '!C11)*100,0) -> 14.023385 | D41: =IFERROR(('July '!D26/'July '!D11)*100,0) -> 46.083093 | E41: =IFERROR(('July '!E26/'July '!E11)*100,0) -> 15.193253 | F41: =IFERROR(('July '!F26/'July '!F11)*100,0) -> 38.166846 | G41: =IFERROR(('July '!G26/'July '!G11)*100,0) -> 19.369936 | H41: =IFERROR(('July '!H26/'July '!H11)*100,0) -> 12.264922 | I41: =IFERROR(('July '!I26/'July '!I11)*100,0) -> 24.822129 | ... S41: =IFERROR(('July '!S26/'July '!S11)*100,0) -> 21.842523
A42: საბურთალოს რაიონი | B42: =IFERROR(('July '!B27/'July '!B12)*100,0) -> 6.1306018 | C42: =IFERROR(('July '!C27/'July '!C12)*100,0) -> 4.2292739 | D42: =IFERROR(('July '!D27/'July '!D12)*100,0) -> 11.270137 | E42: =IFERROR(('July '!E27/'July '!E12)*100,0) -> 21.381687 | F42: =IFERROR(('July '!F27/'July '!F12)*100,0) -> 10.561065 | G42: =IFERROR(('July '!G27/'July '!G12)*100,0) -> 11.398723 | H42: =IFERROR(('July '!H27/'July '!H12)*100,0) -> 29.946112 | I42: =IFERROR(('July '!I27/'July '!I12)*100,0) -> 20.57263 | ... S42: =IFERROR(('July '!S27/'July '!S12)*100,0) -> 16.99267
A43: მთაწმინდის რაიონი | B43: =IFERROR(('July '!B28/'July '!B13)*100,0) -> 13.999519 | C43: =IFERROR(('July '!C28/'July '!C13)*100,0) -> 0 | D43: =IFERROR(('July '!D28/'July '!D13)*100,0) -> 29.985383 | E43: =IFERROR(('July '!E28/'July '!E13)*100,0) -> 36.955857 | F43: =IFERROR(('July '!F28/'July '!F13)*100,0) -> 44.287307 | G43: =IFERROR(('July '!G28/'July '!G13)*100,0) -> 39.824723 | H43: =IFERROR(('July '!H28/'July '!H13)*100,0) -> 100 | I43: =IFERROR(('July '!I28/'July '!I13)*100,0) -> 8.5130533 | ... S43: =IFERROR(('July '!S28/'July '!S13)*100,0) -> 33.734422
A44: კრწანისის რაიონი | B44: =IFERROR(('July '!B29/'July '!B14)*100,0) -> 0 | C44: =IFERROR(('July '!C29/'July '!C14)*100,0) -> 100 | D44: =IFERROR(('July '!D29/'July '!D14)*100,0) -> 31.25 | E44: =IFERROR(('July '!E29/'July '!E14)*100,0) -> 30 | F44: =IFERROR(('July '!F29/'July '!F14)*100,0) -> 33.289006 | G44: =IFERROR(('July '!G29/'July '!G14)*100,0) -> 37.262219 | H44: =IFERROR(('July '!H29/'July '!H14)*100,0) -> 0 | I44: =IFERROR(('July '!I29/'July '!I14)*100,0) -> 29.984102 | ... S44: =IFERROR(('July '!S29/'July '!S14)*100,0) -> 32.394204
A45: სულ | B45: =IFERROR(('July '!B30/'July '!B15)*100,0) -> 7.3368773 | C45: =IFERROR(('July '!C30/'July '!C15)*100,0) -> 13.861373 | D45: =IFERROR(('July '!D30/'July '!D15)*100,0) -> 22.00482 | E45: =IFERROR(('July '!E30/'July '!E15)*100,0) -> 25.526093 | F45: =IFERROR(('July '!F30/'July '!F15)*100,0) -> 17.414126 | G45: =IFERROR(('July '!G30/'July '!G15)*100,0) -> 19.370794 | H45: =IFERROR(('July '!H30/'July '!H15)*100,0) -> 21.959229 | I45: =IFERROR(('July '!I30/'July '!I15)*100,0) -> 20.576841 | ... S45: =IFERROR(('July '!S30/'July '!S15)*100,0) -> 23.763522

Sheet August 
B1: ქ.თბილისის მუნიციპალიტეტის მერია ჯანდაცვისა და სოციალური მომსახურების საქალაქო სამსახური
A2: კომისიის მიერ განხილული საქმეებზე მოთხოვნილი თანხა განმცხადებლების სქესისა და ასაკის მიხედვით
B3: მამრობითი | H3: მდედრობითი | N3: სულ
A4: რაიონი | B4: 0_5 | C4: 6_17 | D4: 18_39 | E4: 40_59 | F4: 59-ზე მეტი | G4: სულ | H4: 0_5 | I4: 6_17 | J4: 18_39 | K4: 40_59 | L4: 59-ზე მეტი | M4: სულ | N4: 0_5 | O4: 6_17 | P4: 18_39 | Q4: 40_59 | R4: 59-ზე მეტი | S4: სულ
A5: გლდანის რაიონი | B5: 0 | C5: 12541 | D5: 65182.2 | E5: 57890.1 | F5: 298149.96 | G5: 433763.26 | H5: 0 | I5: 5210 | J5: 24023.752 | K5: 37163.47 | L5: 145773.96 | M5: 212171.18 | N5: 0 | O5: 17751 | P5: 89205.952 | Q5: 95053.57 | R5: 443923.92 | S5: 645934.44
A6: ნაძალადევის რაიონი | B6: 1021 | C6: 7791 | D6: 12969.55 | E6: 180707.25 | F6: 111925.92 | G6: 314414.72 | H6: 5215 | I6: 35327.019 | J6: 16653 | K6: 82176.77 | L6: 93814.543 | M6: 233186.33 | N6: 6236 | O6: 43118.019 | P6: 29622.55 | Q6: 262884.02 | R6: 205740.46 | S6: 547601.05
A7: დიდუბის რაიონი | B7: 1027 | C7: 252588 | D7: 12918 | E7: 10532 | F7: 58780.92 | G7: 335845.92 | H7: 0 | I7: 2345 | J7: 14461 | K7: 58140 | L7: 54017.541 | M7: 128963.54 | N7: 1027 | O7: 254933 | P7: 27379 | Q7: 68672 | R7: 112798.46 | S7: 464809.46
A8: ჩუღურეთის რაიონი | B8: 0 | C8: 23000 | D8: 17288.528 | E8: 79622.179 | F8: 44221.166 | G8: 164131.87 | H8: 0 | I8: 5675 | J8: 18171 | K8: 67644.55 | L8: 31261.8 | M8: 122752.35 | N8: 0 | O8: 28675 | P8: 35459.528 | Q8: 147266.73 | R8: 75482.966 | S8: 286884.22
A9: ისნის რაიონი | B9: 4380 | C9: 11898.76 | D9: 21014.16 | E9: 40003.92 | F9: 96236 | G9: 173532.84 | H9: 571.048 | I9: 4021 | J9: 54406.86 | K9: 60578.41 | L9: 120831.64 | M9: 240408.96 | N9: 4951.048 | O9: 15919.76 | P9: 75421.02 | Q9: 100582.33 | R9: 217067.64 | S9: 413941.8
A10: სამგორის რაიონი | B10: 4034 | C10: 11074 | D10: 34004.12 | E10: 43039.2 | F10: 58567.708 | G10: 150719.03 | H10: 3443 | I10: 21887.76 | J10: 60032 | K10: 121894.96 | L10: 101316.15 | M10: 308573.87 | N10: 7477 | O10: 32961.76 | P10: 94036.12 | Q10: 164934.16 | R10: 159883.86 | S10: 459292.9
A11: ვაკის რაიონი | B11: 0 | C11: 63341 | D11: 35080 | E11: 584197.3 | F11: 59377.227 | G11: 741995.52 | H11: 3774 | I11: 0 | J11: 5875.112 | K11: 90770.31 | L11: 257044.41 | M11: 357463.83 | N11: 3774 | O11: 63341 | P11: 40955.112 | Q11: 674967.61 | R11: 316421.63 | S11: 1099459.4
A12: საბურთალოს რაიონი | B12: 78300 | C12: 4421 | D12: 66028 | E12: 51884.76 | F12: 199807.14 | G12: 400440.9 | H12: 1175 | I12: 14623 | J12: 147034.2 | K12: 159957.1 | L12: 96897.676 | M12: 419686.98 | N12: 79475 | O12: 19044 | P12: 213062.2 | Q12: 211841.86 | R12: 296704.82 | S12: 820127.88
A13: მთაწმინდის რაიონი | B13: 0 | C13: 0 | D13: 17745 | E13: 27090.07 | F13: 69886.076 | G13: 114721.15 | H13: 3524 | I13: 10873 | J13: 4030 | K13: 36549.5 | L13: 90708.187 | M13: 145684.69 | N13: 3524 | O13: 10873 | P13: 21775 | Q13: 63639.57 | R13: 160594.26 | S13: 260405.83
A14: კრწანისის რაიონი | B14: 0 | C14: 37289 | D14: 3183 | E14: 1152 | F14: 0 | G14: 41624 | H14: 0 | I14: 2490 | J14: 2625 | K14: 17750 | L14: 14619 | M14: 37484 | N14: 0 | O14: 39779 | P14: 5808 | Q14: 18902 | R14: 14619 | S14: 79108
A15: სულ | B15: 88762 | C15: 423943.76 | D15: 285412.56 | E15: 1076118.8 | F15: 996952.12 | G15: 2871189.2 | H15: 17702.048 | I15: 102451.78 | J15: 347311.92 | K15: 732625.07 | L15: 1006284.9 | M15: 2206375.7 | N15: 106464.05 | O15: 526395.54 | P15: 632724.48 | Q15: 1808743.8 | R15: 2003237 | S15: 5077564.9
A17: კომისიის მიერ განხილული საქმეებზე გამოყოფილი თანხა განმცხადებლების სქესისა და ასაკის მიხედვით
B18: მამრობითი | H18: მდედრობითი | N18: სულ
A19: რაიონი | B19: 0_5 | C19: 6_17 | D19: 18_39 | E19: 40_59 | F19: 59-ზე მეტი | G19: სულ | H19: 0_5 | I19: 6_17 | J19: 18_39 | K19: 40_59 | L19: 59-ზე მეტი | M19: სულ | N19: 0_5 | O19: 6_17 | P19: 18_39 | Q19: 40_59 | R19: 59-ზე მეტი | S19: სულ
A20: გლდანის რაიონი | B20: 0 | C20: 0 | D20: 19697 | E20: 14885 | F20: 57647 | G20: 92229 | H20: 0 | I20: 250 | J20: 2762 | K20: 13602 | L20: 34378 | M20: 50992 | N20: 0 | O20: 250 | P20: 22459 | Q20: 28487 | R20: 92025 | S20: 143221
A21: ნაძალადევის რაიონი | B21: 700 | C21: 450 | D21: 3157 | E21: 57729 | F21: 41198 | G21: 103234 | H21: 600 | I21: 1045 | J21: 1764 | K21: 18985 | L21: 25230 | M21: 47624 | N21: 1300 | O21: 1495 | P21: 4921 | Q21: 76714 | R21: 66428 | S21: 150858
A22: დიდუბის რაიონი | B22: 308 | C22: 10300 | D22: 1573 | E22: 652 | F22: 21595 | G22: 34428 | H22: 0 | I22: 703 | J22: 1500 | K22: 30128 | L22: 29714 | M22: 62045 | N22: 308 | O22: 11003 | P22: 3073 | Q22: 30780 | R22: 51309 | S22: 96473
A23: ჩუღურეთის რაიონი | B23: 0 | C23: 0 | D23: 2174 | E23: 28912 | F23: 19287 | G23: 50373 | H23: 0 | I23: 900 | J23: 6932 | K23: 31591 | L23: 10286 | M23: 49709 | N23: 0 | O23: 900 | P23: 9106 | Q23: 60503 | R23: 29573 | S23: 100082
A24: ისნის რაიონი | B24: 0 | C24: 1718 | D24: 4415 | E24: 15656 | F24: 36835 | G24: 58624 | H24: 200 | I24: 400 | J24: 12224 | K24: 14878 | L24: 12894 | M24: 40596 | N24: 200 | O24: 2118 | P24: 16639 | Q24: 30534 | R24: 49729 | S24: 99220
A25: სამგორის რაიონი | B25: 1209 | C25: 2212 | D25: 9752 | E25: 12373 | F25: 24334 | G25: 49880 | H25: 450 | I25: 2954 | J25: 9788 | K25: 32576 | L25: 32254 | M25: 78022 | N25: 1659 | O25: 5166 | P25: 19540 | Q25: 44949 | R25: 56588 | S25: 127902
A26: ვაკის რაიონი | B26: 0 | C26: 33790 | D26: 3440 | E26: 221834 | F26: 25503 | G26: 284567 | H26: 682 | I26: 0 | J26: 684 | K26: 33835 | L26: 92989 | M26: 128190 | N26: 682 | O26: 33790 | P26: 4124 | Q26: 255669 | R26: 118492 | S26: 412757
A27: საბურთალოს რაიონი | B27: 10000 | C27: 530 | D27: 15258 | E27: 8416 | F27: 89987 | G27: 124191 | H27: 470 | I27: 3000 | J27: 28029 | K27: 45470 | L27: 27652 | M27: 104621 | N27: 10470 | O27: 3530 | P27: 43287 | Q27: 53886 | R27: 117639 | S27: 228812
A28: მთაწმინდის რაიონი | B28: 0 | C28: 0 | D28: 9272 | E28: 7026 | F28: 37048 | G28: 53346 | H28: 400 | I28: 3419 | J28: 400 | K28: 13075 | L28: 44129 | M28: 61423 | N28: 400 | O28: 3419 | P28: 9672 | Q28: 20101 | R28: 81177 | S28: 114769
A29: კრწანისის რაიონი | B29: 0 | C29: 10390 | D29: 600 | E29: 345 | F29: 0 | G29: 11335 | H29: 0 | I29: 0 | J29: 1837 | K29: 4240 | L29: 5920 | M29: 11997 | N29: 0 | O29: 10390 | P29: 2437 | Q29: 4585 | R29: 5920 | S29: 23332
A30: სულ | B30: 12217 | C30: 59390 | D30: 69338 | E30: 367828 | F30: 353434 | G30: 862207 | H30: 2802 | I30: 12671 | J30: 65920 | K30: 238380 | L30: 315446 | M30: 635219 | N30: 15019 | O30: 72061 | P30: 135258 | Q30: 606208 | R30: 668880 | S30: 1497426
A32: კომისიის მიერ სრულად ან ნაწილობრივ დაკმაყოფილებულ მოთხოვნებზე გამოყოფილი თანხის წილი სქესისა და ასაკის მიხედვით (%)
B33: მამრობითი | H33: მდედრობითი | N33: სულ
A34: რაიონი | B34: 0_5 | C34: 6_17 | D34: 18_39 | E34: 40_59 | F34: 59-ზე მეტი | G34: სულ | H34: 0_5 | I34: 6_17 | J34: 18_39 | K34: 40_59 | L34: 59-ზე მეტი | M34: სულ | N34: 0_5 | O34: 6_17 | P34: 18_39 | Q34: 40_59 | R34: 59-ზე მეტი | S34: სულ
A35: გლდანის რაიონი | B35: =IFERROR(('August '!B20/'August '!B5)*100,0) -> 0 | C35: =IFERROR(('August '!C20/'August '!C5)*100,0) -> 0 | D35: =IFERROR(('August '!D20/'August '!D5)*100,0) -> 30.218373 | E35: =IFERROR(('August '!E20/'August '!E5)*100,0) -> 25.712514 | F35: =IFERROR(('August '!F20/'August '!F5)*100,0) -> 19.334901 | G35: =IFERROR(('August '!G20/'August '!G5)*100,0) -> 21.26252 | H35: =IFERROR(('August '!H20/'August '!H5)*100,0) -> 0 | I35: =IFERROR(('August '!I20/'August '!I5)*100,0) -> 4.7984645 | ... S35: =IFERROR(('August '!S20/'August '!S5)*100,0) -> 22.172684
A36: ნაძალადევის რაიონი | B36: =IFERROR(('August '!B21/'August '!B6)*100,0) -> 68.560235 | C36: =IFERROR(('August '!C21/'August '!C6)*100,0) -> 5.7758953 | D36: =IFERROR(('August '!D21/'August '!D6)*100,0) -> 24.341631 | E36: =IFERROR(('August '!E21/'August '!E6)*100,0) -> 31.946145 | F36: =IFERROR(('August '!F21/'August '!F6)*100,0) -> 36.808276 | G36: =IFERROR(('August '!G21/'August '!G6)*100,0) -> 32.833705 | H36: =IFERROR(('August '!H21/'August '!H6)*100,0) -> 11.505273 | I36: =IFERROR(('August '!I21/'August '!I6)*100,0) -> 2.9580758 | ... S36: =IFERROR(('August '!S21/'August '!S6)*100,0) -> 27.548888
A37: დიდუბის რაიონი | B37: =IFERROR(('August '!B22/'August '!B7)*100,0) -> 29.990263 | C37: =IFERROR(('August '!C22/'August '!C7)*100,0) -> 4.0777868 | D37: =IFERROR(('August '!D22/'August '!D7)*100,0) -> 12.176808 | E37: =IFERROR(('August '!E22/'August '!E7)*100,0) -> 6.190657 | F37: =IFERROR(('August '!F22/'August '!F7)*100,0) -> 36.738112 | G37: =IFERROR(('August '!G22/'August '!G7)*100,0) -> 10.251129 | H37: =IFERROR(('August '!H22/'August '!H7)*100,0) -> 0 | I37: =IFERROR(('August '!I22/'August '!I7)*100,0) -> 29.978678 | ... S37: =IFERROR(('August '!S22/'August '!S7)*100,0) -> 20.755386
A38: ჩუღურეთის რაიონი | B38: =IFERROR(('August '!B23/'August '!B8)*100,0) -> 0 | C38: =IFERROR(('August '!C23/'August '!C8)*100,0) -> 0 | D38: =IFERROR(('August '!D23/'August '!D8)*100,0) -> 12.574813 | E38: =IFERROR(('August '!E23/'August '!E8)*100,0) -> 36.311491 | F38: =IFERROR(('August '!F23/'August '!F8)*100,0) -> 43.614861 | G38: =IFERROR(('August '!G23/'August '!G8)*100,0) -> 30.690566 | H38: =IFERROR(('August '!H23/'August '!H8)*100,0) -> 0 | I38: =IFERROR(('August '!I23/'August '!I8)*100,0) -> 15.859031 | ... S38: =IFERROR(('August '!S23/'August '!S8)*100,0) -> 34.88585
A39: ისნის რაიონი | B39: =IFERROR(('August '!B24/'August '!B9)*100,0) -> 0 | C39: =IFERROR(('August '!C24/'August '!C9)*100,0) -> 14.438479 | D39: =IFERROR(('August '!D24/'August '!D9)*100,0) -> 21.009643 | E39: =IFERROR(('August '!E24/'August '!E9)*100,0) -> 39.136165 | F39: =IFERROR(('August '!F24/'August '!F9)*100,0) -> 38.275697 | G39: =IFERROR(('August '!G24/'August '!G9)*100,0) -> 33.782655 | H39: =IFERROR(('August '!H24/'August '!H9)*100,0) -> 35.023326 | I39: =IFERROR(('August '!I24/'August '!I9)*100,0) -> 9.9477742 | ... S39: =IFERROR(('August '!S24/'August '!S9)*100,0) -> 23.969553
A40: სამგორის რაიონი | B40: =IFERROR(('August '!B25/'August '!B10)*100,0) -> 29.970253 | C40: =IFERROR(('August '!C25/'August '!C10)*100,0) -> 19.974716 | D40: =IFERROR(('August '!D25/'August '!D10)*100,0) -> 28.678878 | E40: =IFERROR(('August '!E25/'August '!E10)*100,0) -> 28.748211 | F40: =IFERROR(('August '!F25/'August '!F10)*100,0) -> 41.548493 | G40: =IFERROR(('August '!G25/'August '!G10)*100,0) -> 33.094693 | H40: =IFERROR(('August '!H25/'August '!H10)*100,0) -> 13.069997 | I40: =IFERROR(('August '!I25/'August '!I10)*100,0) -> 13.496128 | ... S40: =IFERROR(('August '!S25/'August '!S10)*100,0) -> 27.847589
A41: ვაკის რაიონი | B41: =IFERROR(('August '!B26/'August '!B11)*100,0) -> 0 | C41: =IFERROR(('August '!C26/'August '!C11)*100,0) -> 53.346174 | D41: =IFERROR(('August '!D26/'August '!D11)*100,0) -> 9.8061574 | E41: =IFERROR(('August '!E26/'August '!E11)*100,0) -> 37.972445 | F41: =IFERROR(('August '!F26/'August '!F11)*100,0) -> 42.95081 | G41: =IFERROR(('August '!G26/'August '!G11)*100,0) -> 38.351579 | H41: =IFERROR(('August '!H26/'August '!H11)*100,0) -> 18.071012 | I41: =IFERROR(('August '!I26/'August '!I11)*100,0) -> 0 | ... S41: =IFERROR(('August '!S26/'August '!S11)*100,0) -> 37.541815
A42: საბურთალოს რაიონი | B42: =IFERROR(('August '!B27/'August '!B12)*100,0) -> 12.771392 | C42: =IFERROR(('August '!C27/'August '!C12)*100,0) -> 11.988238 | D42: =IFERROR(('August '!D27/'August '!D12)*100,0) -> 23.108378 | E42: =IFERROR(('August '!E27/'August '!E12)*100,0) -> 16.220563 | F42: =IFERROR(('August '!F27/'August '!F12)*100,0) -> 45.036928 | G42: =IFERROR(('August '!G27/'August '!G12)*100,0) -> 31.013565 | H42: =IFERROR(('August '!H27/'August '!H12)*100,0) -> 40 | I42: =IFERROR(('August '!I27/'August '!I12)*100,0) -> 20.515626 | ... S42: =IFERROR(('August '!S27/'August '!S12)*100,0) -> 27.899551
A43: მთაწმინდის რაიონი | B43: =IFERROR(('August '!B28/'August '!B13)*100,0) -> 0 | C43: =IFERROR(('August '!C28/'August '!C13)*100,0) -> 0 | D43: =IFERROR(('August '!D28/'August '!D13)*100,0) -> 52.251338 | E43: =IFERROR(('August '!E28/'August '!E13)*100,0) -> 25.935703 | F43: =IFERROR(('August '!F28/'August '!F13)*100,0) -> 53.01199 | G43: =IFERROR(('August '!G28/'August '!G13)*100,0) -> 46.500581 | H43: =IFERROR(('August '!H28/'August '!H13)*100,0) -> 11.350738 | I43: =IFERROR(('August '!I28/'August '!I13)*100,0) -> 31.444863 | ... S43: =IFERROR(('August '!S28/'August '!S13)*100,0) -> 44.073129
A44: კრწანისის რაიონი | B44: =IFERROR(('August '!B29/'August '!B14)*100,0) -> 0 | C44: =IFERROR(('August '!C29/'August '!C14)*100,0) -> 27.863445 | D44: =IFERROR(('August '!D29/'August '!D14)*100,0) -> 18.850141 | E44: =IFERROR(('August '!E29/'August '!E14)*100,0) -> 29.947917 | F44: =IFERROR(('August '!F29/'August '!F14)*100,0) -> 0 | G44: =IFERROR(('August '!G29/'August '!G14)*100,0) -> 27.231885 | H44: =IFERROR(('August '!H29/'August '!H14)*100,0) -> 0 | I44: =IFERROR(('August '!I29/'August '!I14)*100,0) -> 0 | ... S44: =IFERROR(('August '!S29/'August '!S14)*100,0) -> 29.493856
A45: სულ | B45: =IFERROR(('August '!B30/'August '!B15)*100,0) -> 13.763773 | C45: =IFERROR(('August '!C30/'August '!C15)*100,0) -> 14.008934 | D45: =IFERROR(('August '!D30/'August '!D15)*100,0) -> 24.293956 | E45: =IFERROR(('August '!E30/'August '!E15)*100,0) -> 34.180985 | F45: =IFERROR(('August '!F30/'August '!F15)*100,0) -> 35.451452 | G45: =IFERROR(('August '!G30/'August '!G15)*100,0) -> 30.029613 | H45: =IFERROR(('August '!H30/'August '!H15)*100,0) -> 15.828677 | I45: =IFERROR(('August '!I30/'August '!I15)*100,0) -> 12.36777 | ... S45: =IFERROR(('August '!S30/'August '!S15)*100,0) -> 29.491026

Sheet September 
B1: ქ.თბილისის მუნიციპალიტეტის მერია ჯანდაცვისა და სოციალური მომსახურების საქალაქო სამსახური
A2: კომისიის მიერ განხილული საქმეებზე მოთხოვნილი თანხა განმცხადებლების სქესისა და ასაკის მიხედვით
B3: მამრობითი | H3: მდედრობითი | N3: სულ
A4: რაიონი | B4: 0_5 | C4: 6_17 | D4: 18_39 | E4: 40_59 | F4: 59-ზე მეტი | G4: სულ | H4: 0_5 | I4: 6_17 | J4: 18_39 | K4: 40_59 | L4: 59-ზე მეტი | M4: სულ | N4: 0_5 | O4: 6_17 | P4: 18_39 | Q4: 40_59 | R4: 59-ზე მეტი | S4: სულ
A5: გლდანის რაიონი | B5: 16506 | C5: 27755.255 | D5: 155224.01 | E5: 37180.78 | F5: 77068.126 | G5: 313734.18 | H5: 13096 | I5: 24822.41 | J5: 46007 | K5: 195521.97 | L5: 104782.73 | M5: 384230.11 | N5: 29602 | O5: 52577.665 | P5: 201231.01 | Q5: 232702.75 | R5: 181850.85 | S5: 697964.28
A6: ნაძალადევის რაიონი | B6: 1680 | C6: 32012 | D6: 25500.7 | E6: 145334.08 | F6: 137406 | G6: 341932.78 | H6: 80782 | I6: 33672.295 | J6: 35105 | K6: 87223 | L6: 126621.82 | M6: 363404.11 | N6: 82462 | O6: 65684.295 | P6: 60605.7 | Q6: 232557.08 | R6: 264027.82 | S6: 705336.89
A7: დიდუბის რაიონი | B7: 15600 | C7: 19951.18 | D7: 10519 | E7: 86203.809 | F7: 37174.6 | G7: 169448.59 | H7: 0 | I7: 5342 | J7: 11360 | K7: 46911.54 | L7: 102370.33 | M7: 165983.87 | N7: 15600 | O7: 25293.18 | P7: 21879 | Q7: 133115.35 | R7: 139544.93 | S7: 335432.46
A8: ჩუღურეთის რაიონი | B8: 5040 | C8: 6391 | D8: 269687 | E8: 29008.595 | F8: 145758.11 | G8: 455884.71 | H8: 6201 | I8: 13487 | J8: 163178.1 | K8: 182302 | L8: 151870.52 | M8: 517038.62 | N8: 11241 | O8: 19878 | P8: 432865.1 | Q8: 211310.59 | R8: 297628.63 | S8: 972923.33
A9: ისნის რაიონი | B9: 3100 | C9: 10671.943 | D9: 47161 | E9: 116753.84 | F9: 78835.099 | G9: 256521.88 | H9: 4690 | I9: 7259 | J9: 56043 | K9: 50494.6 | L9: 99319.568 | M9: 217806.17 | N9: 7790 | O9: 17930.943 | P9: 103204 | Q9: 167248.44 | R9: 178154.67 | S9: 474328.05
A10: სამგორის რაიონი | B10: 13495 | C10: 25194.576 | D10: 128887.75 | E10: 56309.08 | F10: 50388.871 | G10: 274275.28 | H10: 10253 | I10: 7112.99 | J10: 172131 | K10: 150758.48 | L10: 95207.7 | M10: 435463.17 | N10: 23748 | O10: 32307.566 | P10: 301018.75 | Q10: 207067.56 | R10: 145596.57 | S10: 709738.45
A11: ვაკის რაიონი | B11: 194799.92 | C11: 22906 | D11: 165452.26 | E11: 22052 | F11: 149254.48 | G11: 554464.65 | H11: 2700 | I11: 25531 | J11: 33652 | K11: 58533 | L11: 181204.67 | M11: 301620.67 | N11: 197499.92 | O11: 48437 | P11: 199104.26 | Q11: 80585 | R11: 330459.15 | S11: 856085.32
A12: საბურთალოს რაიონი | B12: 10106 | C12: 21441.22 | D12: 16686 | E12: 51373 | F12: 150728.27 | G12: 250334.49 | H12: 11030 | I12: 8536 | J12: 680062 | K12: 119473.74 | L12: 138238.85 | M12: 957340.59 | N12: 21136 | O12: 29977.22 | P12: 696748 | Q12: 170846.74 | R12: 288967.12 | S12: 1207675.1
A13: მთაწმინდის რაიონი | B13: 0 | C13: 5250 | D13: 5477 | E13: 92339.83 | F13: 112215.64 | G13: 215282.47 | H13: 2400 | I13: 111150 | J13: 76263.9 | K13: 80361.16 | L13: 106039 | M13: 376214.06 | N13: 2400 | O13: 116400 | P13: 81740.9 | Q13: 172700.99 | R13: 218254.64 | S13: 591496.53
A14: კრწანისის რაიონი | B14: 110260 | C14: 9555 | D14: 7460 | E14: 7632.5 | F14: 19932.14 | G14: 154839.64 | H14: 0 | I14: 6088 | J14: 13431 | K14: 48639 | L14: 41104 | M14: 109262 | N14: 110260 | O14: 15643 | P14: 20891 | Q14: 56271.5 | R14: 61036.14 | S14: 264101.64
A15: სულ | B15: 370586.92 | C15: 181128.17 | D15: 832054.72 | E15: 644187.52 | F15: 958761.34 | G15: 2986718.7 | H15: 131152 | I15: 243000.69 | J15: 1287233 | K15: 1020218.5 | L15: 1146759.2 | M15: 3828363.4 | N15: 501738.92 | O15: 424128.87 | P15: 2119287.7 | Q15: 1664406 | R15: 2105520.5 | S15: 6815082
A17: კომისიის მიერ განხილული საქმეებზე გამოყოფილი თანხა განმცხადებლების სქესისა და ასაკის მიხედვით
B18: მამრობითი | H18: მდედრობითი | N18: სულ
A19: რაიონი | B19: 0_5 | C19: 6_17 | D19: 18_39 | E19: 40_59 | F19: 59-ზე მეტი | G19: სულ | H19: 0_5 | I19: 6_17 | J19: 18_39 | K19: 40_59 | L19: 59-ზე მეტი | M19: სულ | N19: 0_5 | O19: 6_17 | P19: 18_39 | Q19: 40_59 | R19: 59-ზე მეტი | S19: სულ
A20: გლდანის რაიონი | B20: 450 | C20: 4294 | D20: 7498 | E20: 10612 | F20: 26214 | G20: 49068 | H20: 1150 | I20: 3085 | J20: 5774 | K20: 49368 | L20: 30360 | M20: 89737 | N20: 1600 | O20: 7379 | P20: 13272 | Q20: 59980 | R20: 56574 | S20: 138805
A21: ნაძალადევის რაიონი | B21: 0 | C21: 4560 | D21: 4932 | E21: 41645 | F21: 37914 | G21: 89051 | H21: 15700 | I21: 14629 | J21: 12317 | K21: 22260 | L21: 50162 | M21: 115068 | N21: 15700 | O21: 19189 | P21: 17249 | Q21: 63905 | R21: 88076 | S21: 204119
A22: დიდუბის რაიონი | B22: 0 | C22: 3168 | D22: 1481 | E22: 28508 | F22: 9753 | G22: 42910 | H22: 0 | I22: 650 | J22: 2928 | K22: 13432 | L22: 30020 | M22: 47030 | N22: 0 | O22: 3818 | P22: 4409 | Q22: 41940 | R22: 39773 | S22: 89940
A23: ჩუღურეთის რაიონი | B23: 250 | C23: 550 | D23: 53881 | E23: 10441 | F23: 63248 | G23: 128370 | H23: 1200 | I23: 1965 | J23: 63079 | K23: 26066 | L23: 28153 | M23: 120463 | N23: 1450 | O23: 2515 | P23: 116960 | Q23: 36507 | R23: 91401 | S23: 248833
A24: ისნის რაიონი | B24: 0 | C24: 3054 | D24: 14589 | E24: 54555 | F24: 23755 | G24: 95953 | H24: 1406 | I24: 814 | J24: 14223 | K24: 14585 | L24: 30541 | M24: 61569 | N24: 1406 | O24: 3868 | P24: 28812 | Q24: 69140 | R24: 54296 | S24: 157522
A25: სამგორის რაიონი | B25: 1670 | C25: 3866 | D25: 43780 | E25: 30724 | F25: 14213 | G25: 94253 | H25: 450 | I25: 400 | J25: 28884 | K25: 41088 | L25: 33407 | M25: 104229 | N25: 2120 | O25: 4266 | P25: 72664 | Q25: 71812 | R25: 47620 | S25: 198482
A26: ვაკის რაიონი | B26: 30450 | C26: 2768 | D26: 41875 | E26: 7570 | F26: 43458 | G26: 126121 | H26: 0 | I26: 19033 | J26: 1657 | K26: 21852 | L26: 71111 | M26: 113653 | N26: 30450 | O26: 21801 | P26: 43532 | Q26: 29422 | R26: 114569 | S26: 239774
A27: საბურთალოს რაიონი | B27: 787 | C27: 4015 | D27: 3612 | E27: 15393 | F27: 68953 | G27: 92760 | H27: 0 | I27: 1512 | J27: 27547 | K27: 51125 | L27: 58977 | M27: 139161 | N27: 787 | O27: 5527 | P27: 31159 | Q27: 66518 | R27: 127930 | S27: 231921
A28: მთაწმინდის რაიონი | B28: 0 | C28: 0 | D28: 2090 | E28: 34034 | F28: 44145 | G28: 80269 | H28: 0 | I28: 10000 | J28: 28331 | K28: 37233 | L28: 35252 | M28: 110816 | N28: 0 | O28: 10000 | P28: 30421 | Q28: 71267 | R28: 79397 | S28: 191085
A29: კრწანისის რაიონი | B29: 10000 | C29: 0 | D29: 2440 | E29: 4632 | F29: 8751 | G29: 25823 | H29: 0 | I29: 450 | J29: 306 | K29: 7650 | L29: 16877 | M29: 25283 | N29: 10000 | O29: 450 | P29: 2746 | Q29: 12282 | R29: 25628 | S29: 51106
A30: სულ | B30: 43607 | C30: 26275 | D30: 176178 | E30: 238114 | F30: 340404 | G30: 824578 | H30: 19906 | I30: 52538 | J30: 185046 | K30: 284659 | L30: 384860 | M30: 927009 | N30: 63513 | O30: 78813 | P30: 361224 | Q30: 522773 | R30: 725264 | S30: 1751587
A32: კომისიის მიერ სრულად ან ნაწილობრივ დაკმაყოფილებულ მოთხოვნებზე გამოყოფილი თანხის წილი სქესისა და ასაკის მიხედვით (%)
B33: მამრობითი | H33: მდედრობითი | N33: სულ
A34: რაიონი | B34: 0_5 | C34: 6_17 | D34: 18_39 | E34: 40_59 | F34: 59-ზე მეტი | G34: სულ | H34: 0_5 | I34: 6_17 | J34: 18_39 | K34: 40_59 | L34: 59-ზე მეტი | M34: სულ | N34: 0_5 | O34: 6_17 | P34: 18_39 | Q34: 40_59 | R34: 59-ზე მეტი | S34: სულ
A35: გლდანის რაიონი | B35: =IFERROR(('September '!B20/'September '!B5)*100,0) -> 2.7262814 | C35: =IFERROR(('September '!C20/'September '!C5)*100,0) -> 15.470944 | D35: =IFERROR(('September '!D20/'September '!D5)*100,0) -> 4.8304382 | E35: =IFERROR(('September '!E20/'September '!E5)*100,0) -> 28.541628 | F35: =IFERROR(('September '!F20/'September '!F5)*100,0) -> 34.014062 | G35: =IFERROR(('September '!G20/'September '!G5)*100,0) -> 15.639992 | H35: =IFERROR(('September '!H20/'September '!H5)*100,0) -> 8.7813073 | I35: =IFERROR(('September '!I20/'September '!I5)*100,0) -> 12.428286 | ... S35: =IFERROR(('September '!S20/'September '!S5)*100,0) -> 19.887121
A36: ნაძალადევის რაიონი | B36: =IFERROR(('September '!B21/'September '!B6)*100,0) -> 0 | C36: =IFERROR(('September '!C21/'September '!C6)*100,0) -> 14.244658 | D36: =IFERROR(('September '!D21/'September '!D6)*100,0) -> 19.340646 | E36: =IFERROR(('September '!E21/'September '!E6)*100,0) -> 28.654669 | F36: =IFERROR(('September '!F21/'September '!F6)*100,0) -> 27.592682 | G36: =IFERROR(('September '!G21/'September '!G6)*100,0) -> 26.043423 | H36: =IFERROR(('September '!H21/'September '!H6)*100,0) -> 19.435023 | I36: =IFERROR(('September '!I21/'September '!I6)*100,0) -> 43.445212 | ... S36: =IFERROR(('September '!S21/'September '!S6)*100,0) -> 28.939221
A37: დიდუბის რაიონი | B37: =IFERROR(('September '!B22/'September '!B7)*100,0) -> 0 | C37: =IFERROR(('September '!C22/'September '!C7)*100,0) -> 15.87876 | D37: =IFERROR(('September '!D22/'September '!D7)*100,0) -> 14.079285 | E37: =IFERROR(('September '!E22/'September '!E7)*100,0) -> 33.070464 | F37: =IFERROR(('September '!F22/'September '!F7)*100,0) -> 26.235656 | G37: =IFERROR(('September '!G22/'September '!G7)*100,0) -> 25.323315 | H37: =IFERROR(('September '!H22/'September '!H7)*100,0) -> 0 | I37: =IFERROR(('September '!I22/'September '!I7)*100,0) -> 12.167727 | ... S37: =IFERROR(('September '!S22/'September '!S7)*100,0) -> 26.813147
A38: ჩუღურეთის რაიონი | B38: =IFERROR(('September '!B23/'September '!B8)*100,0) -> 4.9603175 | C38: =IFERROR(('September '!C23/'September '!C8)*100,0) -> 8.605852 | D38: =IFERROR(('September '!D23/'September '!D8)*100,0) -> 19.979087 | E38: =IFERROR(('September '!E23/'September '!E8)*100,0) -> 35.992781 | F38: =IFERROR(('September '!F23/'September '!F8)*100,0) -> 43.392439 | G38: =IFERROR(('September '!G23/'September '!G8)*100,0) -> 28.158435 | H38: =IFERROR(('September '!H23/'September '!H8)*100,0) -> 19.351717 | I38: =IFERROR(('September '!I23/'September '!I8)*100,0) -> 14.569586 | ... S38: =IFERROR(('September '!S23/'September '!S8)*100,0) -> 25.575808
A39: ისნის რაიონი | B39: =IFERROR(('September '!B24/'September '!B9)*100,0) -> 0 | C39: =IFERROR(('September '!C24/'September '!C9)*100,0) -> 28.617095 | D39: =IFERROR(('September '!D24/'September '!D9)*100,0) -> 30.934459 | E39: =IFERROR(('September '!E24/'September '!E9)*100,0) -> 46.726515 | F39: =IFERROR(('September '!F24/'September '!F9)*100,0) -> 30.132517 | G39: =IFERROR(('September '!G24/'September '!G9)*100,0) -> 37.405386 | H39: =IFERROR(('September '!H24/'September '!H9)*100,0) -> 29.978678 | I39: =IFERROR(('September '!I24/'September '!I9)*100,0) -> 11.213666 | ... S39: =IFERROR(('September '!S24/'September '!S9)*100,0) -> 33.209506
A40: სამგორის რაიონი | B40: =IFERROR(('September '!B25/'September '!B10)*100,0) -> 12.374954 | C40: =IFERROR(('September '!C25/'September '!C10)*100,0) -> 15.344573 | D40: =IFERROR(('September '!D25/'September '!D10)*100,0) -> 33.967542 | E40: =IFERROR(('September '!E25/'September '!E10)*100,0) -> 54.563136 | F40: =IFERROR(('September '!F25/'September '!F10)*100,0) -> 28.206625 | G40: =IFERROR(('September '!G25/'September '!G10)*100,0) -> 34.364381 | H40: =IFERROR(('September '!H25/'September '!H10)*100,0) -> 4.3889593 | I40: =IFERROR(('September '!I25/'September '!I10)*100,0) -> 5.6235142 | ... S40: =IFERROR(('September '!S25/'September '!S10)*100,0) -> 27.965513
A41: ვაკის რაიონი | B41: =IFERROR(('September '!B26/'September '!B11)*100,0) -> 15.631424 | C41: =IFERROR(('September '!C26/'September '!C11)*100,0) -> 12.08417 | D41: =IFERROR(('September '!D26/'September '!D11)*100,0) -> 25.309416 | E41: =IFERROR(('September '!E26/'September '!E11)*100,0) -> 34.327952 | F41: =IFERROR(('September '!F26/'September '!F11)*100,0) -> 29.116714 | G41: =IFERROR(('September '!G26/'September '!G11)*100,0) -> 22.746445 | H41: =IFERROR(('September '!H26/'September '!H11)*100,0) -> 0 | I41: =IFERROR(('September '!I26/'September '!I11)*100,0) -> 74.548588 | ... S41: =IFERROR(('September '!S26/'September '!S11)*100,0) -> 28.00819
A42: საბურთალოს რაიონი | B42: =IFERROR(('September '!B27/'September '!B12)*100,0) -> 7.787453 | C42: =IFERROR(('September '!C27/'September '!C12)*100,0) -> 18.725613 | D42: =IFERROR(('September '!D27/'September '!D12)*100,0) -> 21.64689 | E42: =IFERROR(('September '!E27/'September '!E12)*100,0) -> 29.96321 | F42: =IFERROR(('September '!F27/'September '!F12)*100,0) -> 45.74656 | G42: =IFERROR(('September '!G27/'September '!G12)*100,0) -> 37.054422 | H42: =IFERROR(('September '!H27/'September '!H12)*100,0) -> 0 | I42: =IFERROR(('September '!I27/'September '!I12)*100,0) -> 17.713215 | ... S42: =IFERROR(('September '!S27/'September '!S12)*100,0) -> 19.203924
A43: მთაწმინდის რაიონი | B43: =IFERROR(('September '!B28/'September '!B13)*100,0) -> 0 | C43: =IFERROR(('September '!C28/'September '!C13)*100,0) -> 0 | D43: =IFERROR(('September '!D28/'September '!D13)*100,0) -> 38.159576 | E43: =IFERROR(('September '!E28/'September '!E13)*100,0) -> 36.857334 | F43: =IFERROR(('September '!F28/'September '!F13)*100,0) -> 39.339437 | G43: =IFERROR(('September '!G28/'September '!G13)*100,0) -> 37.285433 | H43: =IFERROR(('September '!H28/'September '!H13)*100,0) -> 0 | I43: =IFERROR(('September '!I28/'September '!I13)*100,0) -> 8.9968511 | ... S43: =IFERROR(('September '!S28/'September '!S13)*100,0) -> 32.305346
A44: კრწანისის რაიონი | B44: =IFERROR(('September '!B29/'September '!B14)*100,0) -> 9.0694722 | C44: =IFERROR(('September '!C29/'September '!C14)*100,0) -> 0 | D44: =IFERROR(('September '!D29/'September '!D14)*100,0) -> 32.707775 | E44: =IFERROR(('September '!E29/'September '!E14)*100,0) -> 60.687848 | F44: =IFERROR(('September '!F29/'September '!F14)*100,0) -> 43.903966 | G44: =IFERROR(('September '!G29/'September '!G14)*100,0) -> 16.677254 | H44: =IFERROR(('September '!H29/'September '!H14)*100,0) -> 0 | I44: =IFERROR(('September '!I29/'September '!I14)*100,0) -> 7.39159 | ... S44: =IFERROR(('September '!S29/'September '!S14)*100,0) -> 19.350883
A45: სულ | B45: =IFERROR(('September '!B30/'September '!B15)*100,0) -> 11.76701 | C45: =IFERROR(('September '!C30/'September '!C15)*100,0) -> 14.506302 | D45: =IFERROR(('September '!D30/'September '!D15)*100,0) -> 21.173848 | E45: =IFERROR(('September '!E30/'September '!E15)*100,0) -> 36.963461 | F45: =IFERROR(('September '!F30/'September '!F15)*100,0) -> 35.504561 | G45: =IFERROR(('September '!G30/'September '!G15)*100,0) -> 27.608158 | H45: =IFERROR(('September '!H30/'September '!H15)*100,0) -> 15.177809 | I45: =IFERROR(('September '!I30/'September '!I15)*100,0) -> 21.620514 | ... S45: =IFERROR(('September '!S30/'September '!S15)*100,0) -> 25.701628

Sheet October 
B1: ქ.თბილისის მუნიციპალიტეტის მერია ჯანდაცვისა და სოციალური მომსახურების საქალაქო სამსახური
A2: კომისიის მიერ განხილული საქმეებზე მოთხოვნილი თანხა განმცხადებლების სქესისა და ასაკის მიხედვით
B3: მამრობითი | H3: მდედრობითი | N3: სულ
A4: რაიონი | B4: 0_5 | C4: 6_17 | D4: 18_39 | E4: 40_59 | F4: 59-ზე მეტი | G4: სულ | H4: 0_5 | I4: 6_17 | J4: 18_39 | K4: 40_59 | L4: 59-ზე მეტი | M4: სულ | N4: 0_5 | O4: 6_17 | P4: 18_39 | Q4: 40_59 | R4: 59-ზე მეტი | S4: სულ
A5: გლდანის რაიონი | B5: 0 | C5: 25829.306 | D5: 30808.42 | E5: 53666.88 | F5: 62523.069 | G5: 172827.67 | H5: 10407.638 | I5: 12662 | J5: 151774 | K5: 101558.06 | L5: 96646.901 | M5: 373048.6 | N5: 10407.638 | O5: 38491.306 | P5: 182582.42 | Q5: 155224.94 | R5: 159169.97 | S5: 545876.27
A6: ნაძალადევის რაიონი | B6: 13283 | C6: 29206.768 | D6: 25361 | E6: 130583.72 | F6: 101775.43 | G6: 300209.92 | H6: 1000 | I6: 95672.001 | J6: 30894.43 | K6: 97256.432 | L6: 104408.66 | M6: 329231.53 | N6: 14283 | O6: 124878.77 | P6: 56255.43 | Q6: 227840.16 | R6: 206184.1 | S6: 629441.45
A7: დიდუბის რაიონი | B7: 1015 | C7: 231384.45 | D7: 6095.0012 | E7: 30272.27 | F7: 57838 | G7: 326604.72 | H7: 4392.8167 | I7: 12825.475 | J7: 11125.107 | K7: 25796.655 | L7: 99597.331 | M7: 153737.39 | N7: 5407.8167 | O7: 244209.92 | P7: 17220.108 | Q7: 56068.925 | R7: 157435.33 | S7: 480342.1
A8: ჩუღურეთის რაიონი | B8: 4880 | C8: 2880 | D8: 8718 | E8: 100241.17 | F8: 50756.426 | G8: 167475.6 | H8: 1031 | I8: 4800.3113 | J8: 16228 | K8: 38967 | L8: 106750.59 | M8: 167776.91 | N8: 5911 | O8: 7680.3113 | P8: 24946 | Q8: 139208.17 | R8: 157507.02 | S8: 335252.5
A9: ისნის რაიონი | B9: 4124.375 | C9: 36560 | D9: 51712.72 | E9: 63823.39 | F9: 81712.048 | G9: 237932.53 | H9: 14877.84 | I9: 15247.867 | J9: 60490.94 | K9: 74804.71 | L9: 90446.37 | M9: 255867.73 | N9: 19002.215 | O9: 51807.867 | P9: 112203.66 | Q9: 138628.1 | R9: 172158.42 | S9: 493800.26
A10: სამგორის რაიონი | B10: 14686 | C10: 77750.68 | D10: 28613.97 | E10: 42058.16 | F10: 63058.3 | G10: 226167.11 | H10: 2880 | I10: 8874.5 | J10: 120146 | K10: 136630.01 | L10: 151570.65 | M10: 420101.16 | N10: 17566 | O10: 86625.18 | P10: 148759.97 | Q10: 178688.17 | R10: 214628.95 | S10: 646268.27
A11: ვაკის რაიონი | B11: 2770 | C11: 11331 | D11: 37863.2 | E11: 101404 | F11: 313430.62 | G11: 466798.82 | H11: 2610 | I11: 4926 | J11: 29194 | K11: 71036.21 | L11: 160230.94 | M11: 267997.15 | N11: 5380 | O11: 16257 | P11: 67057.2 | Q11: 172440.21 | R11: 473661.56 | S11: 734795.97
A12: საბურთალოს რაიონი | B12: 14945 | C12: 19048.97 | D12: 24601.003 | E12: 69499.08 | F12: 201114.88 | G12: 329208.94 | H12: 7872 | I12: 18350 | J12: 35359 | K12: 76743.34 | L12: 153029.75 | M12: 291354.09 | N12: 22817 | O12: 37398.97 | P12: 59960.003 | Q12: 146242.42 | R12: 354144.63 | S12: 620563.03
A13: მთაწმინდის რაიონი | B13: 1076 | C13: 8000 | D13: 0 | E13: 32992 | F13: 56487.071 | G13: 98555.071 | H13: 0 | I13: 6709 | J13: 1238 | K13: 407163.8 | L13: 38316.637 | M13: 453427.44 | N13: 1076 | O13: 14709 | P13: 1238 | Q13: 440155.8 | R13: 94803.708 | S13: 551982.51
A14: კრწანისის რაიონი | B14: 30085 | C14: 4057.5968 | D14: 6830 | E14: 7013.303 | F14: 22335.54 | G14: 70321.44 | H14: 0 | I14: 0 | J14: 5685 | K14: 25677 | L14: 26545 | M14: 57907 | N14: 30085 | O14: 4057.5968 | P14: 12515 | Q14: 32690.303 | R14: 48880.54 | S14: 128228.44
A15: სულ | B15: 86864.375 | C15: 446048.77 | D15: 220603.31 | E15: 631553.98 | F15: 1011031.4 | G15: 2396101.8 | H15: 45071.295 | I15: 180067.15 | J15: 462134.48 | K15: 1055633.2 | L15: 1027542.8 | M15: 2770449 | N15: 131935.67 | O15: 626115.92 | P15: 682737.79 | Q15: 1687187.2 | R15: 2038574.2 | S15: 5166550.8
A17: კომისიის მიერ განხილული საქმეებზე გამოყოფილი თანხა განმცხადებლების სქესისა და ასაკის მიხედვით
B18: მამრობითი | H18: მდედრობითი | N18: სულ
A19: რაიონი | B19: 0_5 | C19: 6_17 | D19: 18_39 | E19: 40_59 | F19: 59-ზე მეტი | G19: სულ | H19: 0_5 | I19: 6_17 | J19: 18_39 | K19: 40_59 | L19: 59-ზე მეტი | M19: სულ | N19: 0_5 | O19: 6_17 | P19: 18_39 | Q19: 40_59 | R19: 59-ზე მეტი | S19: სულ
A20: გლდანის რაიონი | B20: 0 | C20: 5497 | D20: 10403 | E20: 24766 | F20: 23751 | G20: 64417 | H20: 400 | I20: 500 | J20: 32582 | K20: 39515 | L20: 36288 | M20: 109285 | N20: 400 | O20: 5997 | P20: 42985 | Q20: 64281 | R20: 60039 | S20: 173702
A21: ნაძალადევის რაიონი | B21: 808 | C21: 1259 | D21: 4455 | E21: 57732 | F21: 39629 | G21: 103883 | H21: 0 | I21: 30042 | J21: 11099 | K21: 30363 | L21: 35980 | M21: 107484 | N21: 808 | O21: 31301 | P21: 15554 | Q21: 88095 | R21: 75609 | S21: 211367
A22: დიდუბის რაიონი | B22: 150 | C22: 10178 | D22: 1575 | E22: 18872 | F22: 18151 | G22: 48926 | H22: 350 | I22: 3620 | J22: 3600 | K22: 7732 | L22: 43476 | M22: 58778 | N22: 500 | O22: 13798 | P22: 5175 | Q22: 26604 | R22: 61627 | S22: 107704
A23: ჩუღურეთის რაიონი | B23: 1280 | C23: 0 | D23: 3000 | E23: 37672 | F23: 16258 | G23: 58210 | H23: 200 | I23: 945 | J23: 7074 | K23: 18869 | L23: 29137 | M23: 56225 | N23: 1480 | O23: 945 | P23: 10074 | Q23: 56541 | R23: 45395 | S23: 114435
A24: ისნის რაიონი | B24: 1150 | C24: 2758 | D24: 18669 | E24: 27206 | F24: 29269 | G24: 79052 | H24: 1110 | I24: 2338 | J24: 18915 | K24: 18827 | L24: 36401 | M24: 77591 | N24: 2260 | O24: 5096 | P24: 37584 | Q24: 46033 | R24: 65670 | S24: 156643
A25: სამგორის რაიონი | B25: 0 | C25: 22680 | D25: 7092 | E25: 14426 | F25: 21613 | G25: 65811 | H25: 0 | I25: 1760 | J25: 29870 | K25: 39412 | L25: 38624 | M25: 109666 | N25: 0 | O25: 24440 | P25: 36962 | Q25: 53838 | R25: 60237 | S25: 175477
A26: ვაკის რაიონი | B26: 0 | C26: 900 | D26: 14118 | E26: 37840 | F26: 95251 | G26: 148109 | H26: 150 | I26: 1732 | J26: 8627 | K26: 25371 | L26: 50591 | M26: 86471 | N26: 150 | O26: 2632 | P26: 22745 | Q26: 63211 | R26: 145842 | S26: 234580
A27: საბურთალოს რაიონი | B27: 720 | C27: 1903 | D27: 4339 | E27: 22940 | F27: 57463 | G27: 87365 | H27: 1015 | I27: 3570 | J27: 8931 | K27: 34076 | L27: 54910 | M27: 102502 | N27: 1735 | O27: 5473 | P27: 13270 | Q27: 57016 | R27: 112373 | S27: 189867
A28: მთაწმინდის რაიონი | B28: 150 | C28: 0 | D28: 0 | E28: 12369 | F28: 17189 | G28: 29708 | H28: 0 | I28: 1905 | J28: 371 | K28: 23519 | L28: 12699 | M28: 38494 | N28: 150 | O28: 1905 | P28: 371 | Q28: 35888 | R28: 29888 | S28: 68202
A29: კრწანისის რაიონი | B29: 15000 | C29: 150 | D29: 703 | E29: 2608 | F29: 8378 | G29: 26839 | H29: 0 | I29: 0 | J29: 2515 | K29: 4372 | L29: 9170 | M29: 16057 | N29: 15000 | O29: 150 | P29: 3218 | Q29: 6980 | R29: 17548 | S29: 42896
A30: სულ | B30: 19258 | C30: 45325 | D30: 64354 | E30: 256431 | F30: 326952 | G30: 712320 | H30: 3225 | I30: 46412 | J30: 123584 | K30: 242056 | L30: 347276 | M30: 762553 | N30: 22483 | O30: 91737 | P30: 187938 | Q30: 498487 | R30: 674228 | S30: 1474873
A32: კომისიის მიერ სრულად ან ნაწილობრივ დაკმაყოფილებულ მოთხოვნებზე გამოყოფილი თანხის წილი სქესისა და ასაკის მიხედვით (%)
B33: მამრობითი | H33: მდედრობითი | N33: სულ
A34: რაიონი | B34: 0_5 | C34: 6_17 | D34: 18_39 | E34: 40_59 | F34: 59-ზე მეტი | G34: სულ | H34: 0_5 | I34: 6_17 | J34: 18_39 | K34: 40_59 | L34: 59-ზე მეტი | M34: სულ | N34: 0_5 | O34: 6_17 | P34: 18_39 | Q34: 40_59 | R34: 59-ზე მეტი | S34: სულ
A35: გლდანის რაიონი | B35: =IFERROR(('October '!B20/'October '!B5)*100,0) -> 0 | C35: =IFERROR(('October '!C20/'October '!C5)*100,0) -> 21.282028 | D35: =IFERROR(('October '!D20/'October '!D5)*100,0) -> 33.766743 | E35: =IFERROR(('October '!E20/'October '!E5)*100,0) -> 46.147643 | F35: =IFERROR(('October '!F20/'October '!F5)*100,0) -> 37.987579 | G35: =IFERROR(('October '!G20/'October '!G5)*100,0) -> 37.272387 | H35: =IFERROR(('October '!H20/'October '!H5)*100,0) -> 3.8433311 | I35: =IFERROR(('October '!I20/'October '!I5)*100,0) -> 3.9488233 | ... S35: =IFERROR(('October '!S20/'October '!S5)*100,0) -> 31.820764
A36: ნაძალადევის რაიონი | B36: =IFERROR(('October '!B21/'October '!B6)*100,0) -> 6.0829632 | C36: =IFERROR(('October '!C21/'October '!C6)*100,0) -> 4.3106447 | D36: =IFERROR(('October '!D21/'October '!D6)*100,0) -> 17.566342 | E36: =IFERROR(('October '!E21/'October '!E6)*100,0) -> 44.210716 | F36: =IFERROR(('October '!F21/'October '!F6)*100,0) -> 38.937688 | G36: =IFERROR(('October '!G21/'October '!G6)*100,0) -> 34.603453 | H36: =IFERROR(('October '!H21/'October '!H6)*100,0) -> 0 | I36: =IFERROR(('October '!I21/'October '!I6)*100,0) -> 31.401036 | ... S36: =IFERROR(('October '!S21/'October '!S6)*100,0) -> 33.580089
A37: დიდუბის რაიონი | B37: =IFERROR(('October '!B22/'October '!B7)*100,0) -> 14.778325 | C37: =IFERROR(('October '!C22/'October '!C7)*100,0) -> 4.3987399 | D37: =IFERROR(('October '!D22/'October '!D7)*100,0) -> 25.840848 | E37: =IFERROR(('October '!E22/'October '!E7)*100,0) -> 62.340882 | F37: =IFERROR(('October '!F22/'October '!F7)*100,0) -> 31.382482 | G37: =IFERROR(('October '!G22/'October '!G7)*100,0) -> 14.980188 | H37: =IFERROR(('October '!H22/'October '!H7)*100,0) -> 7.967553 | I37: =IFERROR(('October '!I22/'October '!I7)*100,0) -> 28.225075 | ... S37: =IFERROR(('October '!S22/'October '!S7)*100,0) -> 22.422353
A38: ჩუღურეთის რაიონი | B38: =IFERROR(('October '!B23/'October '!B8)*100,0) -> 26.229508 | C38: =IFERROR(('October '!C23/'October '!C8)*100,0) -> 0 | D38: =IFERROR(('October '!D23/'October '!D8)*100,0) -> 34.411562 | E38: =IFERROR(('October '!E23/'October '!E8)*100,0) -> 37.581364 | F38: =IFERROR(('October '!F23/'October '!F8)*100,0) -> 32.031412 | G38: =IFERROR(('October '!G23/'October '!G8)*100,0) -> 34.757302 | H38: =IFERROR(('October '!H23/'October '!H8)*100,0) -> 19.398642 | I38: =IFERROR(('October '!I23/'October '!I8)*100,0) -> 19.686223 | ... S38: =IFERROR(('October '!S23/'October '!S8)*100,0) -> 34.133973
A39: ისნის რაიონი | B39: =IFERROR(('October '!B24/'October '!B9)*100,0) -> 27.883013 | C39: =IFERROR(('October '!C24/'October '!C9)*100,0) -> 7.5437637 | D39: =IFERROR(('October '!D24/'October '!D9)*100,0) -> 36.101369 | E39: =IFERROR(('October '!E24/'October '!E9)*100,0) -> 42.627005 | F39: =IFERROR(('October '!F24/'October '!F9)*100,0) -> 35.819687 | G39: =IFERROR(('October '!G24/'October '!G9)*100,0) -> 33.224544 | H39: =IFERROR(('October '!H24/'October '!H9)*100,0) -> 7.4607604 | I39: =IFERROR(('October '!I24/'October '!I9)*100,0) -> 15.333292 | ... S39: =IFERROR(('October '!S24/'October '!S9)*100,0) -> 31.721936
A40: სამგორის რაიონი | B40: =IFERROR(('October '!B25/'October '!B10)*100,0) -> 0 | C40: =IFERROR(('October '!C25/'October '!C10)*100,0) -> 29.170163 | D40: =IFERROR(('October '!D25/'October '!D10)*100,0) -> 24.785096 | E40: =IFERROR(('October '!E25/'October '!E10)*100,0) -> 34.300122 | F40: =IFERROR(('October '!F25/'October '!F10)*100,0) -> 34.274632 | G40: =IFERROR(('October '!G25/'October '!G10)*100,0) -> 29.098395 | H40: =IFERROR(('October '!H25/'October '!H10)*100,0) -> 0 | I40: =IFERROR(('October '!I25/'October '!I10)*100,0) -> 19.832103 | ... S40: =IFERROR(('October '!S25/'October '!S10)*100,0) -> 27.152347
A41: ვაკის რაიონი | B41: =IFERROR(('October '!B26/'October '!B11)*100,0) -> 0 | C41: =IFERROR(('October '!C26/'October '!C11)*100,0) -> 7.9428118 | D41: =IFERROR(('October '!D26/'October '!D11)*100,0) -> 37.286864 | E41: =IFERROR(('October '!E26/'October '!E11)*100,0) -> 37.316082 | F41: =IFERROR(('October '!F26/'October '!F11)*100,0) -> 30.38982 | G41: =IFERROR(('October '!G26/'October '!G11)*100,0) -> 31.728658 | H41: =IFERROR(('October '!H26/'October '!H11)*100,0) -> 5.7471264 | I41: =IFERROR(('October '!I26/'October '!I11)*100,0) -> 35.160374 | ... S41: =IFERROR(('October '!S26/'October '!S11)*100,0) -> 31.924508
A42: საბურთალოს რაიონი | B42: =IFERROR(('October '!B27/'October '!B12)*100,0) -> 4.8176648 | C42: =IFERROR(('October '!C27/'October '!C12)*100,0) -> 9.9900417 | D42: =IFERROR(('October '!D27/'October '!D12)*100,0) -> 17.637492 | E42: =IFERROR(('October '!E27/'October '!E12)*100,0) -> 33.007631 | F42: =IFERROR(('October '!F27/'October '!F12)*100,0) -> 28.572227 | G42: =IFERROR(('October '!G27/'October '!G12)*100,0) -> 26.537858 | H42: =IFERROR(('October '!H27/'October '!H12)*100,0) -> 12.893801 | I42: =IFERROR(('October '!I27/'October '!I12)*100,0) -> 19.455041 | ... S42: =IFERROR(('October '!S27/'October '!S12)*100,0) -> 30.595925
A43: მთაწმინდის რაიონი | B43: =IFERROR(('October '!B28/'October '!B13)*100,0) -> 13.94052 | C43: =IFERROR(('October '!C28/'October '!C13)*100,0) -> 0 | D43: =IFERROR(('October '!D28/'October '!D13)*100,0) -> 0 | E43: =IFERROR(('October '!E28/'October '!E13)*100,0) -> 37.490907 | F43: =IFERROR(('October '!F28/'October '!F13)*100,0) -> 30.429972 | G43: =IFERROR(('October '!G28/'October '!G13)*100,0) -> 30.143553 | H43: =IFERROR(('October '!H28/'October '!H13)*100,0) -> 0 | I43: =IFERROR(('October '!I28/'October '!I13)*100,0) -> 28.394694 | ... S43: =IFERROR(('October '!S28/'October '!S13)*100,0) -> 12.355826
A44: კრწანისის რაიონი | B44: =IFERROR(('October '!B29/'October '!B14)*100,0) -> 49.858734 | C44: =IFERROR(('October '!C29/'October '!C14)*100,0) -> 3.6967695 | D44: =IFERROR(('October '!D29/'October '!D14)*100,0) -> 10.292826 | E44: =IFERROR(('October '!E29/'October '!E14)*100,0) -> 37.186473 | F44: =IFERROR(('October '!F29/'October '!F14)*100,0) -> 37.509726 | G44: =IFERROR(('October '!G29/'October '!G14)*100,0) -> 38.16617 | H44: =IFERROR(('October '!H29/'October '!H14)*100,0) -> 0 | I44: =IFERROR(('October '!I29/'October '!I14)*100,0) -> 0 | ... S44: =IFERROR(('October '!S29/'October '!S14)*100,0) -> 33.452797
A45: სულ | B45: =IFERROR(('October '!B30/'October '!B15)*100,0) -> 22.170193 | C45: =IFERROR(('October '!C30/'October '!C15)*100,0) -> 10.161445 | D45: =IFERROR(('October '!D30/'October '!D15)*100,0) -> 29.171819 | E45: =IFERROR(('October '!E30/'October '!E15)*100,0) -> 40.60318 | F45: =IFERROR(('October '!F30/'October '!F15)*100,0) -> 32.338462 | G45: =IFERROR(('October '!G30/'October '!G15)*100,0) -> 29.728286 | H45: =IFERROR(('October '!H30/'October '!H15)*100,0) -> 7.1553302 | I45: =IFERROR(('October '!I30/'October '!I15)*100,0) -> 25.774828 | ... S45: =IFERROR(('October '!S30/'October '!S15)*100,0) -> 28.546569

Sheet November 
B1: ქ.თბილისის მუნიციპალიტეტის მერია ჯანდაცვისა და სოციალური მომსახურების საქალაქო სამსახური
A2: კომისიის მიერ განხილული საქმეებზე მოთხოვნილი თანხა განმცხადებლების სქესისა და ასაკის მიხედვით
B3: მამრობითი | H3: მდედრობითი | N3: სულ
A4: რაიონი | B4: 0_5 | C4: 6_17 | D4: 18_39 | E4: 40_59 | F4: 59-ზე მეტი | G4: სულ | H4: 0_5 | I4: 6_17 | J4: 18_39 | K4: 40_59 | L4: 59-ზე მეტი | M4: სულ | N4: 0_5 | O4: 6_17 | P4: 18_39 | Q4: 40_59 | R4: 59-ზე მეტი | S4: სულ
A5: გლდანის რაიონი | B5: 15591 | C5: 28756.614 | D5: 91148.652 | E5: 45315.26 | F5: 79808.822 | G5: 260620.35 | H5: 1160 | I5: 18142.34 | J5: 37244.89 | K5: 131492.45 | L5: 116535.53 | M5: 304575.21 | N5: 16751 | O5: 46898.954 | P5: 128393.54 | Q5: 176807.71 | R5: 196344.35 | S5: 565195.56
A6: ნაძალადევის რაიონი | B6: 11413 | C6: 9339.4298 | D6: 24788.46 | E6: 155995.61 | F6: 96786.806 | G6: 298323.31 | H6: 63694.52 | I6: 21477.6 | J6: 69300.9 | K6: 139662.19 | L6: 139151.77 | M6: 433286.98 | N6: 75107.52 | O6: 30817.03 | P6: 94089.36 | Q6: 295657.8 | R6: 235938.58 | S6: 731610.29
A7: დიდუბის რაიონი | B7: 3360 | C7: 367434 | D7: 20271.02 | E7: 18121.47 | F7: 81390.51 | G7: 490577 | H7: 3200 | I7: 9682.43 | J7: 11942 | K7: 87988.8 | L7: 71943.955 | M7: 184757.19 | N7: 6560 | O7: 377116.43 | P7: 32213.02 | Q7: 106110.27 | R7: 153334.47 | S7: 675334.19
A8: ჩუღურეთის რაიონი | B8: 2385 | C8: 13054 | D8: 13360.8 | E8: 17650 | F8: 61935.32 | G8: 108385.12 | H8: 1080 | I8: 13685 | J8: 116175.49 | K8: 116205.3 | L8: 70163.417 | M8: 317309.21 | N8: 3465 | O8: 26739 | P8: 129536.29 | Q8: 133855.3 | R8: 132098.74 | S8: 425694.33
A9: ისნის რაიონი | B9: 9611.9504 | C9: 19826 | D9: 18472.9 | E9: 50675.3 | F9: 53036.094 | G9: 151622.24 | H9: 6457 | I9: 5609.0858 | J9: 34433.3 | K9: 118352 | L9: 78475.968 | M9: 243327.35 | N9: 16068.95 | O9: 25435.086 | P9: 52906.2 | Q9: 169027.3 | R9: 131512.06 | S9: 394949.6
A10: სამგორის რაიონი | B10: 13107 | C10: 24640 | D10: 42966 | E10: 58981.87 | F10: 79741.406 | G10: 219436.28 | H10: 9665.3344 | I10: 19514.639 | J10: 54266.995 | K10: 186601.65 | L10: 98757.75 | M10: 368806.37 | N10: 22772.334 | O10: 44154.639 | P10: 97232.995 | Q10: 245583.52 | R10: 178499.16 | S10: 588242.64
A11: ვაკის რაიონი | B11: 15230 | C11: 52370.86 | D11: 11412 | E11: 75504.63 | F11: 123353.88 | G11: 277871.36 | H11: 8350 | I11: 103052 | J11: 60405.26 | K11: 136187.43 | L11: 130353.86 | M11: 438348.55 | N11: 23580 | O11: 155422.86 | P11: 71817.26 | Q11: 211692.06 | R11: 253707.73 | S11: 716219.92
A12: საბურთალოს რაიონი | B12: 6385 | C12: 35071.672 | D12: 68175.95 | E12: 118713.68 | F12: 326083.71 | G12: 554430.02 | H12: 25280.8 | I12: 15033.43 | J12: 53398.36 | K12: 142660 | L12: 94820.072 | M12: 331192.66 | N12: 31665.8 | O12: 50105.102 | P12: 121574.31 | Q12: 261373.68 | R12: 420903.79 | S12: 885622.68
A13: მთაწმინდის რაიონი | B13: 0 | C13: 10160 | D13: 27813.4 | E13: 29596.63 | F13: 65248.13 | G13: 132818.16 | H13: 0 | I13: 6292 | J13: 9533 | K13: 50801.259 | L13: 55707.278 | M13: 122333.54 | N13: 0 | O13: 16452 | P13: 37346.4 | Q13: 80397.889 | R13: 120955.41 | S13: 255151.7
A14: კრწანისის რაიონი | B14: 0 | C14: 12590.48 | D14: 10895.01 | E14: 52405.63 | F14: 52484.355 | G14: 128375.47 | H14: 0 | I14: 0 | J14: 7937 | K14: 19575 | L14: 26363.52 | M14: 53875.52 | N14: 0 | O14: 12590.48 | P14: 18832.01 | Q14: 71980.63 | R14: 78847.875 | S14: 182250.99
A15: სულ | B15: 77082.95 | C15: 573243.06 | D15: 329304.19 | E15: 622960.08 | F15: 1019869 | G15: 2622459.3 | H15: 118887.65 | I15: 212488.52 | J15: 454637.2 | K15: 1129526.1 | L15: 882273.12 | M15: 2797812.6 | N15: 195970.6 | O15: 785731.58 | P15: 783941.39 | Q15: 1752486.2 | R15: 1902142.2 | S15: 5420271.9
A17: კომისიის მიერ განხილული საქმეებზე გამოყოფილი თანხა განმცხადებლების სქესისა და ასაკის მიხედვით
B18: მამრობითი | H18: მდედრობითი | N18: სულ
A19: რაიონი | B19: 0_5 | C19: 6_17 | D19: 18_39 | E19: 40_59 | F19: 59-ზე მეტი | G19: სულ | H19: 0_5 | I19: 6_17 | J19: 18_39 | K19: 40_59 | L19: 59-ზე მეტი | M19: სულ | N19: 0_5 | O19: 6_17 | P19: 18_39 | Q19: 40_59 | R19: 59-ზე მეტი | S19: სულ
A20: გლდანის რაიონი | B20: 2752 | C20: 3168 | D20: 12308 | E20: 16836 | F20: 37847 | G20: 72911 | H20: 150 | I20: 1300 | J20: 7846 | K20: 35985 | L20: 46453 | M20: 91734 | N20: 2902 | O20: 4468 | P20: 20154 | Q20: 52821 | R20: 84300 | S20: 164645
A21: ნაძალადევის რაიონი | B21: 200 | C21: 400 | D21: 7948 | E21: 78244 | F21: 37988 | G21: 124780 | H21: 31009 | I21: 6090 | J21: 26640 | K21: 39932 | L21: 53902 | M21: 157573 | N21: 31209 | O21: 6490 | P21: 34588 | Q21: 118176 | R21: 91890 | S21: 282353
A22: დიდუბის რაიონი | B22: 0 | C22: 35150 | D22: 5906 | E22: 10331 | F22: 44496 | G22: 95883 | H22: 0 | I22: 1900 | J22: 1757 | K22: 34688 | L22: 21639 | M22: 59984 | N22: 0 | O22: 37050 | P22: 7663 | Q22: 45019 | R22: 66135 | S22: 155867
A23: ჩუღურეთის რაიონი | B23: 715 | C23: 1250 | D23: 2400 | E23: 8829 | F23: 30057 | G23: 43251 | H23: 324 | I23: 2237 | J23: 23555 | K23: 42199 | L23: 20509 | M23: 88824 | N23: 1039 | O23: 3487 | P23: 25955 | Q23: 51028 | R23: 50566 | S23: 132075
A24: ისნის რაიონი | B24: 1643 | C24: 6314 | D24: 2030 | E24: 21205 | F24: 19379 | G24: 50571 | H24: 2610 | I24: 620 | J24: 4264 | K24: 41042 | L24: 32217 | M24: 80753 | N24: 4253 | O24: 6934 | P24: 6294 | Q24: 62247 | R24: 51596 | S24: 131324
A25: სამგორის რაიონი | B25: 2080 | C25: 3230 | D25: 5850 | E25: 27283 | F25: 26326 | G25: 64769 | H25: 650 | I25: 2289 | J25: 19793 | K25: 50199 | L25: 34732 | M25: 107663 | N25: 2730 | O25: 5519 | P25: 25643 | Q25: 77482 | R25: 61058 | S25: 172432
A26: ვაკის რაიონი | B26: 2250 | C26: 31400 | D26: 4860 | E26: 37226 | F26: 50419 | G26: 126155 | H26: 250 | I26: 67407 | J26: 19678 | K26: 49215 | L26: 50166 | M26: 186716 | N26: 2500 | O26: 98807 | P26: 24538 | Q26: 86441 | R26: 100585 | S26: 312871
A27: საბურთალოს რაიონი | B27: 715 | C27: 1483 | D27: 19839 | E27: 41048 | F27: 117208 | G27: 180293 | H27: 389 | I27: 3587 | J27: 23206 | K27: 76944 | L27: 39360 | M27: 143486 | N27: 1104 | O27: 5070 | P27: 43045 | Q27: 117992 | R27: 156568 | S27: 323779
A28: მთაწმინდის რაიონი | B28: 0 | C28: 200 | D28: 13610 | E28: 13325 | F28: 26538 | G28: 53673 | H28: 0 | I28: 2596 | J28: 2665 | K28: 21360 | L28: 23787 | M28: 50408 | N28: 0 | O28: 2796 | P28: 16275 | Q28: 34685 | R28: 50325 | S28: 104081
A29: კრწანისის რაიონი | B29: 0 | C29: 3150 | D29: 2298 | E29: 11322 | F29: 22659 | G29: 39429 | H29: 0 | I29: 0 | J29: 3160 | K29: 12465 | L29: 16520 | M29: 32145 | N29: 0 | O29: 3150 | P29: 5458 | Q29: 23787 | R29: 39179 | S29: 71574
A30: სულ | B30: 10355 | C30: 85745 | D30: 77049 | E30: 265649 | F30: 412917 | G30: 851715 | H30: 35382 | I30: 88026 | J30: 132564 | K30: 404029 | L30: 339285 | M30: 999286 | N30: 45737 | O30: 173771 | P30: 209613 | Q30: 669678 | R30: 752202 | S30: 1851001
A32: კომისიის მიერ სრულად ან ნაწილობრივ დაკმაყოფილებულ მოთხოვნებზე გამოყოფილი თანხის წილი სქესისა და ასაკის მიხედვით (%)
B33: მამრობითი | H33: მდედრობითი | N33: სულ
A34: რაიონი | B34: 0_5 | C34: 6_17 | D34: 18_39 | E34: 40_59 | F34: 59-ზე მეტი | G34: სულ | H34: 0_5 | I34: 6_17 | J34: 18_39 | K34: 40_59 | L34: 59-ზე მეტი | M34: სულ | N34: 0_5 | O34: 6_17 | P34: 18_39 | Q34: 40_59 | R34: 59-ზე მეტი | S34: სულ
A35: გლდანის რაიონი | B35: =IFERROR(('November '!B20/'November '!B5)*100,0) -> 17.651209 | C35: =IFERROR(('November '!C20/'November '!C5)*100,0) -> 11.016596 | D35: =IFERROR(('November '!D20/'November '!D5)*100,0) -> 13.503217 | E35: =IFERROR(('November '!E20/'November '!E5)*100,0) -> 37.153047 | F35: =IFERROR(('November '!F20/'November '!F5)*100,0) -> 47.422076 | G35: =IFERROR(('November '!G20/'November '!G5)*100,0) -> 27.975943 | H35: =IFERROR(('November '!H20/'November '!H5)*100,0) -> 12.931034 | I35: =IFERROR(('November '!I20/'November '!I5)*100,0) -> 7.1655584 | ... S35: =IFERROR(('November '!S20/'November '!S5)*100,0) -> 29.130625
A36: ნაძალადევის რაიონი | B36: =IFERROR(('November '!B21/'November '!B6)*100,0) -> 1.7523876 | C36: =IFERROR(('November '!C21/'November '!C6)*100,0) -> 4.2829167 | D36: =IFERROR(('November '!D21/'November '!D6)*100,0) -> 32.063307 | E36: =IFERROR(('November '!E21/'November '!E6)*100,0) -> 50.157821 | F36: =IFERROR(('November '!F21/'November '!F6)*100,0) -> 39.249151 | G36: =IFERROR(('November '!G21/'November '!G6)*100,0) -> 41.827104 | H36: =IFERROR(('November '!H21/'November '!H6)*100,0) -> 48.683937 | I36: =IFERROR(('November '!I21/'November '!I6)*100,0) -> 28.355123 | ... S36: =IFERROR(('November '!S21/'November '!S6)*100,0) -> 38.593361
A37: დიდუბის რაიონი | B37: =IFERROR(('November '!B22/'November '!B7)*100,0) -> 0 | C37: =IFERROR(('November '!C22/'November '!C7)*100,0) -> 9.5663439 | D37: =IFERROR(('November '!D22/'November '!D7)*100,0) -> 29.135189 | E37: =IFERROR(('November '!E22/'November '!E7)*100,0) -> 57.009724 | F37: =IFERROR(('November '!F22/'November '!F7)*100,0) -> 54.669764 | G37: =IFERROR(('November '!G22/'November '!G7)*100,0) -> 19.544944 | H37: =IFERROR(('November '!H22/'November '!H7)*100,0) -> 0 | I37: =IFERROR(('November '!I22/'November '!I7)*100,0) -> 19.623173 | ... S37: =IFERROR(('November '!S22/'November '!S7)*100,0) -> 23.079981
A38: ჩუღურეთის რაიონი | B38: =IFERROR(('November '!B23/'November '!B8)*100,0) -> 29.979036 | C38: =IFERROR(('November '!C23/'November '!C8)*100,0) -> 9.575609 | D38: =IFERROR(('November '!D23/'November '!D8)*100,0) -> 17.962996 | E38: =IFERROR(('November '!E23/'November '!E8)*100,0) -> 50.022663 | F38: =IFERROR(('November '!F23/'November '!F8)*100,0) -> 48.52966 | G38: =IFERROR(('November '!G23/'November '!G8)*100,0) -> 39.904924 | H38: =IFERROR(('November '!H23/'November '!H8)*100,0) -> 30 | I38: =IFERROR(('November '!I23/'November '!I8)*100,0) -> 16.346365 | ... S38: =IFERROR(('November '!S23/'November '!S8)*100,0) -> 31.025783
A39: ისნის რაიონი | B39: =IFERROR(('November '!B24/'November '!B9)*100,0) -> 17.093305 | C39: =IFERROR(('November '!C24/'November '!C9)*100,0) -> 31.84707 | D39: =IFERROR(('November '!D24/'November '!D9)*100,0) -> 10.98907 | E39: =IFERROR(('November '!E24/'November '!E9)*100,0) -> 41.844844 | F39: =IFERROR(('November '!F24/'November '!F9)*100,0) -> 36.539267 | G39: =IFERROR(('November '!G24/'November '!G9)*100,0) -> 33.353285 | H39: =IFERROR(('November '!H24/'November '!H9)*100,0) -> 40.421248 | I39: =IFERROR(('November '!I24/'November '!I9)*100,0) -> 11.053495 | ... S39: =IFERROR(('November '!S24/'November '!S9)*100,0) -> 33.250825
A40: სამგორის რაიონი | B40: =IFERROR(('November '!B25/'November '!B10)*100,0) -> 15.869383 | C40: =IFERROR(('November '!C25/'November '!C10)*100,0) -> 13.108766 | D40: =IFERROR(('November '!D25/'November '!D10)*100,0) -> 13.615417 | E40: =IFERROR(('November '!E25/'November '!E10)*100,0) -> 46.256587 | F40: =IFERROR(('November '!F25/'November '!F10)*100,0) -> 33.014216 | G40: =IFERROR(('November '!G25/'November '!G10)*100,0) -> 29.516086 | H40: =IFERROR(('November '!H25/'November '!H10)*100,0) -> 6.7250648 | I40: =IFERROR(('November '!I25/'November '!I10)*100,0) -> 11.729656 | ... S40: =IFERROR(('November '!S25/'November '!S10)*100,0) -> 29.313074
A41: ვაკის რაიონი | B41: =IFERROR(('November '!B26/'November '!B11)*100,0) -> 14.773473 | C41: =IFERROR(('November '!C26/'November '!C11)*100,0) -> 59.957007 | D41: =IFERROR(('November '!D26/'November '!D11)*100,0) -> 42.586751 | E41: =IFERROR(('November '!E26/'November '!E11)*100,0) -> 49.302937 | F41: =IFERROR(('November '!F26/'November '!F11)*100,0) -> 40.873463 | G41: =IFERROR(('November '!G26/'November '!G11)*100,0) -> 45.400504 | H41: =IFERROR(('November '!H26/'November '!H11)*100,0) -> 2.994012 | I41: =IFERROR(('November '!I26/'November '!I11)*100,0) -> 65.410666 | ... S41: =IFERROR(('November '!S26/'November '!S11)*100,0) -> 43.68365
A42: საბურთალოს რაიონი | B42: =IFERROR(('November '!B27/'November '!B12)*100,0) -> 11.198121 | C42: =IFERROR(('November '!C27/'November '!C12)*100,0) -> 4.2284839 | D42: =IFERROR(('November '!D27/'November '!D12)*100,0) -> 29.099705 | E42: =IFERROR(('November '!E27/'November '!E12)*100,0) -> 34.577313 | F42: =IFERROR(('November '!F27/'November '!F12)*100,0) -> 35.944144 | G42: =IFERROR(('November '!G27/'November '!G12)*100,0) -> 32.518622 | H42: =IFERROR(('November '!H27/'November '!H12)*100,0) -> 1.5387171 | I42: =IFERROR(('November '!I27/'November '!I12)*100,0) -> 23.860157 | ... S42: =IFERROR(('November '!S27/'November '!S12)*100,0) -> 36.559475
A43: მთაწმინდის რაიონი | B43: =IFERROR(('November '!B28/'November '!B13)*100,0) -> 0 | C43: =IFERROR(('November '!C28/'November '!C13)*100,0) -> 1.9685039 | D43: =IFERROR(('November '!D28/'November '!D13)*100,0) -> 48.933248 | E43: =IFERROR(('November '!E28/'November '!E13)*100,0) -> 45.022018 | F43: =IFERROR(('November '!F28/'November '!F13)*100,0) -> 40.67243 | G43: =IFERROR(('November '!G28/'November '!G13)*100,0) -> 40.41089 | H43: =IFERROR(('November '!H28/'November '!H13)*100,0) -> 0 | I43: =IFERROR(('November '!I28/'November '!I13)*100,0) -> 41.258741 | ... S43: =IFERROR(('November '!S28/'November '!S13)*100,0) -> 40.791812
A44: კრწანისის რაიონი | B44: =IFERROR(('November '!B29/'November '!B14)*100,0) -> 0 | C44: =IFERROR(('November '!C29/'November '!C14)*100,0) -> 25.018903 | D44: =IFERROR(('November '!D29/'November '!D14)*100,0) -> 21.092225 | E44: =IFERROR(('November '!E29/'November '!E14)*100,0) -> 21.604549 | F44: =IFERROR(('November '!F29/'November '!F14)*100,0) -> 43.172866 | G44: =IFERROR(('November '!G29/'November '!G14)*100,0) -> 30.71381 | H44: =IFERROR(('November '!H29/'November '!H14)*100,0) -> 0 | I44: =IFERROR(('November '!I29/'November '!I14)*100,0) -> 0 | ... S44: =IFERROR(('November '!S29/'November '!S14)*100,0) -> 39.272214
A45: სულ | B45: =IFERROR(('November '!B30/'November '!B15)*100,0) -> 13.43358 | C45: =IFERROR(('November '!C30/'November '!C15)*100,0) -> 14.957879 | D45: =IFERROR(('November '!D30/'November '!D15)*100,0) -> 23.397516 | E45: =IFERROR(('November '!E30/'November '!E15)*100,0) -> 42.643021 | F45: =IFERROR(('November '!F30/'November '!F15)*100,0) -> 40.487257 | G45: =IFERROR(('November '!G30/'November '!G15)*100,0) -> 32.47772 | H45: =IFERROR(('November '!H30/'November '!H15)*100,0) -> 29.76087 | I45: =IFERROR(('November '!I30/'November '!I15)*100,0) -> 41.426237 | ... S45: =IFERROR(('November '!S30/'November '!S15)*100,0) -> 34.149597

Sheet December
B1: ქ.თბილისის მუნიციპალიტეტის მერია ჯანდაცვისა და სოციალური მომსახურების საქალაქო სამსახური
A2: კომისიის მიერ განხილული საქმეებზე მოთხოვნილი თანხა განმცხადებლების სქესისა და ასაკის მიხედვით
B3: მამრობითი | H3: მდედრობითი | N3: სულ
A4: რაიონი | B4: 0_5 | C4: 6_17 | D4: 18_39 | E4: 40_59 | F4: 59-ზე მეტი | G4: სულ | H4: 0_5 | I4: 6_17 | J4: 18_39 | K4: 40_59 | L4: 59-ზე მეტი | M4: სულ | N4: 0_5 | O4: 6_17 | P4: 18_39 | Q4: 40_59 | R4: 59-ზე მეტი | S4: სულ
A5: გლდანის რაიონი | B5: 8540 | C5: 20852.26 | D5: 48718.88 | E5: 57684.98 | F5: 105443.46 | G5: 241239.58 | H5: 1243 | I5: 15513.536 | J5: 81686.696 | K5: 130050.4 | L5: 67313.208 | M5: 295806.84 | N5: 9783 | O5: 36365.796 | P5: 130405.58 | Q5: 187735.38 | R5: 172756.67 | S5: 537046.42
A6: ნაძალადევის რაიონი | B6: 11200 | C6: 18906 | D6: 18714.895 | E6: 49376.809 | F6: 131062.33 | G6: 229260.03 | H6: 11500.8 | I6: 220976.17 | J6: 49754.6 | K6: 62872.196 | L6: 125464.19 | M6: 470567.96 | N6: 22700.8 | O6: 239882.17 | P6: 68469.495 | Q6: 112249.01 | R6: 256526.52 | S6: 699827.99
A7: დიდუბის რაიონი | B7: 1200 | C7: 4882 | D7: 37960.98 | E7: 35729.15 | F7: 108474.15 | G7: 188246.28 | H7: 0 | I7: 2121 | J7: 12470 | K7: 31399.51 | L7: 63938.17 | M7: 109928.68 | N7: 1200 | O7: 7003 | P7: 50430.98 | Q7: 67128.66 | R7: 172412.32 | S7: 298174.96
A8: ჩუღურეთის რაიონი | B8: 1680 | C8: 0 | D8: 13947.855 | E8: 42464.76 | F8: 60614.95 | G8: 118707.57 | H8: 1031 | I8: 10752 | J8: 27071.54 | K8: 63141.88 | L8: 46910.045 | M8: 148906.46 | N8: 2711 | O8: 10752 | P8: 41019.395 | Q8: 105606.64 | R8: 107524.99 | S8: 267614.03
A9: ისნის რაიონი | B9: 2360 | C9: 4727.1316 | D9: 13145 | E9: 46299.89 | F9: 41720.043 | G9: 108252.06 | H9: 6112 | I9: 19373.48 | J9: 48820 | K9: 69988.564 | L9: 58537.588 | M9: 202831.63 | N9: 8472 | O9: 24100.612 | P9: 61965 | Q9: 116288.45 | R9: 100257.63 | S9: 311083.7
A10: სამგორის რაიონი | B10: 9839 | C10: 40839.26 | D10: 36434 | E10: 57891.16 | F10: 136099.09 | G10: 281102.51 | H10: 0 | I10: 20368.301 | J10: 136960 | K10: 126607.25 | L10: 89674.824 | M10: 373610.38 | N10: 9839 | O10: 61207.561 | P10: 173394 | Q10: 184498.41 | R10: 225773.91 | S10: 654712.89
A11: ვაკის რაიონი | B11: 22350 | C11: 199942.3 | D11: 62429.412 | E11: 102139.59 | F11: 151059.76 | G11: 537921.06 | H11: 44316 | I11: 2400 | J11: 26860 | K11: 39752 | L11: 83296.764 | M11: 196624.76 | N11: 66666 | O11: 202342.3 | P11: 89289.412 | Q11: 141891.59 | R11: 234356.52 | S11: 734545.82
A12: საბურთალოს რაიონი | B12: 40008 | C12: 253972.53 | D12: 24906.306 | E12: 397523.71 | F12: 82350.679 | G12: 798761.23 | H12: 8245 | I12: 10681 | J12: 108416 | K12: 71324.48 | L12: 142736.37 | M12: 341402.85 | N12: 48253 | O12: 264653.53 | P12: 133322.31 | Q12: 468848.19 | R12: 225087.05 | S12: 1140164.1
A13: მთაწმინდის რაიონი | B13: 0 | C13: 7941.1156 | D13: 12258 | E13: 10117.7 | F13: 51302.785 | G13: 81619.601 | H13: 451 | I13: 5878.2 | J13: 12958 | K13: 13052.26 | L13: 94418 | M13: 126757.46 | N13: 451 | O13: 13819.316 | P13: 25216 | Q13: 23169.96 | R13: 145720.78 | S13: 208377.06
A14: კრწანისის რაიონი | B14: 1150 | C14: 0 | D14: 129063 | E14: 3958 | F14: 35497.165 | G14: 169668.17 | H14: 3200 | I14: 3666 | J14: 4713.4922 | K14: 32924 | L14: 15551.44 | M14: 60054.932 | N14: 4350 | O14: 3666 | P14: 133776.49 | Q14: 36882 | R14: 51048.605 | S14: 229723.1
A15: სულ | B15: 98327 | C15: 552062.6 | D15: 397578.33 | E15: 803185.75 | F15: 903624.4 | G15: 2754778.1 | H15: 76098.8 | I15: 311729.69 | J15: 509710.33 | K15: 641112.54 | L15: 787840.61 | M15: 2326492 | N15: 174425.8 | O15: 863792.28 | P15: 907288.66 | Q15: 1444298.3 | R15: 1691465 | S15: 5081270
A17: კომისიის მიერ განხილული საქმეებზე გამოყოფილი თანხა განმცხადებლების სქესისა და ასაკის მიხედვით
B18: მამრობითი | H18: მდედრობითი | N18: სულ
A19: რაიონი | B19: 0_5 | C19: 6_17 | D19: 18_39 | E19: 40_59 | F19: 59-ზე მეტი | G19: სულ | H19: 0_5 | I19: 6_17 | J19: 18_39 | K19: 40_59 | L19: 59-ზე მეტი | M19: სულ | N19: 0_5 | O19: 6_17 | P19: 18_39 | Q19: 40_59 | R19: 59-ზე მეტი | S19: სულ
A20: გლდანის რაიონი | B20: 0 | C20: 3901 | D20: 13407 | E20: 14992 | F20: 32404 | G20: 64704 | H20: 200 | I20: 2904 | J20: 26619 | K20: 48908 | L20: 28848 | M20: 107479 | N20: 200 | O20: 6805 | P20: 40026 | Q20: 63900 | R20: 61252 | S20: 172183
A21: ნაძალადევის რაიონი | B21: 2500 | C21: 3949 | D21: 6941 | E21: 25893 | F21: 48375 | G21: 87658 | H21: 3358 | I21: 10300 | J21: 15322 | K21: 17102 | L21: 34443 | M21: 80525 | N21: 5858 | O21: 14249 | P21: 22263 | Q21: 42995 | R21: 82818 | S21: 168183
A22: დიდუბის რაიონი | B22: 250 | C22: 750 | D22: 4291 | E22: 13835 | F22: 48465 | G22: 67591 | H22: 0 | I22: 350 | J22: 2504 | K22: 8796 | L22: 13804 | M22: 25454 | N22: 250 | O22: 1100 | P22: 6795 | Q22: 22631 | R22: 62269 | S22: 93045
A23: ჩუღურეთის რაიონი | B23: 0 | C23: 0 | D23: 3464 | E23: 11437 | F23: 26458 | G23: 41359 | H23: 200 | I23: 1819 | J23: 6278 | K23: 23788 | L23: 21019 | M23: 53104 | N23: 200 | O23: 1819 | P23: 9742 | Q23: 35225 | R23: 47477 | S23: 94463
A24: ისნის რაიონი | B24: 350 | C24: 1592 | D24: 3333 | E24: 14819 | F24: 11492 | G24: 31586 | H24: 150 | I24: 3665 | J24: 8292 | K24: 10677 | L24: 18093 | M24: 40877 | N24: 500 | O24: 5257 | P24: 11625 | Q24: 25496 | R24: 29585 | S24: 72463
A25: სამგორის რაიონი | B25: 428 | C25: 11843 | D25: 13443 | E25: 28606 | F25: 24929 | G25: 79249 | H25: 0 | I25: 5004 | J25: 42943 | K25: 37670 | L25: 35572 | M25: 121189 | N25: 428 | O25: 16847 | P25: 56386 | Q25: 66276 | R25: 60501 | S25: 200438
A26: ვაკის რაიონი | B26: 12327 | C26: 32507 | D26: 14473 | E26: 19874 | F26: 44558 | G26: 123739 | H26: 15000 | I26: 500 | J26: 2903 | K26: 15930 | L26: 35392 | M26: 69725 | N26: 27327 | O26: 33007 | P26: 17376 | Q26: 35804 | R26: 79950 | S26: 193464
A27: საბურთალოს რაიონი | B27: 15150 | C27: 18433 | D27: 8734 | E27: 37457 | F27: 24878 | G27: 104652 | H27: 780 | I27: 1584 | J27: 30628 | K27: 23902 | L27: 49117 | M27: 106011 | N27: 15930 | O27: 20017 | P27: 39362 | Q27: 61359 | R27: 73995 | S27: 210663
A28: მთაწმინდის რაიონი | B28: 0 | C28: 3777 | D28: 8855 | E28: 4570 | F28: 20827 | G28: 38029 | H28: 200 | I28: 3252 | J28: 4673 | K28: 2616 | L28: 27103 | M28: 37844 | N28: 200 | O28: 7029 | P28: 13528 | Q28: 7186 | R28: 47930 | S28: 75873
A29: კრწანისის რაიონი | B29: 0 | C29: 0 | D29: 21027 | E29: 1187 | F29: 9093 | G29: 31307 | H29: 960 | I29: 939 | J29: 1478 | K29: 8849 | L29: 5860 | M29: 18086 | N29: 960 | O29: 939 | P29: 22505 | Q29: 10036 | R29: 14953 | S29: 49393
A30: სულ | B30: 31005 | C30: 76752 | D30: 97968 | E30: 172670 | F30: 291479 | G30: 669874 | H30: 20848 | I30: 30317 | J30: 141640 | K30: 198238 | L30: 269251 | M30: 660294 | N30: 51853 | O30: 107069 | P30: 239608 | Q30: 370908 | R30: 560730 | S30: 1330168
A32: კომისიის მიერ სრულად ან ნაწილობრივ დაკმაყოფილებულ მოთხოვნებზე გამოყოფილი თანხის წილი სქესისა და ასაკის მიხედვით (%)
B33: მამრობითი | H33: მდედრობითი | N33: სულ
A34: რაიონი | B34: 0_5 | C34: 6_17 | D34: 18_39 | E34: 40_59 | F34: 59-ზე მეტი | G34: სულ | H34: 0_5 | I34: 6_17 | J34: 18_39 | K34: 40_59 | L34: 59-ზე მეტი | M34: სულ | N34: 0_5 | O34: 6_17 | P34: 18_39 | Q34: 40_59 | R34: 59-ზე მეტი | S34: სულ
A35: გლდანის რაიონი | B35: =IFERROR((December!B20/December!B5)*100,0) -> 0 | C35: =IFERROR((December!C20/December!C5)*100,0) -> 18.707804 | D35: =IFERROR((December!D20/December!D5)*100,0) -> 27.519106 | E35: =IFERROR((December!E20/December!E5)*100,0) -> 25.989434 | F35: =IFERROR((December!F20/December!F5)*100,0) -> 30.731162 | G35: =IFERROR((December!G20/December!G5)*100,0) -> 26.821469 | H35: =IFERROR((December!H20/December!H5)*100,0) -> 16.090105 | I35: =IFERROR((December!I20/December!I5)*100,0) -> 18.719137 | ... S35: =IFERROR((December!S20/December!S5)*100,0) -> 32.061102
A36: ნაძალადევის რაიონი | B36: =IFERROR((December!B21/December!B6)*100,0) -> 22.321429 | C36: =IFERROR((December!C21/December!C6)*100,0) -> 20.887549 | D36: =IFERROR((December!D21/December!D6)*100,0) -> 37.088105 | E36: =IFERROR((December!E21/December!E6)*100,0) -> 52.439598 | F36: =IFERROR((December!F21/December!F6)*100,0) -> 36.90992 | G36: =IFERROR((December!G21/December!G6)*100,0) -> 38.235186 | H36: =IFERROR((December!H21/December!H6)*100,0) -> 29.197969 | I36: =IFERROR((December!I21/December!I6)*100,0) -> 4.6611361 | ... S36: =IFERROR((December!S21/December!S6)*100,0) -> 24.032048
A37: დიდუბის რაიონი | B37: =IFERROR((December!B22/December!B7)*100,0) -> 20.833333 | C37: =IFERROR((December!C22/December!C7)*100,0) -> 15.362556 | D37: =IFERROR((December!D22/December!D7)*100,0) -> 11.303712 | E37: =IFERROR((December!E22/December!E7)*100,0) -> 38.721884 | F37: =IFERROR((December!F22/December!F7)*100,0) -> 44.678847 | G37: =IFERROR((December!G22/December!G7)*100,0) -> 35.905623 | H37: =IFERROR((December!H22/December!H7)*100,0) -> 0 | I37: =IFERROR((December!I22/December!I7)*100,0) -> 16.50165 | ... S37: =IFERROR((December!S22/December!S7)*100,0) -> 31.204834
A38: ჩუღურეთის რაიონი | B38: =IFERROR((December!B23/December!B8)*100,0) -> 0 | C38: =IFERROR((December!C23/December!C8)*100,0) -> 0 | D38: =IFERROR((December!D23/December!D8)*100,0) -> 24.83536 | E38: =IFERROR((December!E23/December!E8)*100,0) -> 26.93292 | F38: =IFERROR((December!F23/December!F8)*100,0) -> 43.649298 | G38: =IFERROR((December!G23/December!G8)*100,0) -> 34.841082 | H38: =IFERROR((December!H23/December!H8)*100,0) -> 19.398642 | I38: =IFERROR((December!I23/December!I8)*100,0) -> 16.917783 | ... S38: =IFERROR((December!S23/December!S8)*100,0) -> 35.298224
A39: ისნის რაიონი | B39: =IFERROR((December!B24/December!B9)*100,0) -> 14.830508 | C39: =IFERROR((December!C24/December!C9)*100,0) -> 33.677928 | D39: =IFERROR((December!D24/December!D9)*100,0) -> 25.355649 | E39: =IFERROR((December!E24/December!E9)*100,0) -> 32.006556 | F39: =IFERROR((December!F24/December!F9)*100,0) -> 27.545514 | G39: =IFERROR((December!G24/December!G9)*100,0) -> 29.178196 | H39: =IFERROR((December!H24/December!H9)*100,0) -> 2.4541885 | I39: =IFERROR((December!I24/December!I9)*100,0) -> 18.917613 | ... S39: =IFERROR((December!S24/December!S9)*100,0) -> 23.293731
A40: სამგორის რაიონი | B40: =IFERROR((December!B25/December!B10)*100,0) -> 4.3500356 | C40: =IFERROR((December!C25/December!C10)*100,0) -> 28.999056 | D40: =IFERROR((December!D25/December!D10)*100,0) -> 36.896855 | E40: =IFERROR((December!E25/December!E10)*100,0) -> 49.413416 | F40: =IFERROR((December!F25/December!F10)*100,0) -> 18.316801 | G40: =IFERROR((December!G25/December!G10)*100,0) -> 28.192206 | H40: =IFERROR((December!H25/December!H10)*100,0) -> 0 | I40: =IFERROR((December!I25/December!I10)*100,0) -> 24.567586 | ... S40: =IFERROR((December!S25/December!S10)*100,0) -> 30.614641
A41: ვაკის რაიონი | B41: =IFERROR((December!B26/December!B11)*100,0) -> 55.154362 | C41: =IFERROR((December!C26/December!C11)*100,0) -> 16.258191 | D41: =IFERROR((December!D26/December!D11)*100,0) -> 23.182983 | E41: =IFERROR((December!E26/December!E11)*100,0) -> 19.457685 | F41: =IFERROR((December!F26/December!F11)*100,0) -> 29.496936 | G41: =IFERROR((December!G26/December!G11)*100,0) -> 23.003189 | H41: =IFERROR((December!H26/December!H11)*100,0) -> 33.84782 | I41: =IFERROR((December!I26/December!I11)*100,0) -> 20.833333 | ... S41: =IFERROR((December!S26/December!S11)*100,0) -> 26.337908
A42: საბურთალოს რაიონი | B42: =IFERROR((December!B27/December!B12)*100,0) -> 37.867427 | C42: =IFERROR((December!C27/December!C12)*100,0) -> 7.2578715 | D42: =IFERROR((December!D27/December!D12)*100,0) -> 35.067424 | E42: =IFERROR((December!E27/December!E12)*100,0) -> 9.4225826 | F42: =IFERROR((December!F27/December!F12)*100,0) -> 30.20983 | G42: =IFERROR((December!G27/December!G12)*100,0) -> 13.101788 | H42: =IFERROR((December!H27/December!H12)*100,0) -> 9.460279 | I42: =IFERROR((December!I27/December!I12)*100,0) -> 14.830072 | ... S42: =IFERROR((December!S27/December!S12)*100,0) -> 18.476551
A43: მთაწმინდის რაიონი | B43: =IFERROR((December!B28/December!B13)*100,0) -> 0 | C43: =IFERROR((December!C28/December!C13)*100,0) -> 47.562587 | D43: =IFERROR((December!D28/December!D13)*100,0) -> 72.238538 | E43: =IFERROR((December!E28/December!E13)*100,0) -> 45.168368 | F43: =IFERROR((December!F28/December!F13)*100,0) -> 40.596237 | G43: =IFERROR((December!G28/December!G13)*100,0) -> 46.592975 | H43: =IFERROR((December!H28/December!H13)*100,0) -> 44.345898 | I43: =IFERROR((December!I28/December!I13)*100,0) -> 55.323058 | ... S43: =IFERROR((December!S28/December!S13)*100,0) -> 36.411398
A44: კრწანისის რაიონი | B44: =IFERROR((December!B29/December!B14)*100,0) -> 0 | C44: =IFERROR((December!C29/December!C14)*100,0) -> 0 | D44: =IFERROR((December!D29/December!D14)*100,0) -> 16.292043 | E44: =IFERROR((December!E29/December!E14)*100,0) -> 29.989894 | F44: =IFERROR((December!F29/December!F14)*100,0) -> 25.61613 | G44: =IFERROR((December!G29/December!G14)*100,0) -> 18.4519 | H44: =IFERROR((December!H29/December!H14)*100,0) -> 30 | I44: =IFERROR((December!I29/December!I14)*100,0) -> 25.613748 | ... S44: =IFERROR((December!S29/December!S14)*100,0) -> 21.501103
A45: სულ | B45: =IFERROR((December!B30/December!B15)*100,0) -> 31.532539 | C45: =IFERROR((December!C30/December!C15)*100,0) -> 13.902771 | D45: =IFERROR((December!D30/December!D15)*100,0) -> 24.641182 | E45: =IFERROR((December!E30/December!E15)*100,0) -> 21.49814 | F45: =IFERROR((December!F30/December!F15)*100,0) -> 32.256654 | G45: =IFERROR((December!G30/December!G15)*100,0) -> 24.316804 | H45: =IFERROR((December!H30/December!H15)*100,0) -> 27.395964 | I45: =IFERROR((December!I30/December!I15)*100,0) -> 9.7254132 | ... S45: =IFERROR((December!S30/December!S15)*100,0) -> 26.177865
